BEGIN:VCALENDAR
VERSION:2.0
PRODID:-//Cabell County Emergency Medical Services - ECPv6.15.10//NONSGML v1.0//EN
CALSCALE:GREGORIAN
METHOD:PUBLISH
X-WR-CALNAME:Cabell County Emergency Medical Services
X-ORIGINAL-URL:https://www.ccems.org
X-WR-CALDESC:Events for Cabell County Emergency Medical Services
REFRESH-INTERVAL;VALUE=DURATION:PT1H
X-Robots-Tag:noindex
X-PUBLISHED-TTL:PT1H
BEGIN:VTIMEZONE
TZID:America/Halifax
BEGIN:DAYLIGHT
TZOFFSETFROM:-0400
TZOFFSETTO:-0300
TZNAME:ADT
DTSTART:20240310T060000
END:DAYLIGHT
BEGIN:STANDARD
TZOFFSETFROM:-0300
TZOFFSETTO:-0400
TZNAME:AST
DTSTART:20241103T050000
END:STANDARD
BEGIN:DAYLIGHT
TZOFFSETFROM:-0400
TZOFFSETTO:-0300
TZNAME:ADT
DTSTART:20250309T060000
END:DAYLIGHT
BEGIN:STANDARD
TZOFFSETFROM:-0300
TZOFFSETTO:-0400
TZNAME:AST
DTSTART:20251102T050000
END:STANDARD
BEGIN:DAYLIGHT
TZOFFSETFROM:-0400
TZOFFSETTO:-0300
TZNAME:ADT
DTSTART:20260308T060000
END:DAYLIGHT
BEGIN:STANDARD
TZOFFSETFROM:-0300
TZOFFSETTO:-0400
TZNAME:AST
DTSTART:20261101T050000
END:STANDARD
END:VTIMEZONE
BEGIN:VTIMEZONE
TZID:America/New_York
BEGIN:DAYLIGHT
TZOFFSETFROM:-0500
TZOFFSETTO:-0400
TZNAME:EDT
DTSTART:20240310T070000
END:DAYLIGHT
BEGIN:STANDARD
TZOFFSETFROM:-0400
TZOFFSETTO:-0500
TZNAME:EST
DTSTART:20241103T060000
END:STANDARD
BEGIN:DAYLIGHT
TZOFFSETFROM:-0500
TZOFFSETTO:-0400
TZNAME:EDT
DTSTART:20250309T070000
END:DAYLIGHT
BEGIN:STANDARD
TZOFFSETFROM:-0400
TZOFFSETTO:-0500
TZNAME:EST
DTSTART:20251102T060000
END:STANDARD
BEGIN:DAYLIGHT
TZOFFSETFROM:-0500
TZOFFSETTO:-0400
TZNAME:EDT
DTSTART:20260308T070000
END:DAYLIGHT
BEGIN:STANDARD
TZOFFSETFROM:-0400
TZOFFSETTO:-0500
TZNAME:EST
DTSTART:20261101T060000
END:STANDARD
END:VTIMEZONE
BEGIN:VEVENT
DTSTART;VALUE=DATE:20250704
DTEND;VALUE=DATE:20250705
DTSTAMP:20260424T054929
CREATED:20231116T153507Z
LAST-MODIFIED:20250122T142056Z
UID:6085-1751587200-1751673599@www.ccems.org
SUMMARY:CLOSED - HOLIDAY
DESCRIPTION:Cabell County EMS Headquarters will be closed in observance of INDEPENDENCE DAY
URL:https://www.ccems.org/event/closed-holiday-48/
LOCATION:WV
CATEGORIES:CLOSED,Holiday
END:VEVENT
BEGIN:VEVENT
DTSTART;TZID=America/New_York:20250712T090000
DTEND;TZID=America/New_York:20250712T210000
DTSTAMP:20260424T054929
CREATED:20211217T135808Z
LAST-MODIFIED:20241219T214017Z
UID:5416-1752310800-1752354000@www.ccems.org
SUMMARY:EMTR - EMT Refresher
DESCRIPTION:EMTR – EMT Refresher\nDuration: 2 Saturday Course\nTime: 9am-9pm\nCost: $150.00\nEMT-B Refresher Course is a 24 hour course designed for current or expired (within the past 2 years) EMTs\, who will be recertifing with National EMT Registry.
URL:https://www.ccems.org/event/emtr-emt-refresher-7/
LOCATION:Cabell County EMS\, 846 8th Ave\, Huntington\, WV\, 25701\, United States
CATEGORIES:EMT Refresher
END:VEVENT
BEGIN:VEVENT
DTSTART;TZID=America/New_York:20250726T090000
DTEND;TZID=America/New_York:20250726T210000
DTSTAMP:20260424T054929
CREATED:20211230T143021Z
LAST-MODIFIED:20241219T214012Z
UID:5587-1753520400-1753563600@www.ccems.org
SUMMARY:EMTR - EMT Refresher (CEVO and Auto Pulse Refresher)
DESCRIPTION:EMTR – EMT Refresher\nDuration: 2 Saturday Course\nTime: 9am-9pm\nCost: $150.00\nEMT-B Refresher Course is a 24 hour course designed for current or expired (within the past 2 years) EMTs\, who will be recertifing with National EMT Registry.
URL:https://www.ccems.org/event/emtr-emt-refresher-8/
LOCATION:Cabell County EMS\, 846 8th Ave\, Huntington\, WV\, 25701\, United States
CATEGORIES:EMT Refresher
END:VEVENT
END:VCALENDAR