BEGIN:VCALENDAR
VERSION:2.0
PRODID:-//Cabell County Emergency Medical Services - ECPv6.15.10//NONSGML v1.0//EN
CALSCALE:GREGORIAN
METHOD:PUBLISH
X-ORIGINAL-URL:https://www.ccems.org
X-WR-CALDESC:Events for Cabell County Emergency Medical Services
REFRESH-INTERVAL;VALUE=DURATION:PT1H
X-Robots-Tag:noindex
X-PUBLISHED-TTL:PT1H
BEGIN:VTIMEZONE
TZID:America/Halifax
BEGIN:DAYLIGHT
TZOFFSETFROM:-0400
TZOFFSETTO:-0300
TZNAME:ADT
DTSTART:20240310T060000
END:DAYLIGHT
BEGIN:STANDARD
TZOFFSETFROM:-0300
TZOFFSETTO:-0400
TZNAME:AST
DTSTART:20241103T050000
END:STANDARD
BEGIN:DAYLIGHT
TZOFFSETFROM:-0400
TZOFFSETTO:-0300
TZNAME:ADT
DTSTART:20250309T060000
END:DAYLIGHT
BEGIN:STANDARD
TZOFFSETFROM:-0300
TZOFFSETTO:-0400
TZNAME:AST
DTSTART:20251102T050000
END:STANDARD
BEGIN:DAYLIGHT
TZOFFSETFROM:-0400
TZOFFSETTO:-0300
TZNAME:ADT
DTSTART:20260308T060000
END:DAYLIGHT
BEGIN:STANDARD
TZOFFSETFROM:-0300
TZOFFSETTO:-0400
TZNAME:AST
DTSTART:20261101T050000
END:STANDARD
END:VTIMEZONE
BEGIN:VTIMEZONE
TZID:America/New_York
BEGIN:DAYLIGHT
TZOFFSETFROM:-0500
TZOFFSETTO:-0400
TZNAME:EDT
DTSTART:20240310T070000
END:DAYLIGHT
BEGIN:STANDARD
TZOFFSETFROM:-0400
TZOFFSETTO:-0500
TZNAME:EST
DTSTART:20241103T060000
END:STANDARD
BEGIN:DAYLIGHT
TZOFFSETFROM:-0500
TZOFFSETTO:-0400
TZNAME:EDT
DTSTART:20250309T070000
END:DAYLIGHT
BEGIN:STANDARD
TZOFFSETFROM:-0400
TZOFFSETTO:-0500
TZNAME:EST
DTSTART:20251102T060000
END:STANDARD
BEGIN:DAYLIGHT
TZOFFSETFROM:-0500
TZOFFSETTO:-0400
TZNAME:EDT
DTSTART:20260308T070000
END:DAYLIGHT
BEGIN:STANDARD
TZOFFSETFROM:-0400
TZOFFSETTO:-0500
TZNAME:EST
DTSTART:20261101T060000
END:STANDARD
END:VTIMEZONE
BEGIN:VEVENT
DTSTART;TZID=America/Halifax:20250204T080000
DTEND;TZID=America/Halifax:20250204T170000
DTSTAMP:20260424T235358
CREATED:20231221T153711Z
LAST-MODIFIED:20241219T211607Z
UID:6152-1738656000-1738688400@www.ccems.org
SUMMARY:ITLS – International Trauma Life Support (BLS ONLY)
DESCRIPTION:ITLS – International Trauma Life Support (BLS ONLY)\nDuration: 8 hour course\nCost: $125.00\nITLS Hybrid class is offered with a required online component and completion of pretest\, with passing score\,  prior to class. \nITLS courses improve the quality of trauma care in your area and decrease mortality. The program is based on a prehospital trauma care philosophy\, stressing the treatment of the multi-system trauma patient as a unique entity with specific needs. This may require an approach to the trauma patient that varies from traditional treatment modalities. ITLS promotes critical thinking as the foundation for providing quality care. It is based on the belief that\, given a good fund of knowledge and key principles\, EMS practitioners are capable of making reasoned decisions regarding patient care.
URL:https://www.ccems.org/event/itls-international-trauma-life-support-bls-only/
LOCATION:WV
END:VEVENT
BEGIN:VEVENT
DTSTART;TZID=America/New_York:20250211T090000
DTEND;TZID=America/New_York:20250211T170000
DTSTAMP:20260424T235358
CREATED:20211217T141618Z
LAST-MODIFIED:20241219T211220Z
UID:5435-1739264400-1739293200@www.ccems.org
SUMMARY:AMLS - Advanced Medical Life Support
DESCRIPTION:AMLS – Advanced Medical Life Support\nDuration: 1 Day\nCost: $125.00\nAMLS Hybrid class is offered with a required online component and completion of pretest\, with passing score\,  prior to class. \nAMLS (Advanced Medical Life Support) is the extra 16 hours (two 8 hour days) required by DOT guidelines to meet refresher standards that is not included in ACLS\, PHTLS and PEPP.   It includes Allergic reactions\, Near Drowning\, Toxicology\, Overdose\, Adult respiratory Distress \, Diabetics\, Seizures.
URL:https://www.ccems.org/event/amls-advanced-medical-life-support-3/
LOCATION:Cabell County EMS\, 846 8th Ave\, Huntington\, WV\, 25701\, United States
CATEGORIES:AMLS
END:VEVENT
BEGIN:VEVENT
DTSTART;VALUE=DATE:20250217
DTEND;VALUE=DATE:20250218
DTSTAMP:20260424T235358
CREATED:20231116T153121Z
LAST-MODIFIED:20250122T141902Z
UID:6080-1739750400-1739836799@www.ccems.org
SUMMARY:CLOSED - HOLIDAY
DESCRIPTION:Cabell County EMS Headquarters will be closed in observance of PRESIDENT’S DAY
URL:https://www.ccems.org/event/closed-holiday-39/
LOCATION:WV
CATEGORIES:CLOSED,Holiday
END:VEVENT
END:VCALENDAR