BEGIN:VCALENDAR
VERSION:2.0
PRODID:-//Cabell County Emergency Medical Services - ECPv6.15.10//NONSGML v1.0//EN
CALSCALE:GREGORIAN
METHOD:PUBLISH
X-WR-CALNAME:Cabell County Emergency Medical Services
X-ORIGINAL-URL:https://www.ccems.org
X-WR-CALDESC:Events for Cabell County Emergency Medical Services
REFRESH-INTERVAL;VALUE=DURATION:PT1H
X-Robots-Tag:noindex
X-PUBLISHED-TTL:PT1H
BEGIN:VTIMEZONE
TZID:America/New_York
BEGIN:DAYLIGHT
TZOFFSETFROM:-0500
TZOFFSETTO:-0400
TZNAME:EDT
DTSTART:20190310T070000
END:DAYLIGHT
BEGIN:STANDARD
TZOFFSETFROM:-0400
TZOFFSETTO:-0500
TZNAME:EST
DTSTART:20191103T060000
END:STANDARD
BEGIN:DAYLIGHT
TZOFFSETFROM:-0500
TZOFFSETTO:-0400
TZNAME:EDT
DTSTART:20200308T070000
END:DAYLIGHT
BEGIN:STANDARD
TZOFFSETFROM:-0400
TZOFFSETTO:-0500
TZNAME:EST
DTSTART:20201101T060000
END:STANDARD
BEGIN:DAYLIGHT
TZOFFSETFROM:-0500
TZOFFSETTO:-0400
TZNAME:EDT
DTSTART:20210314T070000
END:DAYLIGHT
BEGIN:STANDARD
TZOFFSETFROM:-0400
TZOFFSETTO:-0500
TZNAME:EST
DTSTART:20211107T060000
END:STANDARD
BEGIN:DAYLIGHT
TZOFFSETFROM:-0500
TZOFFSETTO:-0400
TZNAME:EDT
DTSTART:20220313T070000
END:DAYLIGHT
BEGIN:STANDARD
TZOFFSETFROM:-0400
TZOFFSETTO:-0500
TZNAME:EST
DTSTART:20221106T060000
END:STANDARD
END:VTIMEZONE
BEGIN:VEVENT
DTSTART;VALUE=DATE:20210906
DTEND;VALUE=DATE:20210907
DTSTAMP:20260425T222947
CREATED:20201119T191957Z
LAST-MODIFIED:20201119T191957Z
UID:5156-1630886400-1630972799@www.ccems.org
SUMMARY:CLOSED - HOLIDAY
DESCRIPTION:Cabell County EMS Headquarters will be closed in observance of LABOR DAY
URL:https://www.ccems.org/event/closed-holiday-16/
LOCATION:WV
END:VEVENT
BEGIN:VEVENT
DTSTART;TZID=America/New_York:20210810T090000
DTEND;TZID=America/New_York:20210810T170000
DTSTAMP:20260425T222947
CREATED:20210111T174503Z
LAST-MODIFIED:20210111T174503Z
UID:5190-1628586000-1628614800@www.ccems.org
SUMMARY:ACLS – Advanced Cardiac Life Support
DESCRIPTION:ACLS – Advanced Cardiac Life Support\nDuration: 8 Hour Course\nCost: $125.00\nThe American Heart Association Advanced Cardiovascular Life Support (ACLS) course trains healthcare providers that have clinical responsibilities in critical care areas to recognize cardiac emergencies and provide advanced life support interventions.
URL:https://www.ccems.org/event/acls-advanced-cardiac-life-support-3/
LOCATION:Cabell County EMS\, 846 8th Ave\, Huntington\, WV\, 25701\, United States
CATEGORIES:ACLS
END:VEVENT
BEGIN:VEVENT
DTSTART;VALUE=DATE:20210705
DTEND;VALUE=DATE:20210706
DTSTAMP:20260425T222947
CREATED:20201119T191829Z
LAST-MODIFIED:20201119T191829Z
UID:5154-1625443200-1625529599@www.ccems.org
SUMMARY:CLOSED - HOLIDAY
DESCRIPTION:Cabell County EMS Headquarters will be closed in observance of INDEPENDENCE DAY
URL:https://www.ccems.org/event/closed-holiday-15/
LOCATION:WV
CATEGORIES:CLOSED
END:VEVENT
BEGIN:VEVENT
DTSTART;VALUE=DATE:20210621
DTEND;VALUE=DATE:20210622
DTSTAMP:20260425T222947
CREATED:20201119T191740Z
LAST-MODIFIED:20201119T191740Z
UID:5152-1624233600-1624319999@www.ccems.org
SUMMARY:CLOSED - HOLIDAY
DESCRIPTION:Cabell County EMS Headquarters will be closed in observance of WEST VIRGINIA DAY
URL:https://www.ccems.org/event/closed-holiday-14/
LOCATION:WV
CATEGORIES:CLOSED
END:VEVENT
BEGIN:VEVENT
DTSTART;VALUE=DATE:20210531
DTEND;VALUE=DATE:20210601
DTSTAMP:20260425T222947
CREATED:20201119T191648Z
LAST-MODIFIED:20201119T191648Z
UID:5150-1622419200-1622505599@www.ccems.org
SUMMARY:CLOSED - HOLIDAY
DESCRIPTION:Cabell County EMS Headquarters will be closed in observance of MEMORIAL DAY
URL:https://www.ccems.org/event/closed-holiday-13/
LOCATION:WV
CATEGORIES:CLOSED
END:VEVENT
BEGIN:VEVENT
DTSTART;VALUE=DATE:20210215
DTEND;VALUE=DATE:20210216
DTSTAMP:20260425T222947
CREATED:20201119T191603Z
LAST-MODIFIED:20201119T191603Z
UID:5148-1613347200-1613433599@www.ccems.org
SUMMARY:CLOSED - HOLIDAY
DESCRIPTION:Cabell County EMS Headquarters will be closed in observance of PRESIDENT’S DAY
URL:https://www.ccems.org/event/closed-holiday-12/
LOCATION:WV
CATEGORIES:CLOSED
END:VEVENT
BEGIN:VEVENT
DTSTART;TZID=America/New_York:20210209T080000
DTEND;TZID=America/New_York:20210209T170000
DTSTAMP:20260425T222947
CREATED:20210111T174243Z
LAST-MODIFIED:20210111T174243Z
UID:5188-1612857600-1612890000@www.ccems.org
SUMMARY:ACLS – Advanced Cardiac Life Support
DESCRIPTION:ACLS – Advanced Cardiac Life Support\nDuration: 8 Hour Course\nCost: $125.00\nThe American Heart Association Advanced Cardiovascular Life Support (ACLS) course trains healthcare providers that have clinical responsibilities in critical care areas to recognize cardiac emergencies and provide advanced life support interventions.
URL:https://www.ccems.org/event/acls-advanced-cardiac-life-support-2/
LOCATION:Cabell County EMS\, 846 8th Ave\, Huntington\, WV\, 25701\, United States
CATEGORIES:ACLS
END:VEVENT
BEGIN:VEVENT
DTSTART;TZID=America/New_York:20210121T090000
DTEND;TZID=America/New_York:20210121T170000
DTSTAMP:20260425T222947
CREATED:20210111T175107Z
LAST-MODIFIED:20210111T175107Z
UID:5194-1611219600-1611248400@www.ccems.org
SUMMARY:AMLS - Advanced Medical Life Support
DESCRIPTION:AMLS – Advanced Medical Life Support\nDuration: 1 Day\nCost: $125.00\nAMLS Hybrid class is offered with a required online component and completion of pretest\, with passing score\,  prior to class. \nAMLS (Advanced Medical Life Support) is the extra 16 hours (two 8 hour days) required by DOT guidelines to meet refresher standards that is not included in ACLS\, PHTLS and PEPP.   It includes Allergic reactions\, Near Drowning\, Toxicology\, Overdose\, Adult respiratory Distress \, Diabetics\, Seizures.
URL:https://www.ccems.org/event/amls-advanced-medical-life-support/
LOCATION:Cabell County EMS\, 846 8th Ave\, Huntington\, WV\, 25701\, United States
CATEGORIES:AMLS
END:VEVENT
BEGIN:VEVENT
DTSTART;TZID=America/New_York:20210119T090000
DTEND;TZID=America/New_York:20210119T170000
DTSTAMP:20260425T222947
CREATED:20210111T174108Z
LAST-MODIFIED:20210111T175214Z
UID:5186-1611046800-1611075600@www.ccems.org
SUMMARY:ACLS – Advanced Cardiac Life Support
DESCRIPTION:ACLS – Advanced Cardiac Life Support\nDuration: 8 Hour Course\nCost: $125.00\nThe American Heart Association Advanced Cardiovascular Life Support (ACLS) course trains healthcare providers that have clinical responsibilities in critical care areas to recognize cardiac emergencies and provide advanced life support interventions.
URL:https://www.ccems.org/event/acls-advanced-cardiac-life-support/
LOCATION:Cabell County EMS\, 846 8th Ave\, Huntington\, WV\, 25701\, United States
CATEGORIES:ACLS
END:VEVENT
BEGIN:VEVENT
DTSTART;VALUE=DATE:20210118
DTEND;VALUE=DATE:20210119
DTSTAMP:20260425T222947
CREATED:20201119T191447Z
LAST-MODIFIED:20201119T191447Z
UID:5146-1610928000-1611014399@www.ccems.org
SUMMARY:CLOSED - HOLIDAY
DESCRIPTION:Cabell County EMS Headquarters will be closed in observance of King’s Birthday
URL:https://www.ccems.org/event/closed-holiday-11/
LOCATION:WV
CATEGORIES:CLOSED
END:VEVENT
BEGIN:VEVENT
DTSTART;VALUE=DATE:20201225
DTEND;VALUE=DATE:20201226
DTSTAMP:20260425T222947
CREATED:20200303T195846Z
LAST-MODIFIED:20200303T195846Z
UID:5046-1608854400-1608940799@www.ccems.org
SUMMARY:CLOSED - HOLIDAY
DESCRIPTION:Cabell County EMS Headquarters will be closed in observance of CHRISTMAS DAY
URL:https://www.ccems.org/event/closed-holiday-10/
LOCATION:WV
CATEGORIES:CLOSED,Holiday
END:VEVENT
BEGIN:VEVENT
DTSTART;VALUE=DATE:20201224
DTEND;VALUE=DATE:20201225
DTSTAMP:20260425T222947
CREATED:20200303T195733Z
LAST-MODIFIED:20200303T195733Z
UID:5044-1608768000-1608854399@www.ccems.org
SUMMARY:CLOSED - HOLIDAY
DESCRIPTION:Cabell County EMS Headquarters will be closed in observance of CHRISTMAS EVE
URL:https://www.ccems.org/event/closed-holiday-9/
LOCATION:WV
CATEGORIES:CLOSED,Holiday
END:VEVENT
BEGIN:VEVENT
DTSTART;TZID=America/New_York:20201210T180000
DTEND;TZID=America/New_York:20201210T220000
DTSTAMP:20260425T222947
CREATED:20200303T213205Z
LAST-MODIFIED:20200303T213205Z
UID:5075-1607623200-1607637600@www.ccems.org
SUMMARY:CPR & First Aid
DESCRIPTION:Duration: 1 Day Course\nTime: 6pm-10pm\nCost: $50.00 for both or $35 each\nClick Here For Details and to Register: CPR & First Aid Registration
URL:https://www.ccems.org/event/cpr-first-aid-9/
LOCATION:Cabell County EMS\, 846 8th Ave\, Huntington\, WV\, 25701\, United States
CATEGORIES:CPR
ORGANIZER;CN="Training":MAILTO:Training@ccems.org
END:VEVENT
BEGIN:VEVENT
DTSTART;VALUE=DATE:20201127
DTEND;VALUE=DATE:20201128
DTSTAMP:20260425T222947
CREATED:20200303T195632Z
LAST-MODIFIED:20200303T195632Z
UID:5042-1606435200-1606521599@www.ccems.org
SUMMARY:CLOSED - HOLIDAY
DESCRIPTION:Cabell County EMS Headquarters will be closed in observance of LINCOLN DAY
URL:https://www.ccems.org/event/closed-holiday-8/
LOCATION:WV
CATEGORIES:CLOSED,Holiday
END:VEVENT
BEGIN:VEVENT
DTSTART;VALUE=DATE:20201126
DTEND;VALUE=DATE:20201127
DTSTAMP:20260425T222947
CREATED:20200303T195500Z
LAST-MODIFIED:20200303T195500Z
UID:5039-1606348800-1606435199@www.ccems.org
SUMMARY:CLOSED - HOLIDAY
DESCRIPTION:Cabell County EMS Headquarters will be closed in observance of THANKSGIVING DAY
URL:https://www.ccems.org/event/closed-holiday-7/
LOCATION:WV
CATEGORIES:CLOSED,Holiday
END:VEVENT
BEGIN:VEVENT
DTSTART;TZID=America/New_York:20201112T180000
DTEND;TZID=America/New_York:20201112T220000
DTSTAMP:20260425T222947
CREATED:20200303T213104Z
LAST-MODIFIED:20200303T213104Z
UID:5072-1605204000-1605218400@www.ccems.org
SUMMARY:CPR & First Aid
DESCRIPTION:Duration: 1 Day Course\nTime: 6pm-10pm\nCost: $50.00 for both or $35 each\nClick Here For Details and to Register: CPR & First Aid Registration
URL:https://www.ccems.org/event/cpr-first-aid-8/
LOCATION:Cabell County EMS\, 846 8th Ave\, Huntington\, WV\, 25701\, United States
CATEGORIES:CPR
ORGANIZER;CN="Training":MAILTO:Training@ccems.org
END:VEVENT
BEGIN:VEVENT
DTSTART;VALUE=DATE:20201111
DTEND;VALUE=DATE:20201112
DTSTAMP:20260425T222947
CREATED:20200303T195355Z
LAST-MODIFIED:20200303T195355Z
UID:5037-1605052800-1605139199@www.ccems.org
SUMMARY:CLOSED - HOLIDAY
DESCRIPTION:Cabell County EMS Headquarters will be closed in observance of VETERANS DAY
URL:https://www.ccems.org/event/closed-holiday-6/
LOCATION:WV
CATEGORIES:CLOSED,Holiday
END:VEVENT
BEGIN:VEVENT
DTSTART;VALUE=DATE:20201103
DTEND;VALUE=DATE:20201104
DTSTAMP:20260425T222947
CREATED:20200303T195256Z
LAST-MODIFIED:20200303T195256Z
UID:5035-1604361600-1604447999@www.ccems.org
SUMMARY:CLOSED - HOLIDAY
DESCRIPTION:Cabell County EMS Headquarters will be closed in observance of ELECTION DAY
URL:https://www.ccems.org/event/closed-holiday-5/
LOCATION:WV
CATEGORIES:CLOSED,Holiday
END:VEVENT
BEGIN:VEVENT
DTSTART;TZID=America/New_York:20201015T090000
DTEND;TZID=America/New_York:20201015T170000
DTSTAMP:20260425T222947
CREATED:20200820T011345Z
LAST-MODIFIED:20200820T011345Z
UID:2092-1602752400-1602781200@www.ccems.org
SUMMARY:PEPP
DESCRIPTION:PEPP – Pediatric Education for Prehospital Professionals\nDuration: 8 hour Course\nTime: 9am-5pm\nCost: $125.00
URL:https://www.ccems.org/event/pepp-10/
LOCATION:Cabell County EMS\, 846 8th Ave\, Huntington\, WV\, 25701\, United States
CATEGORIES:PEPP
ORGANIZER;CN="Training":MAILTO:Training@ccems.org
END:VEVENT
BEGIN:VEVENT
DTSTART;VALUE=DATE:20201012
DTEND;VALUE=DATE:20201013
DTSTAMP:20260425T222947
CREATED:20200303T195041Z
LAST-MODIFIED:20200303T195041Z
UID:5030-1602460800-1602547199@www.ccems.org
SUMMARY:CLOSED - HOLIDAY
DESCRIPTION:Cabell County EMS Headquarters will be closed in observance of COLUMBUS DAY
URL:https://www.ccems.org/event/closed-holiday-4/
LOCATION:WV
CATEGORIES:CLOSED,Holiday
END:VEVENT
BEGIN:VEVENT
DTSTART;TZID=America/New_York:20201008T180000
DTEND;TZID=America/New_York:20201008T220000
DTSTAMP:20260425T222947
CREATED:20200303T212946Z
LAST-MODIFIED:20200303T212946Z
UID:5070-1602180000-1602194400@www.ccems.org
SUMMARY:CPR & First Aid
DESCRIPTION:Duration: 1 Day Course\nTime: 6pm-10pm\nCost: $50.00 for both or $35 each\nClick Here For Details and to Register: CPR & First Aid Registration
URL:https://www.ccems.org/event/cpr-first-aid-7/
LOCATION:Cabell County EMS\, 846 8th Ave\, Huntington\, WV\, 25701\, United States
CATEGORIES:CPR
ORGANIZER;CN="Training":MAILTO:Training@ccems.org
END:VEVENT
BEGIN:VEVENT
DTSTART;TZID=America/New_York:20201008T090000
DTEND;TZID=America/New_York:20201008T170000
DTSTAMP:20260425T222947
CREATED:20200820T004515Z
LAST-MODIFIED:20210111T175018Z
UID:5120-1602147600-1602176400@www.ccems.org
SUMMARY:AMLS
DESCRIPTION:AMLS – Advanced Medical Life Support\nDuration: 1 Day\nCost: $125.00\nAMLS Hybrid class is offered with a required online component and completion of pretest\, with passing score\,  prior to class. \nAMLS (Advanced Medical Life Support) is the extra 16 hours (two 8 hour days) required by DOT guidelines to meet refresher standards that is not included in ACLS\, PHTLS and PEPP.   It includes Allergic reactions\, Near Drowning\, Toxicology\, Overdose\, Adult respiratory Distress \, Diabetics\, Seizures. \nAMLS
URL:https://www.ccems.org/event/amls/
LOCATION:Cabell County EMS\, 846 8th Ave\, Huntington\, WV\, 25701\, United States
CATEGORIES:AMLS
ORGANIZER;CN="Training":MAILTO:Training@ccems.org
END:VEVENT
BEGIN:VEVENT
DTSTART;TZID=America/New_York:20201006T090000
DTEND;TZID=America/New_York:20201006T170000
DTSTAMP:20260425T222947
CREATED:20200820T010543Z
LAST-MODIFIED:20200820T010543Z
UID:5128-1601974800-1602003600@www.ccems.org
SUMMARY:AMLS
DESCRIPTION:
URL:https://www.ccems.org/event/amls-2/
LOCATION:Cabell County EMS\, 846 8th Ave\, Huntington\, WV\, 25701\, United States
CATEGORIES:AMLS
ORGANIZER;CN="Training":MAILTO:Training@ccems.org
END:VEVENT
BEGIN:VEVENT
DTSTART;TZID=America/New_York:20200924T090000
DTEND;TZID=America/New_York:20200924T170000
DTSTAMP:20260425T222947
CREATED:20190514T181331Z
LAST-MODIFIED:20200820T010832Z
UID:4639-1600938000-1600966800@www.ccems.org
SUMMARY:PEPP
DESCRIPTION:PEPP – Pediatric Education for Prehospital Professionals\nDuration: 8 hour course\nCost: $125.00 \n  \n 
URL:https://www.ccems.org/event/pepp-24/
LOCATION:Cabell County EMS\, 846 8th Ave\, Huntington\, WV\, 25701\, United States
CATEGORIES:PEPP
ORGANIZER;CN="Training":MAILTO:Training@ccems.org
END:VEVENT
BEGIN:VEVENT
DTSTART;TZID=America/New_York:20200910T180000
DTEND;TZID=America/New_York:20200910T220000
DTSTAMP:20260425T222947
CREATED:20200303T212819Z
LAST-MODIFIED:20200303T212835Z
UID:5068-1599760800-1599775200@www.ccems.org
SUMMARY:CPR & First Aid
DESCRIPTION:Duration: 1 Day Course\nTime: 6pm-10pm\nCost: $50.00 for both or $35 each\nClick Here For Details and to Register: CPR & First Aid Registration
URL:https://www.ccems.org/event/cpr-first-aid-6/
LOCATION:Cabell County EMS\, 846 8th Ave\, Huntington\, WV\, 25701\, United States
CATEGORIES:CPR
ORGANIZER;CN="Training":MAILTO:Training@ccems.org
END:VEVENT
BEGIN:VEVENT
DTSTART;VALUE=DATE:20200907
DTEND;VALUE=DATE:20200908
DTSTAMP:20260425T222947
CREATED:20200303T194948Z
LAST-MODIFIED:20200303T194948Z
UID:5028-1599436800-1599523199@www.ccems.org
SUMMARY:CLOSED - HOLIDAY
DESCRIPTION:Cabell County EMS Headquarters will be closed in observance of LABOR DAY
URL:https://www.ccems.org/event/closed-holiday-3/
LOCATION:WV
CATEGORIES:CLOSED,Holiday
END:VEVENT
BEGIN:VEVENT
DTSTART;TZID=America/New_York:20200903T090000
DTEND;TZID=America/New_York:20200903T170000
DTSTAMP:20260425T222947
CREATED:20200820T004224Z
LAST-MODIFIED:20200820T004224Z
UID:5117-1599123600-1599152400@www.ccems.org
SUMMARY:ACLS
DESCRIPTION:ACLS – Advanced Cardiac Life Support\nDuration: 8 Hour Course\nCost: $125.00\nThe American Heart Association Advanced Cardiovascular Life Support (ACLS) course trains healthcare providers that have clinical responsibilities in critical care areas to recognize cardiac emergencies and provide advanced life support interventions.
URL:https://www.ccems.org/event/acls-11/
LOCATION:Cabell County EMS\, 846 8th Ave\, Huntington\, WV\, 25701\, United States
CATEGORIES:ACLS
ORGANIZER;CN="Training":MAILTO:Training@ccems.org
END:VEVENT
BEGIN:VEVENT
DTSTART;TZID=America/New_York:20200826T090000
DTEND;TZID=America/New_York:20200826T170000
DTSTAMP:20260425T222947
CREATED:20200820T004714Z
LAST-MODIFIED:20200820T004714Z
UID:5123-1598432400-1598461200@www.ccems.org
SUMMARY:GEMS
DESCRIPTION:GEMS – Geriatric Education for EMS\nDuration: 1 Day Course\nCost: $75.00\nGEMS provides EMS practitioners at all levels the skills and knowledge to handle the unique medical\, social\, environmental and communications challenges of older adults.\nDeveloped by NAEMT\, in partnership with the American Geriatrics Society\, GEMS empowers EMS practitioners to help improve medical outcomes and quality of life for geriatric patients.
URL:https://www.ccems.org/event/gems-5/
LOCATION:Cabell County EMS\, 846 8th Ave\, Huntington\, WV\, 25701\, United States
CATEGORIES:GEMS
ORGANIZER;CN="Training":MAILTO:Training@ccems.org
END:VEVENT
BEGIN:VEVENT
DTSTART;TZID=America/New_York:20200817T170000
DTEND;TZID=America/New_York:20200817T220000
DTSTAMP:20260425T222947
CREATED:20200820T005902Z
LAST-MODIFIED:20200820T005929Z
UID:5126-1597683600-1597701600@www.ccems.org
SUMMARY:EMT-B
DESCRIPTION:EMT Basic Class\n\n\n\nEMT-B – Emergency Medical Technician Basic\nWe offer 3 Classes per year\, (Winter\, Summer and Fall).  Please read the descriptions carefully.  All classes will be added to our training calendar\, so you can see the days that you will attend.\n**All classes can run longer than estimated weeks\, due to holidays.  Please look at the calendar to see the schedules.
URL:https://www.ccems.org/event/emt-b/
LOCATION:Cabell County EMS\, 846 8th Ave\, Huntington\, WV\, 25701\, United States
CATEGORIES:EMT Class
ORGANIZER;CN="Training":MAILTO:Training@ccems.org
END:VEVENT
BEGIN:VEVENT
DTSTART;TZID=America/New_York:20200813T180000
DTEND;TZID=America/New_York:20200813T220000
DTSTAMP:20260425T222947
CREATED:20200303T212723Z
LAST-MODIFIED:20200303T212723Z
UID:5066-1597341600-1597356000@www.ccems.org
SUMMARY:CPR & First Aid
DESCRIPTION:Duration: 1 Day Course\nTime: 6pm-10pm\nCost: $50.00 for both or $35 each\nClick Here For Details and to Register: CPR & First Aid Registration
URL:https://www.ccems.org/event/cpr-first-aid-5/
LOCATION:Cabell County EMS\, 846 8th Ave\, Huntington\, WV\, 25701\, United States
CATEGORIES:CPR
ORGANIZER;CN="Training":MAILTO:Training@ccems.org
END:VEVENT
END:VCALENDAR