BEGIN:VCALENDAR
VERSION:2.0
PRODID:-//Cabell County Emergency Medical Services - ECPv6.15.10//NONSGML v1.0//EN
CALSCALE:GREGORIAN
METHOD:PUBLISH
X-ORIGINAL-URL:https://www.ccems.org
X-WR-CALDESC:Events for Cabell County Emergency Medical Services
REFRESH-INTERVAL;VALUE=DURATION:PT1H
X-Robots-Tag:noindex
X-PUBLISHED-TTL:PT1H
BEGIN:VTIMEZONE
TZID:America/New_York
BEGIN:DAYLIGHT
TZOFFSETFROM:-0500
TZOFFSETTO:-0400
TZNAME:EDT
DTSTART:20250309T070000
END:DAYLIGHT
BEGIN:STANDARD
TZOFFSETFROM:-0400
TZOFFSETTO:-0500
TZNAME:EST
DTSTART:20251102T060000
END:STANDARD
BEGIN:DAYLIGHT
TZOFFSETFROM:-0500
TZOFFSETTO:-0400
TZNAME:EDT
DTSTART:20260308T070000
END:DAYLIGHT
BEGIN:STANDARD
TZOFFSETFROM:-0400
TZOFFSETTO:-0500
TZNAME:EST
DTSTART:20261101T060000
END:STANDARD
BEGIN:DAYLIGHT
TZOFFSETFROM:-0500
TZOFFSETTO:-0400
TZNAME:EDT
DTSTART:20270314T070000
END:DAYLIGHT
BEGIN:STANDARD
TZOFFSETFROM:-0400
TZOFFSETTO:-0500
TZNAME:EST
DTSTART:20271107T060000
END:STANDARD
END:VTIMEZONE
BEGIN:VTIMEZONE
TZID:America/Halifax
BEGIN:DAYLIGHT
TZOFFSETFROM:-0400
TZOFFSETTO:-0300
TZNAME:ADT
DTSTART:20250309T060000
END:DAYLIGHT
BEGIN:STANDARD
TZOFFSETFROM:-0300
TZOFFSETTO:-0400
TZNAME:AST
DTSTART:20251102T050000
END:STANDARD
BEGIN:DAYLIGHT
TZOFFSETFROM:-0400
TZOFFSETTO:-0300
TZNAME:ADT
DTSTART:20260308T060000
END:DAYLIGHT
BEGIN:STANDARD
TZOFFSETFROM:-0300
TZOFFSETTO:-0400
TZNAME:AST
DTSTART:20261101T050000
END:STANDARD
BEGIN:DAYLIGHT
TZOFFSETFROM:-0400
TZOFFSETTO:-0300
TZNAME:ADT
DTSTART:20270314T060000
END:DAYLIGHT
BEGIN:STANDARD
TZOFFSETFROM:-0300
TZOFFSETTO:-0400
TZNAME:AST
DTSTART:20271107T050000
END:STANDARD
END:VTIMEZONE
BEGIN:VTIMEZONE
TZID:America/New_York
BEGIN:DAYLIGHT
TZOFFSETFROM:-0500
TZOFFSETTO:-0400
TZNAME:EDT
DTSTART:20250309T070000
END:DAYLIGHT
BEGIN:STANDARD
TZOFFSETFROM:-0400
TZOFFSETTO:-0500
TZNAME:EST
DTSTART:20251102T060000
END:STANDARD
BEGIN:DAYLIGHT
TZOFFSETFROM:-0500
TZOFFSETTO:-0400
TZNAME:EDT
DTSTART:20260308T070000
END:DAYLIGHT
BEGIN:STANDARD
TZOFFSETFROM:-0400
TZOFFSETTO:-0500
TZNAME:EST
DTSTART:20261101T060000
END:STANDARD
BEGIN:DAYLIGHT
TZOFFSETFROM:-0500
TZOFFSETTO:-0400
TZNAME:EDT
DTSTART:20270314T070000
END:DAYLIGHT
BEGIN:STANDARD
TZOFFSETFROM:-0400
TZOFFSETTO:-0500
TZNAME:EST
DTSTART:20271107T060000
END:STANDARD
END:VTIMEZONE
BEGIN:VEVENT
DTSTART;TZID=America/New_York:20260207T090000
DTEND;TZID=America/New_York:20260207T210000
DTSTAMP:20260423T182007
CREATED:20211214T203311Z
LAST-MODIFIED:20260116T220512Z
UID:5405-1770454800-1770498000@www.ccems.org
SUMMARY:EMTR - EMT Refresher Day 1
DESCRIPTION:EMTR – EMT Refresher\nDuration: 2 Saturday Course\nTime: 9am-9pm\nCost: $150.00 \nEMT-B Refresher Course is a 24 hour course designed for current or expired (within the past 2 years) EMTs\, who will be recertifing with National EMT Registry. \n 
URL:https://www.ccems.org/event/emtr-emt-refresher-2/
LOCATION:Cabell County EMS\, 846 8th Ave\, Huntington\, WV\, 25701\, United States
CATEGORIES:EMT Refresher
END:VEVENT
BEGIN:VEVENT
DTSTART;TZID=America/Halifax:20260210T090000
DTEND;TZID=America/Halifax:20260210T170000
DTSTAMP:20260423T182007
CREATED:20231220T185250Z
LAST-MODIFIED:20260116T213647Z
UID:6133-1770714000-1770742800@www.ccems.org
SUMMARY:ACLS – Advanced Cardiac Life Support
DESCRIPTION:ACLS – Advanced Cardiac Life Support\nDuration: 8 Hour Course\nCost: $125.00\nThe American Heart Association Advanced Cardiovascular Life Support (ACLS) course trains healthcare providers that have clinical responsibilities in critical care areas to recognize cardiac emergencies and provide advanced life support interventions. \nClick here to sign up!
URL:https://www.ccems.org/event/acls-advanced-cardiac-life-support-10/
LOCATION:Cabell County EMS\, 846 8th Ave\, Huntington\, WV\, 25701\, United States
CATEGORIES:ACLS
END:VEVENT
BEGIN:VEVENT
DTSTART;TZID=America/New_York:20260212T180000
DTEND;TZID=America/New_York:20260212T220000
DTSTAMP:20260423T182007
CREATED:20211217T144945Z
LAST-MODIFIED:20251212T212221Z
UID:5473-1770919200-1770933600@www.ccems.org
SUMMARY:CPR and First Aid - February
DESCRIPTION:CPR & First Aid Duration: 1 Day\nCost: $50 for both or $35 each\nThe American Heart Association Heartsaver First Aid with CPR/AED course teaches participants to recognize sudden illnesses\, treat serious injury\, and how to perform the lifesaving skills of CPR for adults\, children\, and infants with the use of an Automated External Defibrillator (AED). Successful completion of this course results in an American Heart Association Heartsaver First Aid CPR AED certification card which is valid for two years. Course topics include: \n\n*Medical emergencies including allergic reactions\, heart attacks\, stroke\, seizures\, and diabetes\n*Injury management including bites and stings\, bleeding control\, and splinting\n*Environmental emergencies such as heat stroke and hypothermia\n*Relief of choking\n*CPR AED for adults\, children\, and infants
URL:https://www.ccems.org/event/cpr-and-first-aid-2/
LOCATION:Cabell County EMS\, 846 8th Ave\, Huntington\, WV\, 25701\, United States
CATEGORIES:CPR
END:VEVENT
BEGIN:VEVENT
DTSTART;TZID=America/New_York:20260221T090000
DTEND;TZID=America/New_York:20260221T170000
DTSTAMP:20260423T182007
CREATED:20260116T220504Z
LAST-MODIFIED:20260116T220504Z
UID:6740-1771664400-1771693200@www.ccems.org
SUMMARY:EMTR - EMT Refresher Day 2
DESCRIPTION:EMTR – EMT Refresher\nDuration: 2 Saturday Course\nTime: 9am-9pm\nCost: $150.00 \nEMT-B Refresher Course is a 24 hour course designed for current or expired (within the past 2 years) EMTs\, who will be recertifing with National EMT Registry. \n 
URL:https://www.ccems.org/event/emtr-emt-refresher-day-2-2/
LOCATION:Cabell County EMS\, 846 8th Ave\, Huntington\, WV\, 25701\, United States
CATEGORIES:EMT Refresher
END:VEVENT
BEGIN:VEVENT
DTSTART;TZID=America/Halifax:20260303T090000
DTEND;TZID=America/Halifax:20260303T170000
DTSTAMP:20260423T182007
CREATED:20231220T185829Z
LAST-MODIFIED:20260116T215026Z
UID:6140-1772528400-1772557200@www.ccems.org
SUMMARY:AMLS - Advanced Medical Life Support
DESCRIPTION:AMLS – Advanced Medical Life Support\nDuration: 1 Day\nCost: $125.00\nAMLS Hybrid class is offered with a required online component and completion of pretest\, with passing score\,  prior to class. \nAMLS (Advanced Medical Life Support) is the extra 16 hours (two 8 hour days) required by DOT guidelines to meet refresher standards that is not included in ACLS\, PHTLS and PEPP.   It includes Allergic reactions\, Near Drowning\, Toxicology\, Overdose\, Adult respiratory Distress \, Diabetics\, Seizures.
URL:https://www.ccems.org/event/amls-advanced-medical-life-support-7/
LOCATION:Cabell County EMS\, 846 8th Ave\, Huntington\, WV\, 25701\, United States
CATEGORIES:AMLS
END:VEVENT
BEGIN:VEVENT
DTSTART;TZID=America/Halifax:20260312T090000
DTEND;TZID=America/Halifax:20260312T170000
DTSTAMP:20260423T182007
CREATED:20231221T153706Z
LAST-MODIFIED:20260116T212131Z
UID:6154-1773306000-1773334800@www.ccems.org
SUMMARY:ITLS – International Trauma Life Support
DESCRIPTION:ITLS – International Trauma Life Support\nDuration: 8 hour course\nCost: $125.00\nITLS Hybrid class is offered with a required online component and completion of pretest\, with passing score\,  prior to class. \nITLS courses improve the quality of trauma care in your area and decrease mortality. The program is based on a prehospital trauma care philosophy\, stressing the treatment of the multi-system trauma patient as a unique entity with specific needs. This may require an approach to the trauma patient that varies from traditional treatment modalities. ITLS promotes critical thinking as the foundation for providing quality care. It is based on the belief that\, given a good fund of knowledge and key principles\, EMS practitioners are capable of making reasoned decisions regarding patient care.
URL:https://www.ccems.org/event/itls-international-trauma-life-support-2/
LOCATION:WV
END:VEVENT
BEGIN:VEVENT
DTSTART;TZID=America/New_York:20260312T180000
DTEND;TZID=America/New_York:20260312T220000
DTSTAMP:20260423T182007
CREATED:20211217T145137Z
LAST-MODIFIED:20251212T212151Z
UID:5475-1773338400-1773352800@www.ccems.org
SUMMARY:CPR and First Aid - March
DESCRIPTION:CPR & First Aid Duration: 1 Day\nCost: $50 for both or $35 each\nThe American Heart Association Heartsaver First Aid with CPR/AED course teaches participants to recognize sudden illnesses\, treat serious injury\, and how to perform the lifesaving skills of CPR for adults\, children\, and infants with the use of an Automated External Defibrillator (AED). Successful completion of this course results in an American Heart Association Heartsaver First Aid CPR AED certification card which is valid for two years. Course topics include: \n\n*Medical emergencies including allergic reactions\, heart attacks\, stroke\, seizures\, and diabetes\n*Injury management including bites and stings\, bleeding control\, and splinting\n*Environmental emergencies such as heat stroke and hypothermia\n*Relief of choking\n*CPR AED for adults\, children\, and infants
URL:https://www.ccems.org/event/cpr-and-first-aid-3/
LOCATION:Cabell County EMS\, 846 8th Ave\, Huntington\, WV\, 25701\, United States
CATEGORIES:CPR
END:VEVENT
BEGIN:VEVENT
DTSTART;TZID=America/New_York:20260314T090000
DTEND;TZID=America/New_York:20260314T210000
DTSTAMP:20260423T182007
CREATED:20220204T162925Z
LAST-MODIFIED:20260116T220309Z
UID:5598-1773478800-1773522000@www.ccems.org
SUMMARY:EMTR - EMT Refresher Day 1
DESCRIPTION:EMTR – EMT Refresher\nDuration: 2 Saturday Course –\nTime: 9am-9pm\nCost: $150.00 \nEMT-B Refresher Course is a 24 hour course designed for current or expired (within the past 2 years) EMTs\, who will be recertifing with National EMT Registry. \n 
URL:https://www.ccems.org/event/emtr-emt-refresher-9/
LOCATION:Cabell County EMS\, 846 8th Ave\, Huntington\, WV\, 25701\, United States
CATEGORIES:EMT Refresher
ORGANIZER;CN="Training":MAILTO:Training@ccems.org
END:VEVENT
BEGIN:VEVENT
DTSTART;TZID=America/New_York:20260328T090000
DTEND;TZID=America/New_York:20260328T170000
DTSTAMP:20260423T182007
CREATED:20260116T220248Z
LAST-MODIFIED:20260116T220248Z
UID:6736-1774688400-1774717200@www.ccems.org
SUMMARY:EMTR - EMT Refresher Day 2
DESCRIPTION:EMTR – EMT Refresher\nDuration: 2 Saturday Course –\nTime: 9am-9pm\nCost: $150.00 \nEMT-B Refresher Course is a 24 hour course designed for current or expired (within the past 2 years) EMTs\, who will be recertifing with National EMT Registry. \n 
URL:https://www.ccems.org/event/emtr-emt-refresher-day-2/
LOCATION:WV
CATEGORIES:EMT Refresher
END:VEVENT
BEGIN:VEVENT
DTSTART;TZID=America/New_York:20260409T180000
DTEND;TZID=America/New_York:20260409T220000
DTSTAMP:20260423T182007
CREATED:20211217T145351Z
LAST-MODIFIED:20251212T212140Z
UID:5479-1775757600-1775772000@www.ccems.org
SUMMARY:CPR and First Aid - April
DESCRIPTION:CPR & First Aid Duration: 1 Day\nCost: $50 for both or $35 each\nThe American Heart Association Heartsaver First Aid with CPR/AED course teaches participants to recognize sudden illnesses\, treat serious injury\, and how to perform the lifesaving skills of CPR for adults\, children\, and infants with the use of an Automated External Defibrillator (AED). Successful completion of this course results in an American Heart Association Heartsaver First Aid CPR AED certification card which is valid for two years. Course topics include: \n\n*Medical emergencies including allergic reactions\, heart attacks\, stroke\, seizures\, and diabetes\n*Injury management including bites and stings\, bleeding control\, and splinting\n*Environmental emergencies such as heat stroke and hypothermia\n*Relief of choking\n*CPR AED for adults\, children\, and infants
URL:https://www.ccems.org/event/cpr-and-first-aid-4/
LOCATION:Cabell County EMS\, 846 8th Ave\, Huntington\, WV\, 25701\, United States
CATEGORIES:CPR
END:VEVENT
BEGIN:VEVENT
DTSTART;TZID=America/New_York:20260514T180000
DTEND;TZID=America/New_York:20260514T220000
DTSTAMP:20260423T182007
CREATED:20211217T145519Z
LAST-MODIFIED:20251212T212120Z
UID:5481-1778781600-1778796000@www.ccems.org
SUMMARY:CPR and First Aid - May
DESCRIPTION:CPR & First Aid Duration: 1 Day\nCost: $50 for both or $35 each\nThe American Heart Association Heartsaver First Aid with CPR/AED course teaches participants to recognize sudden illnesses\, treat serious injury\, and how to perform the lifesaving skills of CPR for adults\, children\, and infants with the use of an Automated External Defibrillator (AED). Successful completion of this course results in an American Heart Association Heartsaver First Aid CPR AED certification card which is valid for two years. Course topics include: \n\n*Medical emergencies including allergic reactions\, heart attacks\, stroke\, seizures\, and diabetes\n*Injury management including bites and stings\, bleeding control\, and splinting\n*Environmental emergencies such as heat stroke and hypothermia\n*Relief of choking\n*CPR AED for adults\, children\, and infants
URL:https://www.ccems.org/event/cpr-and-first-aid-5/
LOCATION:Cabell County EMS\, 846 8th Ave\, Huntington\, WV\, 25701\, United States
CATEGORIES:CPR
END:VEVENT
BEGIN:VEVENT
DTSTART;TZID=America/New_York:20260611T180000
DTEND;TZID=America/New_York:20260611T220000
DTSTAMP:20260423T182007
CREATED:20211217T145611Z
LAST-MODIFIED:20251212T212105Z
UID:5483-1781200800-1781215200@www.ccems.org
SUMMARY:CPR and First Aid - June
DESCRIPTION:CPR & First Aid Duration: 1 Day\nCost: $50 for both or $35 each\nThe American Heart Association Heartsaver First Aid with CPR/AED course teaches participants to recognize sudden illnesses\, treat serious injury\, and how to perform the lifesaving skills of CPR for adults\, children\, and infants with the use of an Automated External Defibrillator (AED). Successful completion of this course results in an American Heart Association Heartsaver First Aid CPR AED certification card which is valid for two years. Course topics include: \n\n*Medical emergencies including allergic reactions\, heart attacks\, stroke\, seizures\, and diabetes\n*Injury management including bites and stings\, bleeding control\, and splinting\n*Environmental emergencies such as heat stroke and hypothermia\n*Relief of choking\n*CPR AED for adults\, children\, and infants
URL:https://www.ccems.org/event/cpr-and-first-aid-6/
LOCATION:Cabell County EMS\, 846 8th Ave\, Huntington\, WV\, 25701\, United States
CATEGORIES:CPR
END:VEVENT
BEGIN:VEVENT
DTSTART;TZID=America/New_York:20260709T180000
DTEND;TZID=America/New_York:20260709T220000
DTSTAMP:20260423T182007
CREATED:20211217T145730Z
LAST-MODIFIED:20251212T211151Z
UID:5485-1783620000-1783634400@www.ccems.org
SUMMARY:CPR and First Aid - July
DESCRIPTION:CPR & First Aid Duration: 1 Day\nCost: $50 for both or $35 each\nThe American Heart Association Heartsaver First Aid with CPR/AED course teaches participants to recognize sudden illnesses\, treat serious injury\, and how to perform the lifesaving skills of CPR for adults\, children\, and infants with the use of an Automated External Defibrillator (AED). Successful completion of this course results in an American Heart Association Heartsaver First Aid CPR AED certification card which is valid for two years. Course topics include: \n\n*Medical emergencies including allergic reactions\, heart attacks\, stroke\, seizures\, and diabetes\n*Injury management including bites and stings\, bleeding control\, and splinting\n*Environmental emergencies such as heat stroke and hypothermia\n*Relief of choking\n*CPR AED for adults\, children\, and infants
URL:https://www.ccems.org/event/cpr-and-first-aid-7/
LOCATION:Cabell County EMS\, 846 8th Ave\, Huntington\, WV\, 25701\, United States
CATEGORIES:CPR
END:VEVENT
BEGIN:VEVENT
DTSTART;TZID=America/New_York:20260813T180000
DTEND;TZID=America/New_York:20260813T220000
DTSTAMP:20260423T182007
CREATED:20211217T145909Z
LAST-MODIFIED:20251212T211130Z
UID:5487-1786644000-1786658400@www.ccems.org
SUMMARY:CPR and First Aid - August
DESCRIPTION:CPR & First Aid Duration: 1 Day\nCost: $50 for both or $35 each\nThe American Heart Association Heartsaver First Aid with CPR/AED course teaches participants to recognize sudden illnesses\, treat serious injury\, and how to perform the lifesaving skills of CPR for adults\, children\, and infants with the use of an Automated External Defibrillator (AED). Successful completion of this course results in an American Heart Association Heartsaver First Aid CPR AED certification card which is valid for two years. Course topics include: \n\n*Medical emergencies including allergic reactions\, heart attacks\, stroke\, seizures\, and diabetes\n*Injury management including bites and stings\, bleeding control\, and splinting\n*Environmental emergencies such as heat stroke and hypothermia\n*Relief of choking\n*CPR AED for adults\, children\, and infants
URL:https://www.ccems.org/event/cpr-and-first-aid-8/
LOCATION:Cabell County EMS\, 846 8th Ave\, Huntington\, WV\, 25701\, United States
CATEGORIES:CPR
END:VEVENT
BEGIN:VEVENT
DTSTART;TZID=America/New_York:20260910T180000
DTEND;TZID=America/New_York:20260910T220000
DTSTAMP:20260423T182007
CREATED:20211217T150010Z
LAST-MODIFIED:20251212T211105Z
UID:5489-1789063200-1789077600@www.ccems.org
SUMMARY:CPR and First Aid - September
DESCRIPTION:CPR & First Aid Duration: 1 Day\nCost: $50 for both or $35 each\nThe American Heart Association Heartsaver First Aid with CPR/AED course teaches participants to recognize sudden illnesses\, treat serious injury\, and how to perform the lifesaving skills of CPR for adults\, children\, and infants with the use of an Automated External Defibrillator (AED). Successful completion of this course results in an American Heart Association Heartsaver First Aid CPR AED certification card which is valid for two years. Course topics include: \n\n*Medical emergencies including allergic reactions\, heart attacks\, stroke\, seizures\, and diabetes\n*Injury management including bites and stings\, bleeding control\, and splinting\n*Environmental emergencies such as heat stroke and hypothermia\n*Relief of choking\n*CPR AED for adults\, children\, and infants
URL:https://www.ccems.org/event/cpr-and-first-aid-9/
LOCATION:Cabell County EMS\, 846 8th Ave\, Huntington\, WV\, 25701\, United States
CATEGORIES:CPR
END:VEVENT
BEGIN:VEVENT
DTSTART;TZID=America/New_York:20261008T180000
DTEND;TZID=America/New_York:20261008T220000
DTSTAMP:20260423T182007
CREATED:20211217T150105Z
LAST-MODIFIED:20251212T211031Z
UID:5491-1791482400-1791496800@www.ccems.org
SUMMARY:CPR and First Aid - October
DESCRIPTION:CPR & First Aid Duration: 1 Day\nCost: $50 for both or $35 each\nThe American Heart Association Heartsaver First Aid with CPR/AED course teaches participants to recognize sudden illnesses\, treat serious injury\, and how to perform the lifesaving skills of CPR for adults\, children\, and infants with the use of an Automated External Defibrillator (AED). Successful completion of this course results in an American Heart Association Heartsaver First Aid CPR AED certification card which is valid for two years. Course topics include: \n\n*Medical emergencies including allergic reactions\, heart attacks\, stroke\, seizures\, and diabetes\n*Injury management including bites and stings\, bleeding control\, and splinting\n*Environmental emergencies such as heat stroke and hypothermia\n*Relief of choking\n*CPR AED for adults\, children\, and infants
URL:https://www.ccems.org/event/cpr-and-first-aid-10/
LOCATION:Cabell County EMS\, 846 8th Ave\, Huntington\, WV\, 25701\, United States
CATEGORIES:CPR
END:VEVENT
BEGIN:VEVENT
DTSTART;TZID=America/New_York:20261112T180000
DTEND;TZID=America/New_York:20261112T220000
DTSTAMP:20260423T182007
CREATED:20211217T150215Z
LAST-MODIFIED:20251212T210946Z
UID:5493-1794506400-1794520800@www.ccems.org
SUMMARY:CPR and First Aid - November
DESCRIPTION:CPR & First Aid Duration: 1 Day\nCost: $50 for both or $35 each\nThe American Heart Association Heartsaver First Aid with CPR/AED course teaches participants to recognize sudden illnesses\, treat serious injury\, and how to perform the lifesaving skills of CPR for adults\, children\, and infants with the use of an Automated External Defibrillator (AED). Successful completion of this course results in an American Heart Association Heartsaver First Aid CPR AED certification card which is valid for two years. Course topics include: \n\n*Medical emergencies including allergic reactions\, heart attacks\, stroke\, seizures\, and diabetes\n*Injury management including bites and stings\, bleeding control\, and splinting\n*Environmental emergencies such as heat stroke and hypothermia\n*Relief of choking\n*CPR AED for adults\, children\, and infants
URL:https://www.ccems.org/event/cpr-and-first-aid-11/
LOCATION:Cabell County EMS\, 846 8th Ave\, Huntington\, WV\, 25701\, United States
CATEGORIES:CPR
END:VEVENT
BEGIN:VEVENT
DTSTART;TZID=America/New_York:20261210T180000
DTEND;TZID=America/New_York:20261210T220000
DTSTAMP:20260423T182007
CREATED:20211217T150409Z
LAST-MODIFIED:20251212T210912Z
UID:5495-1796925600-1796940000@www.ccems.org
SUMMARY:CPR and First Aid - December
DESCRIPTION:CPR & First Aid Duration: 1 Day\nCost: $50 for both or $35 each\nThe American Heart Association Heartsaver First Aid with CPR/AED course teaches participants to recognize sudden illnesses\, treat serious injury\, and how to perform the lifesaving skills of CPR for adults\, children\, and infants with the use of an Automated External Defibrillator (AED). Successful completion of this course results in an American Heart Association Heartsaver First Aid CPR AED certification card which is valid for two years. Course topics include: \n\n*Medical emergencies including allergic reactions\, heart attacks\, stroke\, seizures\, and diabetes\n*Injury management including bites and stings\, bleeding control\, and splinting\n*Environmental emergencies such as heat stroke and hypothermia\n*Relief of choking\n*CPR AED for adults\, children\, and infants
URL:https://www.ccems.org/event/cpr-and-first-aid-12/
LOCATION:Cabell County EMS\, 846 8th Ave\, Huntington\, WV\, 25701\, United States
CATEGORIES:CPR
END:VEVENT
END:VCALENDAR