BEGIN:VCALENDAR
VERSION:2.0
PRODID:-//Cabell County Emergency Medical Services - ECPv6.15.10//NONSGML v1.0//EN
CALSCALE:GREGORIAN
METHOD:PUBLISH
X-ORIGINAL-URL:https://www.ccems.org
X-WR-CALDESC:Events for Cabell County Emergency Medical Services
REFRESH-INTERVAL;VALUE=DURATION:PT1H
X-Robots-Tag:noindex
X-PUBLISHED-TTL:PT1H
BEGIN:VTIMEZONE
TZID:America/New_York
BEGIN:DAYLIGHT
TZOFFSETFROM:-0500
TZOFFSETTO:-0400
TZNAME:EDT
DTSTART:20160313T070000
END:DAYLIGHT
BEGIN:STANDARD
TZOFFSETFROM:-0400
TZOFFSETTO:-0500
TZNAME:EST
DTSTART:20161106T060000
END:STANDARD
BEGIN:DAYLIGHT
TZOFFSETFROM:-0500
TZOFFSETTO:-0400
TZNAME:EDT
DTSTART:20170312T070000
END:DAYLIGHT
BEGIN:STANDARD
TZOFFSETFROM:-0400
TZOFFSETTO:-0500
TZNAME:EST
DTSTART:20171105T060000
END:STANDARD
BEGIN:DAYLIGHT
TZOFFSETFROM:-0500
TZOFFSETTO:-0400
TZNAME:EDT
DTSTART:20180311T070000
END:DAYLIGHT
BEGIN:STANDARD
TZOFFSETFROM:-0400
TZOFFSETTO:-0500
TZNAME:EST
DTSTART:20181104T060000
END:STANDARD
END:VTIMEZONE
BEGIN:VEVENT
DTSTART;TZID=America/New_York:20171004T090000
DTEND;TZID=America/New_York:20171004T130000
DTSTAMP:20260424T143704
CREATED:20170315T142659Z
LAST-MODIFIED:20170315T142659Z
UID:3520-1507107600-1507122000@www.ccems.org
SUMMARY:CCT Skills Lab - Mod D
DESCRIPTION:CCT Skills Lab – Critical Care Transport Skills Lab \nModule D: Lab Values/X Ray Interpretation Cardiac Management Skills Evaluation: 12-lead EKG\, Trans venous Pacemaker \nTo register for CCT Skills Lab Modules\, go to the pages below. \nCCT Skills Lab – MOD D
URL:https://www.ccems.org/event/cct-skills-lab-mod-d-4/
LOCATION:Cabell County EMS\, 846 8th Ave\, Huntington\, WV\, 25701\, United States
CATEGORIES:CCT,Skills Lab
ORGANIZER;CN="Training":MAILTO:Training@ccems.org
END:VEVENT
BEGIN:VEVENT
DTSTART;TZID=America/New_York:20171003T090000
DTEND;TZID=America/New_York:20171003T130000
DTSTAMP:20260424T143704
CREATED:20170315T141724Z
LAST-MODIFIED:20170315T142330Z
UID:3518-1507021200-1507035600@www.ccems.org
SUMMARY:CCT Skills Lab - Mod D
DESCRIPTION:CCT Skills Lab – Critical Care Transport Skills Lab \nModule D: Lab Values/X Ray Interpretation Cardiac Management Skills Evaluation: 12-lead EKG\, Trans venous Pacemaker \nTo register for CCT Skills Lab Modules\, go to the pages below. \nCCT Skills Lab – MOD D
URL:https://www.ccems.org/event/cct-skills-lab-mod-d-3/
LOCATION:Cabell County EMS\, 846 8th Ave\, Huntington\, WV\, 25701\, United States
CATEGORIES:CCT,Skills Lab
ORGANIZER;CN="Training":MAILTO:Training@ccems.org
END:VEVENT
BEGIN:VEVENT
DTSTART;TZID=America/New_York:20171002T090000
DTEND;TZID=America/New_York:20171002T130000
DTSTAMP:20260424T143704
CREATED:20170315T141206Z
LAST-MODIFIED:20170315T141545Z
UID:3515-1506934800-1506949200@www.ccems.org
SUMMARY:CCT Skills Lab - Mod D
DESCRIPTION:CCT Skills Lab – Critical Care Transport Skills Lab \nModule D:     Lab Values/X Ray Interpretation     Cardiac Management     Skills Evaluation: 12-lead EKG\, Trans venous Pacemaker \nTo register for CCT Skills Lab Modules\, go to the pages below. \nCCT Skills Lab – MOD D
URL:https://www.ccems.org/event/cct-skills-lab-mod-d-2/
LOCATION:Cabell County EMS\, 846 8th Ave\, Huntington\, WV\, 25701\, United States
CATEGORIES:CCT,Skills Lab
ORGANIZER;CN="Training":MAILTO:Training@ccems.org
END:VEVENT
BEGIN:VEVENT
DTSTART;TZID=America/New_York:20170811T090000
DTEND;TZID=America/New_York:20170811T130000
DTSTAMP:20260424T143704
CREATED:20170315T141034Z
LAST-MODIFIED:20170315T141034Z
UID:3513-1502442000-1502456400@www.ccems.org
SUMMARY:CCT Skills Lab - Mod C
DESCRIPTION:CCT Skills Lab – Critical Care Transport Skills Lab \nModule C: Pediatrics Respiratory Management Skills Evaluation: RSI/Intubation\, Advanced Secondary Airway Devices\, Capnography OB/GYN Management \nTo register for CCT Skills Lab Modules\, go to the pages below. \nCCT Skills Lab – MOD C
URL:https://www.ccems.org/event/cct-skills-lab-mod-c-3/
LOCATION:Cabell County EMS\, 846 8th Ave\, Huntington\, WV\, 25701\, United States
CATEGORIES:CCT,Skills Lab
ORGANIZER;CN="Training":MAILTO:Training@ccems.org
END:VEVENT
BEGIN:VEVENT
DTSTART;TZID=America/New_York:20170810T090000
DTEND;TZID=America/New_York:20170810T130000
DTSTAMP:20260424T143704
CREATED:20170315T140931Z
LAST-MODIFIED:20170315T140931Z
UID:3511-1502355600-1502370000@www.ccems.org
SUMMARY:CCT Skills Lab - Mod C
DESCRIPTION:CCT Skills Lab – Critical Care Transport Skills Lab \nModule C: Pediatrics Respiratory Management Skills Evaluation: RSI/Intubation\, Advanced Secondary Airway Devices\, Capnography OB/GYN Management \nTo register for CCT Skills Lab Modules\, go to the pages below. \nCCT Skills Lab – MOD C
URL:https://www.ccems.org/event/cct-skills-lab-mod-c-2/
LOCATION:Cabell County EMS\, 846 8th Ave\, Huntington\, WV\, 25701\, United States
CATEGORIES:CCT,Skills Lab
ORGANIZER;CN="Training":MAILTO:Training@ccems.org
END:VEVENT
BEGIN:VEVENT
DTSTART;TZID=America/New_York:20170809T090000
DTEND;TZID=America/New_York:20170809T130000
DTSTAMP:20260424T143704
CREATED:20170315T140742Z
LAST-MODIFIED:20170315T140759Z
UID:3509-1502269200-1502283600@www.ccems.org
SUMMARY:CCT Skills Lab - Mod C
DESCRIPTION:CCT Skills Lab – Critical Care Transport Skills Lab \nModule C:     Pediatrics     Respiratory Management     Skills Evaluation: RSI/Intubation\, Advanced Secondary Airway Devices\, Capnography     OB/GYN Management \nTo register for CCT Skills Lab Modules\, go to the pages below. \nCCT Skills Lab – MOD C
URL:https://www.ccems.org/event/cct-skills-lab-mod-c/
LOCATION:Cabell County EMS\, 846 8th Ave\, Huntington\, WV\, 25701\, United States
CATEGORIES:CCT,Skills Lab
ORGANIZER;CN="Training":MAILTO:Training@ccems.org
END:VEVENT
BEGIN:VEVENT
DTSTART;TZID=America/New_York:20170607T090000
DTEND;TZID=America/New_York:20170607T130000
DTSTAMP:20260424T143704
CREATED:20170315T140552Z
LAST-MODIFIED:20170315T140603Z
UID:3506-1496826000-1496840400@www.ccems.org
SUMMARY:CCT Skills Lab - Mod B
DESCRIPTION:CCT Skills Lab – Critical Care Transport Skills Lab \nModule B: Pharmacology CCT Trends/Special Topics: CCT Protocols/Transport Decisions Skills Evaluation: Ventilator Management\, Oral Case Scenarious \nTo register for CCT Skills Lab Modules\, go to the pages below. \nCCT Skills Lab – MOD B
URL:https://www.ccems.org/event/cct-skills-lab-mod-b-4/
LOCATION:Cabell County EMS\, 846 8th Ave\, Huntington\, WV\, 25701\, United States
CATEGORIES:CCT,Skills Lab
ORGANIZER;CN="Training":MAILTO:Training@ccems.org
END:VEVENT
BEGIN:VEVENT
DTSTART;TZID=America/New_York:20170606T090000
DTEND;TZID=America/New_York:20170606T130000
DTSTAMP:20260424T143704
CREATED:20170315T140453Z
LAST-MODIFIED:20170315T140453Z
UID:3504-1496739600-1496754000@www.ccems.org
SUMMARY:CCT Skills Lab - Mod B
DESCRIPTION:CCT Skills Lab – Critical Care Transport Skills Lab \nModule B: Pharmacology CCT Trends/Special Topics: CCT Protocols/Transport Decisions Skills Evaluation: Ventilator Management\, Oral Case Scenarious \nTo register for CCT Skills Lab Modules\, go to the pages below. \nCCT Skills Lab – MOD B
URL:https://www.ccems.org/event/cct-skills-lab-mod-b-3/
LOCATION:Cabell County EMS\, 846 8th Ave\, Huntington\, WV\, 25701\, United States
CATEGORIES:CCT,Skills Lab
ORGANIZER;CN="Training":MAILTO:Training@ccems.org
END:VEVENT
BEGIN:VEVENT
DTSTART;TZID=America/New_York:20170605T090000
DTEND;TZID=America/New_York:20170605T130000
DTSTAMP:20260424T143704
CREATED:20170315T140324Z
LAST-MODIFIED:20170315T140324Z
UID:3502-1496653200-1496667600@www.ccems.org
SUMMARY:CCT Skills Lab - Mod B
DESCRIPTION:CCT Skills Lab – Critical Care Transport Skills Lab \nModule B:     Pharmacology     CCT Trends/Special Topics: CCT Protocols/Transport Decisions     Skills Evaluation: Ventilator Management\, Oral Case Scenarious \nTo register for CCT Skills Lab Modules\, go to the pages below. \nCCT Skills Lab – MOD B
URL:https://www.ccems.org/event/cct-skills-lab-mod-b-2/
LOCATION:Cabell County EMS\, 846 8th Ave\, Huntington\, WV\, 25701\, United States
CATEGORIES:CCT,Skills Lab
ORGANIZER;CN="Training":MAILTO:Training@ccems.org
END:VEVENT
BEGIN:VEVENT
DTSTART;TZID=America/New_York:20170308T090000
DTEND;TZID=America/New_York:20170308T130000
DTSTAMP:20260424T143704
CREATED:20170315T140107Z
LAST-MODIFIED:20170315T140107Z
UID:3499-1488963600-1488978000@www.ccems.org
SUMMARY:CCT Skills Lab - Mod A
DESCRIPTION:CCT Skills Lab – Critical Care Transport Skills Lab \nModule A:  Invasive Monitoring Shock Management Skills Evaluation: Advanced Chest Decompression\, Surgical Airway CNS Neurological Management \nTo register for CCT Skills Lab Modules\, go to the pages below. \nCCT Skills Lab – MOD A
URL:https://www.ccems.org/event/cct-skills-lab-mod-3/
LOCATION:Cabell County EMS\, 846 8th Ave\, Huntington\, WV\, 25701\, United States
CATEGORIES:CCT,Skills Lab
END:VEVENT
BEGIN:VEVENT
DTSTART;TZID=America/New_York:20170307T090000
DTEND;TZID=America/New_York:20170307T130000
DTSTAMP:20260424T143704
CREATED:20170315T135952Z
LAST-MODIFIED:20170315T135952Z
UID:3497-1488877200-1488891600@www.ccems.org
SUMMARY:CCT Skills Lab - Mod A
DESCRIPTION:CCT Skills Lab – Critical Care Transport Skills Lab \nModule A:  Invasive Monitoring Shock Management Skills Evaluation: Advanced Chest Decompression\, Surgical Airway CNS Neurological Management \nTo register for CCT Skills Lab Modules\, go to the pages below. \nCCT Skills Lab – MOD A
URL:https://www.ccems.org/event/cct-skills-lab-mod-2/
LOCATION:Cabell County EMS\, 846 8th Ave\, Huntington\, WV\, 25701\, United States
CATEGORIES:CCT,Skills Lab
ORGANIZER;CN="Training":MAILTO:Training@ccems.org
END:VEVENT
BEGIN:VEVENT
DTSTART;TZID=America/New_York:20170306T090000
DTEND;TZID=America/New_York:20170306T130000
DTSTAMP:20260424T143704
CREATED:20170315T135730Z
LAST-MODIFIED:20170315T135730Z
UID:3495-1488790800-1488805200@www.ccems.org
SUMMARY:CCT Skills Lab - Mod A
DESCRIPTION:CCT Skills Lab – Critical Care Transport Skills Lab \nModule A:      Invasive Monitoring     Shock Management     Skills Evaluation: Advanced Chest Decompression\, Surgical Airway     CNS Neurological Management \nTo register for CCT Skills Lab Modules\, go to the pages below. \nCCT Skills Lab – MOD A
URL:https://www.ccems.org/event/cct-skills-lab-mod/
LOCATION:Cabell County EMS\, 846 8th Ave\, Huntington\, WV\, 25701\, United States
CATEGORIES:CCT,Skills Lab
ORGANIZER;CN="Training":MAILTO:Training@ccems.org
END:VEVENT
END:VCALENDAR