BEGIN:VCALENDAR
VERSION:2.0
PRODID:-//Cabell County Emergency Medical Services - ECPv6.15.10//NONSGML v1.0//EN
CALSCALE:GREGORIAN
METHOD:PUBLISH
X-WR-CALNAME:Cabell County Emergency Medical Services
X-ORIGINAL-URL:https://www.ccems.org
X-WR-CALDESC:Events for Cabell County Emergency Medical Services
REFRESH-INTERVAL;VALUE=DURATION:PT1H
X-Robots-Tag:noindex
X-PUBLISHED-TTL:PT1H
BEGIN:VTIMEZONE
TZID:America/Halifax
BEGIN:DAYLIGHT
TZOFFSETFROM:-0400
TZOFFSETTO:-0300
TZNAME:ADT
DTSTART:20140309T060000
END:DAYLIGHT
BEGIN:STANDARD
TZOFFSETFROM:-0300
TZOFFSETTO:-0400
TZNAME:AST
DTSTART:20141102T050000
END:STANDARD
BEGIN:DAYLIGHT
TZOFFSETFROM:-0400
TZOFFSETTO:-0300
TZNAME:ADT
DTSTART:20150308T060000
END:DAYLIGHT
BEGIN:STANDARD
TZOFFSETFROM:-0300
TZOFFSETTO:-0400
TZNAME:AST
DTSTART:20151101T050000
END:STANDARD
BEGIN:DAYLIGHT
TZOFFSETFROM:-0400
TZOFFSETTO:-0300
TZNAME:ADT
DTSTART:20160313T060000
END:DAYLIGHT
BEGIN:STANDARD
TZOFFSETFROM:-0300
TZOFFSETTO:-0400
TZNAME:AST
DTSTART:20161106T050000
END:STANDARD
END:VTIMEZONE
BEGIN:VEVENT
DTSTART;TZID=America/Halifax:20150407T090000
DTEND;TZID=America/Halifax:20150407T220000
DTSTAMP:20260425T202254
CREATED:20150401T201255Z
LAST-MODIFIED:20150401T201255Z
UID:755-1428397200-1428444000@www.ccems.org
SUMMARY:Safety Meeting
DESCRIPTION:The Next safety meeting will be Tuesday\, April 7 at 9 am.
URL:https://www.ccems.org/event/safety-meeting/
LOCATION:Cabell County EMS\, 846 8th Ave\, Huntington\, WV\, 25701\, United States
CATEGORIES:Saftey Commitee
END:VEVENT
BEGIN:VEVENT
DTSTART;TZID=America/Halifax:20150203T090000
DTEND;TZID=America/Halifax:20150203T170000
DTSTAMP:20260425T202254
CREATED:20150313T193147Z
LAST-MODIFIED:20150313T193147Z
UID:350-1422954000-1422982800@www.ccems.org
SUMMARY:Safety Committee Meeting
DESCRIPTION:Safety Committee Meeting
URL:https://www.ccems.org/event/safety-committee-meeting/
LOCATION:Cabell County EMS\, 846 8th Ave\, Huntington\, WV\, 25701\, United States
CATEGORIES:Saftey Commitee
END:VEVENT
END:VCALENDAR