BEGIN:VCALENDAR
VERSION:2.0
PRODID:-//Cabell County Emergency Medical Services - ECPv6.15.10//NONSGML v1.0//EN
CALSCALE:GREGORIAN
METHOD:PUBLISH
X-WR-CALNAME:Cabell County Emergency Medical Services
X-ORIGINAL-URL:https://www.ccems.org
X-WR-CALDESC:Events for Cabell County Emergency Medical Services
REFRESH-INTERVAL;VALUE=DURATION:PT1H
X-Robots-Tag:noindex
X-PUBLISHED-TTL:PT1H
BEGIN:VTIMEZONE
TZID:America/New_York
BEGIN:DAYLIGHT
TZOFFSETFROM:-0500
TZOFFSETTO:-0400
TZNAME:EDT
DTSTART:20160313T070000
END:DAYLIGHT
BEGIN:STANDARD
TZOFFSETFROM:-0400
TZOFFSETTO:-0500
TZNAME:EST
DTSTART:20161106T060000
END:STANDARD
BEGIN:DAYLIGHT
TZOFFSETFROM:-0500
TZOFFSETTO:-0400
TZNAME:EDT
DTSTART:20170312T070000
END:DAYLIGHT
BEGIN:STANDARD
TZOFFSETFROM:-0400
TZOFFSETTO:-0500
TZNAME:EST
DTSTART:20171105T060000
END:STANDARD
BEGIN:DAYLIGHT
TZOFFSETFROM:-0500
TZOFFSETTO:-0400
TZNAME:EDT
DTSTART:20180311T070000
END:DAYLIGHT
BEGIN:STANDARD
TZOFFSETFROM:-0400
TZOFFSETTO:-0500
TZNAME:EST
DTSTART:20181104T060000
END:STANDARD
BEGIN:DAYLIGHT
TZOFFSETFROM:-0500
TZOFFSETTO:-0400
TZNAME:EDT
DTSTART:20190310T070000
END:DAYLIGHT
BEGIN:STANDARD
TZOFFSETFROM:-0400
TZOFFSETTO:-0500
TZNAME:EST
DTSTART:20191103T060000
END:STANDARD
BEGIN:DAYLIGHT
TZOFFSETFROM:-0500
TZOFFSETTO:-0400
TZNAME:EDT
DTSTART:20200308T070000
END:DAYLIGHT
BEGIN:STANDARD
TZOFFSETFROM:-0400
TZOFFSETTO:-0500
TZNAME:EST
DTSTART:20201101T060000
END:STANDARD
BEGIN:DAYLIGHT
TZOFFSETFROM:-0500
TZOFFSETTO:-0400
TZNAME:EDT
DTSTART:20210314T070000
END:DAYLIGHT
BEGIN:STANDARD
TZOFFSETFROM:-0400
TZOFFSETTO:-0500
TZNAME:EST
DTSTART:20211107T060000
END:STANDARD
BEGIN:DAYLIGHT
TZOFFSETFROM:-0500
TZOFFSETTO:-0400
TZNAME:EDT
DTSTART:20220313T070000
END:DAYLIGHT
BEGIN:STANDARD
TZOFFSETFROM:-0400
TZOFFSETTO:-0500
TZNAME:EST
DTSTART:20221106T060000
END:STANDARD
BEGIN:DAYLIGHT
TZOFFSETFROM:-0500
TZOFFSETTO:-0400
TZNAME:EDT
DTSTART:20230312T070000
END:DAYLIGHT
BEGIN:STANDARD
TZOFFSETFROM:-0400
TZOFFSETTO:-0500
TZNAME:EST
DTSTART:20231105T060000
END:STANDARD
BEGIN:DAYLIGHT
TZOFFSETFROM:-0500
TZOFFSETTO:-0400
TZNAME:EDT
DTSTART:20240310T070000
END:DAYLIGHT
BEGIN:STANDARD
TZOFFSETFROM:-0400
TZOFFSETTO:-0500
TZNAME:EST
DTSTART:20241103T060000
END:STANDARD
END:VTIMEZONE
BEGIN:VEVENT
DTSTART;TZID=America/New_York:20230226T200000
DTEND;TZID=America/New_York:20230226T220000
DTSTAMP:20260424T051115
CREATED:20230213T165927Z
LAST-MODIFIED:20230213T165927Z
UID:5916-1677441600-1677448800@www.ccems.org
SUMMARY:2023 WV Protocol Update Inservice
DESCRIPTION:The state of West Virginia has released the ALS/BLS/AMT protocol updates and is ready for rollout.\nCabell County EMS training division will hold multiple in-services. This will count as a 2023 protocol update. A test will be given at a later date\, and I would like to remind everyone this test will require a 100% score for you to be able to continue to practice at your level of care. As of this time the deadline for the test is March 15\,2023.\nThe following dates and times are scheduled for the inservices/updates.\nEach employee is REQUIRED to attend only one of these sessions which will last approx. 2 hours. \n2/15/2023  13:00 hrs   A shift working\n2/18/2023  09:30 hrs   B shift working\n2/19/2023  16:00 hrs and 20:00 hrs    B shift working\n2/20/2023  14:00 hrs   A shift working\n2/22/2023  09:00 hrs and 20:00 hrs    B shift working\n2/26/2023 16:00 hrs\, 20:00 hrs and 22:00 hrs (if needed) A shift working.
URL:https://www.ccems.org/event/2023-wv-protocol-update-inservice-9/
LOCATION:Cabell County EMS\, 846 8th Ave\, Huntington\, WV\, 25701\, United States
CATEGORIES:ALS,AMT,BLS,Protocol Review,Protocols
ORGANIZER;CN="Training":MAILTO:Training@ccems.org
END:VEVENT
BEGIN:VEVENT
DTSTART;TZID=America/New_York:20230226T160000
DTEND;TZID=America/New_York:20230226T180000
DTSTAMP:20260424T051115
CREATED:20230213T165838Z
LAST-MODIFIED:20230213T165838Z
UID:5914-1677427200-1677434400@www.ccems.org
SUMMARY:2023 WV Protocol Update Inservice
DESCRIPTION:The state of West Virginia has released the ALS/BLS/AMT protocol updates and is ready for rollout.\nCabell County EMS training division will hold multiple in-services. This will count as a 2023 protocol update. A test will be given at a later date\, and I would like to remind everyone this test will require a 100% score for you to be able to continue to practice at your level of care. As of this time the deadline for the test is March 15\,2023.\nThe following dates and times are scheduled for the inservices/updates.\nEach employee is REQUIRED to attend only one of these sessions which will last approx. 2 hours. \n2/15/2023  13:00 hrs   A shift working\n2/18/2023  09:30 hrs   B shift working\n2/19/2023  16:00 hrs and 20:00 hrs    B shift working\n2/20/2023  14:00 hrs   A shift working\n2/22/2023  09:00 hrs and 20:00 hrs    B shift working\n2/26/2023 16:00 hrs\, 20:00 hrs and 22:00 hrs (if needed) A shift working.
URL:https://www.ccems.org/event/2023-wv-protocol-update-inservice-8/
LOCATION:Cabell County EMS\, 846 8th Ave\, Huntington\, WV\, 25701\, United States
CATEGORIES:ALS,AMT,BLS,Protocol Review,Protocols
ORGANIZER;CN="Training":MAILTO:Training@ccems.org
END:VEVENT
BEGIN:VEVENT
DTSTART;TZID=America/New_York:20230222T200000
DTEND;TZID=America/New_York:20230222T220000
DTSTAMP:20260424T051115
CREATED:20230213T165721Z
LAST-MODIFIED:20230213T165745Z
UID:5912-1677096000-1677103200@www.ccems.org
SUMMARY:2023 WV Protocol Update Inservice
DESCRIPTION:The state of West Virginia has released the ALS/BLS/AMT protocol updates and is ready for rollout.\nCabell County EMS training division will hold multiple in-services. This will count as a 2023 protocol update. A test will be given at a later date\, and I would like to remind everyone this test will require a 100% score for you to be able to continue to practice at your level of care. As of this time the deadline for the test is March 15\,2023.\nThe following dates and times are scheduled for the inservices/updates.\nEach employee is REQUIRED to attend only one of these sessions which will last approx. 2 hours. \n2/15/2023  13:00 hrs   A shift working\n2/18/2023  09:30 hrs   B shift working\n2/19/2023  16:00 hrs and 20:00 hrs    B shift working\n2/20/2023  14:00 hrs   A shift working\n2/22/2023  09:00 hrs and 20:00 hrs    B shift working\n2/26/2023 16:00 hrs\, 20:00 hrs and 22:00 hrs (if needed) A shift working.
URL:https://www.ccems.org/event/2023-wv-protocol-update-inservice-7/
LOCATION:Cabell County EMS\, 846 8th Ave\, Huntington\, WV\, 25701\, United States
CATEGORIES:ALS,AMT,BLS,Protocol Review,Protocols
ORGANIZER;CN="Training":MAILTO:Training@ccems.org
END:VEVENT
BEGIN:VEVENT
DTSTART;TZID=America/New_York:20230222T090000
DTEND;TZID=America/New_York:20230222T110000
DTSTAMP:20260424T051115
CREATED:20230213T165619Z
LAST-MODIFIED:20230213T165619Z
UID:5910-1677056400-1677063600@www.ccems.org
SUMMARY:2023 WV Protocol Update Inservice
DESCRIPTION:The state of West Virginia has released the ALS/BLS/AMT protocol updates and is ready for rollout.\nCabell County EMS training division will hold multiple in-services. This will count as a 2023 protocol update. A test will be given at a later date\, and I would like to remind everyone this test will require a 100% score for you to be able to continue to practice at your level of care. As of this time the deadline for the test is March 15\,2023.\nThe following dates and times are scheduled for the inservices/updates.\nEach employee is REQUIRED to attend only one of these sessions which will last approx. 2 hours. \n2/15/2023  13:00 hrs   A shift working\n2/18/2023  09:30 hrs   B shift working\n2/19/2023  16:00 hrs and 20:00 hrs    B shift working\n2/20/2023  14:00 hrs   A shift working\n2/22/2023  09:00 hrs and 20:00 hrs    B shift working\n2/26/2023 16:00 hrs\, 20:00 hrs and 22:00 hrs (if needed) A shift working.
URL:https://www.ccems.org/event/2023-wv-protocol-update-inservice-6/
LOCATION:Cabell County EMS\, 846 8th Ave\, Huntington\, WV\, 25701\, United States
CATEGORIES:ALS,AMT,BLS,Protocol Review,Protocols
ORGANIZER;CN="Training":MAILTO:Training@ccems.org
END:VEVENT
BEGIN:VEVENT
DTSTART;TZID=America/New_York:20230220T140000
DTEND;TZID=America/New_York:20230220T160000
DTSTAMP:20260424T051115
CREATED:20230213T165251Z
LAST-MODIFIED:20230213T165251Z
UID:5908-1676901600-1676908800@www.ccems.org
SUMMARY:2023 WV Protocol Update Inservice
DESCRIPTION:The state of West Virginia has released the ALS/BLS/AMT protocol updates and is ready for rollout.\nCabell County EMS training division will hold multiple in-services. This will count as a 2023 protocol update. A test will be given at a later date\, and I would like to remind everyone this test will require a 100% score for you to be able to continue to practice at your level of care. As of this time the deadline for the test is March 15\,2023.\nThe following dates and times are scheduled for the inservices/updates.\nEach employee is REQUIRED to attend only one of these sessions which will last approx. 2 hours. \n2/15/2023  13:00 hrs   A shift working\n2/18/2023  09:30 hrs   B shift working\n2/19/2023  16:00 hrs and 20:00 hrs    B shift working\n2/20/2023  14:00 hrs   A shift working\n2/22/2023  09:00 hrs and 20:00 hrs    B shift working\n2/26/2023 16:00 hrs\, 20:00 hrs and 22:00 hrs (if needed) A shift working.
URL:https://www.ccems.org/event/2023-wv-protocol-update-inservice-5/
LOCATION:Cabell County EMS\, 846 8th Ave\, Huntington\, WV\, 25701\, United States
CATEGORIES:ALS,AMT,BLS,Protocol Review,Protocols
ORGANIZER;CN="Training":MAILTO:Training@ccems.org
END:VEVENT
BEGIN:VEVENT
DTSTART;TZID=America/New_York:20230219T200000
DTEND;TZID=America/New_York:20230219T220000
DTSTAMP:20260424T051115
CREATED:20230213T165152Z
LAST-MODIFIED:20230213T170044Z
UID:5906-1676836800-1676844000@www.ccems.org
SUMMARY:2023 WV Protocol Update Inservice
DESCRIPTION:The state of West Virginia has released the ALS/BLS/AMT protocol updates and is ready for rollout.\nCabell County EMS training division will hold multiple in-services. This will count as a 2023 protocol update. A test will be given at a later date\, and I would like to remind everyone this test will require a 100% score for you to be able to continue to practice at your level of care. As of this time the deadline for the test is March 15\,2023.\nThe following dates and times are scheduled for the inservices/updates.\nEach employee is REQUIRED to attend only one of these sessions which will last approx. 2 hours. \n2/15/2023  13:00 hrs   A shift working\n2/18/2023  09:30 hrs   B shift working\n2/19/2023  16:00 hrs and 20:00 hrs    B shift working\n2/20/2023  14:00 hrs   A shift working\n2/22/2023  09:00 hrs and 20:00 hrs    B shift working\n2/26/2023 16:00 hrs\, 20:00 hrs and 22:00 hrs (if needed) A shift working.
URL:https://www.ccems.org/event/2023-wv-protocol-update-inservice-4/
LOCATION:Cabell County EMS\, 846 8th Ave\, Huntington\, WV\, 25701\, United States
CATEGORIES:ALS,AMT,BLS,Protocol Review,Protocols
ORGANIZER;CN="Training":MAILTO:Training@ccems.org
END:VEVENT
BEGIN:VEVENT
DTSTART;TZID=America/New_York:20230219T160000
DTEND;TZID=America/New_York:20230219T180000
DTSTAMP:20260424T051115
CREATED:20230213T165056Z
LAST-MODIFIED:20230213T165056Z
UID:5904-1676822400-1676829600@www.ccems.org
SUMMARY:2023 WV Protocol Update Inservice
DESCRIPTION:The state of West Virginia has released the ALS/BLS/AMT protocol updates and is ready for rollout.\nCabell County EMS training division will hold multiple in-services. This will count as a 2023 protocol update. A test will be given at a later date\, and I would like to remind everyone this test will require a 100% score for you to be able to continue to practice at your level of care. As of this time the deadline for the test is March 15\,2023.\nThe following dates and times are scheduled for the inservices/updates.\nEach employee is REQUIRED to attend only one of these sessions which will last approx. 2 hours. \n2/15/2023  13:00 hrs   A shift working\n2/18/2023  09:30 hrs   B shift working\n2/19/2023  16:00 hrs and 20:00 hrs    B shift working\n2/20/2023  14:00 hrs   A shift working\n2/22/2023  09:00 hrs and 20:00 hrs    B shift working\n2/26/2023 16:00 hrs\, 20:00 hrs and 22:00 hrs (if needed) A shift working.
URL:https://www.ccems.org/event/2023-wv-protocol-update-inservice-3/
LOCATION:Cabell County EMS\, 846 8th Ave\, Huntington\, WV\, 25701\, United States
CATEGORIES:ALS,AMT,BLS,Protocol Review,Protocols
ORGANIZER;CN="Training":MAILTO:Training@ccems.org
END:VEVENT
BEGIN:VEVENT
DTSTART;TZID=America/New_York:20230218T093000
DTEND;TZID=America/New_York:20230218T113000
DTSTAMP:20260424T051115
CREATED:20230213T164928Z
LAST-MODIFIED:20230213T164928Z
UID:5902-1676712600-1676719800@www.ccems.org
SUMMARY:2023 WV Protocol Update Inservice
DESCRIPTION:The state of West Virginia has released the ALS/BLS/AMT protocol updates and is ready for rollout.\nCabell County EMS training division will hold multiple in-services. This will count as a 2023 protocol update. A test will be given at a later date\, and I would like to remind everyone this test will require a 100% score for you to be able to continue to practice at your level of care. As of this time the deadline for the test is March 15\,2023.\nThe following dates and times are scheduled for the inservices/updates.\nEach employee is REQUIRED to attend only one of these sessions which will last approx. 2 hours. \n2/15/2023  13:00 hrs   A shift working\n2/18/2023  09:30 hrs   B shift working\n2/19/2023  16:00 hrs and 20:00 hrs    B shift working\n2/20/2023  14:00 hrs   A shift working\n2/22/2023  09:00 hrs and 20:00 hrs    B shift working\n2/26/2023 16:00 hrs\, 20:00 hrs and 22:00 hrs (if needed) A shift working.
URL:https://www.ccems.org/event/2023-wv-protocol-update-inservice-2/
LOCATION:Cabell County EMS\, 846 8th Ave\, Huntington\, WV\, 25701\, United States
CATEGORIES:ALS,AMT,BLS,Protocol Review,Protocols
ORGANIZER;CN="Training":MAILTO:Training@ccems.org
END:VEVENT
BEGIN:VEVENT
DTSTART;TZID=America/New_York:20180828T090000
DTEND;TZID=America/New_York:20180828T170000
DTSTAMP:20260424T051115
CREATED:20180115T221547Z
LAST-MODIFIED:20180115T221547Z
UID:3976-1535446800-1535475600@www.ccems.org
SUMMARY:ALS Protocol Review
DESCRIPTION:ALS – WV Protocol Review\nDuration: 1 day (4 hours)\nTime: Varies by date \nLocation: CCEMS Headquarters  – 846 8th Ave\, Huntington\, WV 25701\nCost: $35.00\nA 4 hour WV Protocol refresher is now required for any WV recertification- EMT or Paramedic.\nPlease plan to attend one of the sessions if you are due to recertify in 2018 or 2019. \nWe will hold multiple sessions at CCEMS Headquarters on the following dates: \nAug. 28\, 2018\nAug. 29\, 2018\nAug. 30\,2018 \nClick here register for the MCI Refresher Course.
URL:https://www.ccems.org/event/als-protocol-review-6/
LOCATION:Cabell County EMS\, 846 8th Ave\, Huntington\, WV\, 25701\, United States
CATEGORIES:ALS,Protocol Review
ORGANIZER;CN="Training":MAILTO:Training@ccems.org
END:VEVENT
BEGIN:VEVENT
DTSTART;TZID=America/New_York:20170922T090000
DTEND;TZID=America/New_York:20170922T130000
DTSTAMP:20260424T051115
CREATED:20170314T131626Z
LAST-MODIFIED:20170314T131626Z
UID:3449-1506070800-1506085200@www.ccems.org
SUMMARY:BLS Protocol Review
DESCRIPTION:Any employee with a certification expiration date of 12/31/17 or 3/31/18 must attend one 4 hour protocol review while not on duty. \nClick here to register for class
URL:https://www.ccems.org/event/bls-protocol-review-6/
LOCATION:Cabell County EMS\, 846 8th Ave\, Huntington\, WV\, 25701\, United States
CATEGORIES:BLS,Protocol Review
ORGANIZER;CN="Training":MAILTO:Training@ccems.org
END:VEVENT
BEGIN:VEVENT
DTSTART;TZID=America/New_York:20170921T090000
DTEND;TZID=America/New_York:20170921T130000
DTSTAMP:20260424T051116
CREATED:20170314T130416Z
LAST-MODIFIED:20170314T130416Z
UID:3447-1505984400-1505998800@www.ccems.org
SUMMARY:BLS Protocol Review
DESCRIPTION:Any employee with a certification expiration date of 12/31/17 or 3/31/18 must attend one 4 hour protocol review while not on duty. \nClick here to register for class
URL:https://www.ccems.org/event/bls-protocol-review-5/
LOCATION:Cabell County EMS\, 846 8th Ave\, Huntington\, WV\, 25701\, United States
CATEGORIES:BLS,Protocol Review
ORGANIZER;CN="Training":MAILTO:Training@ccems.org
END:VEVENT
BEGIN:VEVENT
DTSTART;TZID=America/New_York:20170908T090000
DTEND;TZID=America/New_York:20170908T130000
DTSTAMP:20260424T051116
CREATED:20170314T125943Z
LAST-MODIFIED:20170314T125943Z
UID:3441-1504861200-1504875600@www.ccems.org
SUMMARY:ALS Protocol Review
DESCRIPTION:Any employee with a certification expiration date of 12/31/17 or 3/31/18 must attend one 4 hour protocol review while not on duty. \nClick here to register for class
URL:https://www.ccems.org/event/als-protocol-review-5/
LOCATION:Cabell County EMS\, 846 8th Ave\, Huntington\, WV\, 25701\, United States
CATEGORIES:Protocol Review
ORGANIZER;CN="Training":MAILTO:Training@ccems.org
END:VEVENT
BEGIN:VEVENT
DTSTART;TZID=America/New_York:20170907T090000
DTEND;TZID=America/New_York:20170907T130000
DTSTAMP:20260424T051116
CREATED:20170314T125652Z
LAST-MODIFIED:20170314T125652Z
UID:3436-1504774800-1504789200@www.ccems.org
SUMMARY:ALS Protocol Review
DESCRIPTION:Any employee with a certification expiration date of 12/31/17 or 3/31/18 must attend one 4 hour protocol review while not on duty. \nClick here to register for class \n 
URL:https://www.ccems.org/event/als-protocol-review-4/
LOCATION:Cabell County EMS\, 846 8th Ave\, Huntington\, WV\, 25701\, United States
CATEGORIES:ALS,Protocol Review
ORGANIZER;CN="Training":MAILTO:Training@ccems.org
END:VEVENT
BEGIN:VEVENT
DTSTART;TZID=America/New_York:20170901T090000
DTEND;TZID=America/New_York:20170901T130000
DTSTAMP:20260424T051116
CREATED:20170314T125543Z
LAST-MODIFIED:20170314T125543Z
UID:3434-1504256400-1504270800@www.ccems.org
SUMMARY:ALS Protocol Review
DESCRIPTION:Any employee with a certification expiration date of 12/31/17 or 3/31/18 must attend one 4 hour protocol review while not on duty. \nClick here to register for class
URL:https://www.ccems.org/event/als-protocol-review-2/
LOCATION:Cabell County EMS\, 846 8th Ave\, Huntington\, WV\, 25701\, United States
CATEGORIES:ALS,Protocol Review
ORGANIZER;CN="Training":MAILTO:Training@ccems.org
END:VEVENT
BEGIN:VEVENT
DTSTART;TZID=America/New_York:20170829T090000
DTEND;TZID=America/New_York:20170829T130000
DTSTAMP:20260424T051116
CREATED:20170314T130138Z
LAST-MODIFIED:20170314T130138Z
UID:3443-1503997200-1504011600@www.ccems.org
SUMMARY:BLS Protocol Review
DESCRIPTION:Any employee with a certification expiration date of 12/31/17 or 3/31/18 must attend one 4 hour protocol review while not on duty. \nClick here to register for class
URL:https://www.ccems.org/event/bls-protocol-review-4/
LOCATION:Cabell County EMS\, 846 8th Ave\, Huntington\, WV\, 25701\, United States
CATEGORIES:BLS,Protocol Review
ORGANIZER;CN="Training":MAILTO:Training@ccems.org
END:VEVENT
END:VCALENDAR