BEGIN:VCALENDAR
VERSION:2.0
PRODID:-//Cabell County Emergency Medical Services - ECPv6.15.10//NONSGML v1.0//EN
CALSCALE:GREGORIAN
METHOD:PUBLISH
X-WR-CALNAME:Cabell County Emergency Medical Services
X-ORIGINAL-URL:https://www.ccems.org
X-WR-CALDESC:Events for Cabell County Emergency Medical Services
REFRESH-INTERVAL;VALUE=DURATION:PT1H
X-Robots-Tag:noindex
X-PUBLISHED-TTL:PT1H
BEGIN:VTIMEZONE
TZID:America/New_York
BEGIN:DAYLIGHT
TZOFFSETFROM:-0500
TZOFFSETTO:-0400
TZNAME:EDT
DTSTART:20170312T070000
END:DAYLIGHT
BEGIN:STANDARD
TZOFFSETFROM:-0400
TZOFFSETTO:-0500
TZNAME:EST
DTSTART:20171105T060000
END:STANDARD
BEGIN:DAYLIGHT
TZOFFSETFROM:-0500
TZOFFSETTO:-0400
TZNAME:EDT
DTSTART:20180311T070000
END:DAYLIGHT
BEGIN:STANDARD
TZOFFSETFROM:-0400
TZOFFSETTO:-0500
TZNAME:EST
DTSTART:20181104T060000
END:STANDARD
BEGIN:DAYLIGHT
TZOFFSETFROM:-0500
TZOFFSETTO:-0400
TZNAME:EDT
DTSTART:20190310T070000
END:DAYLIGHT
BEGIN:STANDARD
TZOFFSETFROM:-0400
TZOFFSETTO:-0500
TZNAME:EST
DTSTART:20191103T060000
END:STANDARD
BEGIN:DAYLIGHT
TZOFFSETFROM:-0500
TZOFFSETTO:-0400
TZNAME:EDT
DTSTART:20200308T070000
END:DAYLIGHT
BEGIN:STANDARD
TZOFFSETFROM:-0400
TZOFFSETTO:-0500
TZNAME:EST
DTSTART:20201101T060000
END:STANDARD
BEGIN:DAYLIGHT
TZOFFSETFROM:-0500
TZOFFSETTO:-0400
TZNAME:EDT
DTSTART:20210314T070000
END:DAYLIGHT
BEGIN:STANDARD
TZOFFSETFROM:-0400
TZOFFSETTO:-0500
TZNAME:EST
DTSTART:20211107T060000
END:STANDARD
BEGIN:DAYLIGHT
TZOFFSETFROM:-0500
TZOFFSETTO:-0400
TZNAME:EDT
DTSTART:20220313T070000
END:DAYLIGHT
BEGIN:STANDARD
TZOFFSETFROM:-0400
TZOFFSETTO:-0500
TZNAME:EST
DTSTART:20221106T060000
END:STANDARD
BEGIN:DAYLIGHT
TZOFFSETFROM:-0500
TZOFFSETTO:-0400
TZNAME:EDT
DTSTART:20230312T070000
END:DAYLIGHT
BEGIN:STANDARD
TZOFFSETFROM:-0400
TZOFFSETTO:-0500
TZNAME:EST
DTSTART:20231105T060000
END:STANDARD
BEGIN:DAYLIGHT
TZOFFSETFROM:-0500
TZOFFSETTO:-0400
TZNAME:EDT
DTSTART:20240310T070000
END:DAYLIGHT
BEGIN:STANDARD
TZOFFSETFROM:-0400
TZOFFSETTO:-0500
TZNAME:EST
DTSTART:20241103T060000
END:STANDARD
BEGIN:DAYLIGHT
TZOFFSETFROM:-0500
TZOFFSETTO:-0400
TZNAME:EDT
DTSTART:20250309T070000
END:DAYLIGHT
BEGIN:STANDARD
TZOFFSETFROM:-0400
TZOFFSETTO:-0500
TZNAME:EST
DTSTART:20251102T060000
END:STANDARD
BEGIN:DAYLIGHT
TZOFFSETFROM:-0500
TZOFFSETTO:-0400
TZNAME:EDT
DTSTART:20260308T070000
END:DAYLIGHT
BEGIN:STANDARD
TZOFFSETFROM:-0400
TZOFFSETTO:-0500
TZNAME:EST
DTSTART:20261101T060000
END:STANDARD
END:VTIMEZONE
BEGIN:VTIMEZONE
TZID:UTC
BEGIN:STANDARD
TZOFFSETFROM:+0000
TZOFFSETTO:+0000
TZNAME:UTC
DTSTART:20150101T000000
END:STANDARD
END:VTIMEZONE
BEGIN:VTIMEZONE
TZID:America/Halifax
BEGIN:DAYLIGHT
TZOFFSETFROM:-0400
TZOFFSETTO:-0300
TZNAME:ADT
DTSTART:20140309T060000
END:DAYLIGHT
BEGIN:STANDARD
TZOFFSETFROM:-0300
TZOFFSETTO:-0400
TZNAME:AST
DTSTART:20141102T050000
END:STANDARD
BEGIN:DAYLIGHT
TZOFFSETFROM:-0400
TZOFFSETTO:-0300
TZNAME:ADT
DTSTART:20150308T060000
END:DAYLIGHT
BEGIN:STANDARD
TZOFFSETFROM:-0300
TZOFFSETTO:-0400
TZNAME:AST
DTSTART:20151101T050000
END:STANDARD
BEGIN:DAYLIGHT
TZOFFSETFROM:-0400
TZOFFSETTO:-0300
TZNAME:ADT
DTSTART:20160313T060000
END:DAYLIGHT
BEGIN:STANDARD
TZOFFSETFROM:-0300
TZOFFSETTO:-0400
TZNAME:AST
DTSTART:20161106T050000
END:STANDARD
END:VTIMEZONE
BEGIN:VEVENT
DTSTART;TZID=America/New_York:20250916T090000
DTEND;TZID=America/New_York:20250916T170000
DTSTAMP:20260424T051121
CREATED:20211217T143151Z
LAST-MODIFIED:20241219T211505Z
UID:5449-1758013200-1758042000@www.ccems.org
SUMMARY:ITLS – International Trauma Life Support
DESCRIPTION:ITLS – International Trauma Life Support\nDuration: 8 hour course\nCost: $125.00\nITLS Hybrid class is offered with a required online component and completion of pretest\, with passing score\,  prior to class. \nITLS courses improve the quality of trauma care in your area and decrease mortality. The program is based on a prehospital trauma care philosophy\, stressing the treatment of the multi-system trauma patient as a unique entity with specific needs. This may require an approach to the trauma patient that varies from traditional treatment modalities. ITLS promotes critical thinking as the foundation for providing quality care. It is based on the belief that\, given a good fund of knowledge and key principles\, EMS practitioners are capable of making reasoned decisions regarding patient care.
URL:https://www.ccems.org/event/phtls-pre-hospital-trauma-life-support/
LOCATION:Cabell County EMS\, 846 8th Ave\, Huntington\, WV\, 25701\, United States
CATEGORIES:PHTLS
END:VEVENT
BEGIN:VEVENT
DTSTART;TZID=America/New_York:20250812T090000
DTEND;TZID=America/New_York:20250812T170000
DTSTAMP:20260424T051121
CREATED:20211217T143247Z
LAST-MODIFIED:20241219T211525Z
UID:5453-1754989200-1755018000@www.ccems.org
SUMMARY:ITLS – International Trauma Life Support
DESCRIPTION:ITLS – International Trauma Life Support\nDuration: 8 hour course\nCost: $125.00\nITLS Hybrid class is offered with a required online component and completion of pretest\, with passing score\,  prior to class. \nITLS courses improve the quality of trauma care in your area and decrease mortality. The program is based on a prehospital trauma care philosophy\, stressing the treatment of the multi-system trauma patient as a unique entity with specific needs. This may require an approach to the trauma patient that varies from traditional treatment modalities. ITLS promotes critical thinking as the foundation for providing quality care. It is based on the belief that\, given a good fund of knowledge and key principles\, EMS practitioners are capable of making reasoned decisions regarding patient care.
URL:https://www.ccems.org/event/phtls-pre-hospital-trauma-life-support-2/
LOCATION:Cabell County EMS\, 846 8th Ave\, Huntington\, WV\, 25701\, United States
CATEGORIES:PHTLS
END:VEVENT
BEGIN:VEVENT
DTSTART;TZID=America/New_York:20240214T090000
DTEND;TZID=America/New_York:20240214T170000
DTSTAMP:20260424T051121
CREATED:20211217T143341Z
LAST-MODIFIED:20231221T153705Z
UID:5455-1707901200-1707930000@www.ccems.org
SUMMARY:ITLS – International Trauma Life Support
DESCRIPTION:ITLS – International Trauma Life Support\nDuration: 8 hour course\nCost: $125.00\nITLS Hybrid class is offered with a required online component and completion of pretest\, with passing score\,  prior to class. \nITLS courses improve the quality of trauma care in your area and decrease mortality. The program is based on a prehospital trauma care philosophy\, stressing the treatment of the multi-system trauma patient as a unique entity with specific needs. This may require an approach to the trauma patient that varies from traditional treatment modalities. ITLS promotes critical thinking as the foundation for providing quality care. It is based on the belief that\, given a good fund of knowledge and key principles\, EMS practitioners are capable of making reasoned decisions regarding patient care.
URL:https://www.ccems.org/event/phtls-pre-hospital-trauma-life-support-3/
LOCATION:Cabell County EMS\, 846 8th Ave\, Huntington\, WV\, 25701\, United States
CATEGORIES:PHTLS
END:VEVENT
BEGIN:VEVENT
DTSTART;TZID=America/New_York:20191016T090000
DTEND;TZID=America/New_York:20191016T170000
DTSTAMP:20260424T051121
CREATED:20190514T180652Z
LAST-MODIFIED:20190514T180652Z
UID:4634-1571216400-1571245200@www.ccems.org
SUMMARY:PHTLS
DESCRIPTION:PHTLS – Pre-Hospital Trauma Life Support\nDuration: 8 Hour Course\nCost: $125.00 \nTime: 9am-5pm\nDates: Jun 30\, 2019\nOct 16\, 2019
URL:https://www.ccems.org/event/phtls-25/
LOCATION:Cabell County EMS\, 846 8th Ave\, Huntington\, WV\, 25701\, United States
CATEGORIES:PHTLS
END:VEVENT
BEGIN:VEVENT
DTSTART;TZID=America/New_York:20190730T090000
DTEND;TZID=America/New_York:20190730T170000
DTSTAMP:20260424T051121
CREATED:20190514T173126Z
LAST-MODIFIED:20190514T173126Z
UID:4632-1564477200-1564506000@www.ccems.org
SUMMARY:PHTLS
DESCRIPTION:PHTLS – Pre-Hospital Trauma Life Support\nDuration: 8 Hour Course\nCost: $125.00 \nTime: 9am-5pm\nDates: Jun 30\, 2019\nOct 16\, 2019
URL:https://www.ccems.org/event/phtls-24/
LOCATION:Cabell County EMS\, 846 8th Ave\, Huntington\, WV\, 25701\, United States
CATEGORIES:PHTLS
END:VEVENT
BEGIN:VEVENT
DTSTART;TZID=America/New_York:20180726T090000
DTEND;TZID=America/New_York:20180726T170000
DTSTAMP:20260424T051121
CREATED:20180115T215746Z
LAST-MODIFIED:20180115T215746Z
UID:3964-1532595600-1532624400@www.ccems.org
SUMMARY:PHTLS
DESCRIPTION:PHTLS – Pre-Hospital Trauma Life Support\nDuration: 2 Day Course\nCost: $125.00\nDates: July 24 & 26\, 2018\nTime: 9am-5pm\n*Must attend both dates
URL:https://www.ccems.org/event/phtls-22/
LOCATION:WV
CATEGORIES:PHTLS
END:VEVENT
BEGIN:VEVENT
DTSTART;TZID=UTC:20160219T090000
DTEND;TZID=UTC:20160219T170000
DTSTAMP:20260424T051121
CREATED:20160109T002742Z
LAST-MODIFIED:20160109T002742Z
UID:1701-1455872400-1455901200@www.ccems.org
SUMMARY:PHTLS
DESCRIPTION:PHTLS – Pre Hospital Trauma Life Support\nContact the training department for more information.
URL:https://www.ccems.org/event/phtls-10/
LOCATION:Cabell County EMS\, 846 8th Ave\, Huntington\, WV\, 25701\, United States
CATEGORIES:PHTLS
ORGANIZER;CN="Training":MAILTO:Training@ccems.org
END:VEVENT
BEGIN:VEVENT
DTSTART;TZID=UTC:20160217T090000
DTEND;TZID=UTC:20160217T170000
DTSTAMP:20260424T051121
CREATED:20160109T002706Z
LAST-MODIFIED:20160109T002706Z
UID:1700-1455699600-1455728400@www.ccems.org
SUMMARY:PHTLS
DESCRIPTION:PHTLS – Pre Hospital Trauma Life Support\nContact the training department for more information.
URL:https://www.ccems.org/event/phtls-9/
LOCATION:Cabell County EMS\, 846 8th Ave\, Huntington\, WV\, 25701\, United States
CATEGORIES:PHTLS
ORGANIZER;CN="Training":MAILTO:Training@ccems.org
END:VEVENT
BEGIN:VEVENT
DTSTART;TZID=America/Halifax:20151007T090000
DTEND;TZID=America/Halifax:20151007T170000
DTSTAMP:20260424T051121
CREATED:20150514T002207Z
LAST-MODIFIED:20150514T002207Z
UID:998-1444208400-1444237200@www.ccems.org
SUMMARY:PHTLS
DESCRIPTION:PHTLS – Pre Hospital Trauma Life Support\nContact the training department for more information.
URL:https://www.ccems.org/event/phtls-8/
LOCATION:Cabell County EMS\, 846 8th Ave\, Huntington\, WV\, 25701\, United States
CATEGORIES:PHTLS
ORGANIZER;CN="Training":MAILTO:Training@ccems.org
END:VEVENT
BEGIN:VEVENT
DTSTART;TZID=America/Halifax:20151005T090000
DTEND;TZID=America/Halifax:20151005T170000
DTSTAMP:20260424T051121
CREATED:20150514T002134Z
LAST-MODIFIED:20150514T002134Z
UID:997-1444035600-1444064400@www.ccems.org
SUMMARY:PHTLS
DESCRIPTION:PHTLS – Pre Hospital Trauma Life Support\nContact the training department for more information.
URL:https://www.ccems.org/event/phtls-7/
LOCATION:Cabell County EMS\, 846 8th Ave\, Huntington\, WV\, 25701\, United States
CATEGORIES:PHTLS
ORGANIZER;CN="Training":MAILTO:Training@ccems.org
END:VEVENT
BEGIN:VEVENT
DTSTART;TZID=America/Halifax:20150911T090000
DTEND;TZID=America/Halifax:20150911T170000
DTSTAMP:20260424T051121
CREATED:20150313T231736Z
LAST-MODIFIED:20150313T231923Z
UID:403-1441962000-1441990800@www.ccems.org
SUMMARY:PHTLS
DESCRIPTION:PHTLS – Pre Hospital Trauma Life Support\nContact the training department for more information.
URL:https://www.ccems.org/event/phtls-6/
LOCATION:Cabell County EMS\, 846 8th Ave\, Huntington\, WV\, 25701\, United States
CATEGORIES:PHTLS
ORGANIZER;CN="Training":MAILTO:Training@ccems.org
END:VEVENT
BEGIN:VEVENT
DTSTART;TZID=America/Halifax:20150909T090000
DTEND;TZID=America/Halifax:20150909T170000
DTSTAMP:20260424T051121
CREATED:20150313T231653Z
LAST-MODIFIED:20150313T231653Z
UID:402-1441789200-1441818000@www.ccems.org
SUMMARY:PHTLS
DESCRIPTION:PHTLS – Pre Hospital Trauma Life Support\nContact the training department for more information.
URL:https://www.ccems.org/event/phtls-5/
LOCATION:Cabell County EMS\, 846 8th Ave\, Huntington\, WV\, 25701\, United States
CATEGORIES:PHTLS
ORGANIZER;CN="Training":MAILTO:Training@ccems.org
END:VEVENT
BEGIN:VEVENT
DTSTART;TZID=America/Halifax:20150206T090000
DTEND;TZID=America/Halifax:20150206T170000
DTSTAMP:20260424T051121
CREATED:20150313T193420Z
LAST-MODIFIED:20150313T201048Z
UID:354-1423213200-1423242000@www.ccems.org
SUMMARY:PHTLS
DESCRIPTION:PHTLS – Pre Hospital Trauma Life Support
URL:https://www.ccems.org/event/phtls-2/
LOCATION:Cabell County EMS\, 846 8th Ave\, Huntington\, WV\, 25701\, United States
CATEGORIES:PHTLS
ORGANIZER;CN="Training":MAILTO:Training@ccems.org
END:VEVENT
BEGIN:VEVENT
DTSTART;TZID=America/Halifax:20150204T090000
DTEND;TZID=America/Halifax:20150204T170000
DTSTAMP:20260424T051121
CREATED:20150313T193235Z
LAST-MODIFIED:20150313T200945Z
UID:352-1423040400-1423069200@www.ccems.org
SUMMARY:PHTLS
DESCRIPTION:PHTLS – Pre Hospital Trauma Life Support
URL:https://www.ccems.org/event/phtls/
LOCATION:Cabell County EMS\, 846 8th Ave\, Huntington\, WV\, 25701\, United States
CATEGORIES:PHTLS
ORGANIZER;CN="Training":MAILTO:Training@ccems.org
END:VEVENT
BEGIN:VEVENT
DTSTART;TZID=America/Halifax:20150116T090000
DTEND;TZID=America/Halifax:20150116T170000
DTSTAMP:20260424T051121
CREATED:20150313T203102Z
LAST-MODIFIED:20150313T203102Z
UID:372-1421398800-1421427600@www.ccems.org
SUMMARY:PHTLS
DESCRIPTION:PHTLS – Pre Hospital Trauma Life Support\nContact the training department for more information.
URL:https://www.ccems.org/event/phtls-4/
LOCATION:Cabell County EMS\, 846 8th Ave\, Huntington\, WV\, 25701\, United States
CATEGORIES:PHTLS
ORGANIZER;CN="Training":MAILTO:Training@ccems.org
END:VEVENT
BEGIN:VEVENT
DTSTART;TZID=America/Halifax:20150114T090000
DTEND;TZID=America/Halifax:20150114T170000
DTSTAMP:20260424T051121
CREATED:20150313T203019Z
LAST-MODIFIED:20150313T203019Z
UID:371-1421226000-1421254800@www.ccems.org
SUMMARY:PHTLS
DESCRIPTION:PHTLS – Pre Hospital Trauma Life Support\nContact the training department for more information.
URL:https://www.ccems.org/event/phtls-3/
LOCATION:Cabell County EMS\, 846 8th Ave\, Huntington\, WV\, 25701\, United States
CATEGORIES:PHTLS
ORGANIZER;CN="Training":MAILTO:Training@ccems.org
END:VEVENT
END:VCALENDAR