BEGIN:VCALENDAR
VERSION:2.0
PRODID:-//Cabell County Emergency Medical Services - ECPv6.15.10//NONSGML v1.0//EN
CALSCALE:GREGORIAN
METHOD:PUBLISH
X-ORIGINAL-URL:https://www.ccems.org
X-WR-CALDESC:Events for Cabell County Emergency Medical Services
REFRESH-INTERVAL;VALUE=DURATION:PT1H
X-Robots-Tag:noindex
X-PUBLISHED-TTL:PT1H
BEGIN:VTIMEZONE
TZID:America/Halifax
BEGIN:DAYLIGHT
TZOFFSETFROM:-0400
TZOFFSETTO:-0300
TZNAME:ADT
DTSTART:20230312T060000
END:DAYLIGHT
BEGIN:STANDARD
TZOFFSETFROM:-0300
TZOFFSETTO:-0400
TZNAME:AST
DTSTART:20231105T050000
END:STANDARD
BEGIN:DAYLIGHT
TZOFFSETFROM:-0400
TZOFFSETTO:-0300
TZNAME:ADT
DTSTART:20240310T060000
END:DAYLIGHT
BEGIN:STANDARD
TZOFFSETFROM:-0300
TZOFFSETTO:-0400
TZNAME:AST
DTSTART:20241103T050000
END:STANDARD
BEGIN:DAYLIGHT
TZOFFSETFROM:-0400
TZOFFSETTO:-0300
TZNAME:ADT
DTSTART:20250309T060000
END:DAYLIGHT
BEGIN:STANDARD
TZOFFSETFROM:-0300
TZOFFSETTO:-0400
TZNAME:AST
DTSTART:20251102T050000
END:STANDARD
BEGIN:DAYLIGHT
TZOFFSETFROM:-0400
TZOFFSETTO:-0300
TZNAME:ADT
DTSTART:20260308T060000
END:DAYLIGHT
BEGIN:STANDARD
TZOFFSETFROM:-0300
TZOFFSETTO:-0400
TZNAME:AST
DTSTART:20261101T050000
END:STANDARD
BEGIN:DAYLIGHT
TZOFFSETFROM:-0400
TZOFFSETTO:-0300
TZNAME:ADT
DTSTART:20270314T060000
END:DAYLIGHT
BEGIN:STANDARD
TZOFFSETFROM:-0300
TZOFFSETTO:-0400
TZNAME:AST
DTSTART:20271107T050000
END:STANDARD
END:VTIMEZONE
BEGIN:VTIMEZONE
TZID:America/New_York
BEGIN:DAYLIGHT
TZOFFSETFROM:-0500
TZOFFSETTO:-0400
TZNAME:EDT
DTSTART:20170312T070000
END:DAYLIGHT
BEGIN:STANDARD
TZOFFSETFROM:-0400
TZOFFSETTO:-0500
TZNAME:EST
DTSTART:20171105T060000
END:STANDARD
BEGIN:DAYLIGHT
TZOFFSETFROM:-0500
TZOFFSETTO:-0400
TZNAME:EDT
DTSTART:20180311T070000
END:DAYLIGHT
BEGIN:STANDARD
TZOFFSETFROM:-0400
TZOFFSETTO:-0500
TZNAME:EST
DTSTART:20181104T060000
END:STANDARD
BEGIN:DAYLIGHT
TZOFFSETFROM:-0500
TZOFFSETTO:-0400
TZNAME:EDT
DTSTART:20190310T070000
END:DAYLIGHT
BEGIN:STANDARD
TZOFFSETFROM:-0400
TZOFFSETTO:-0500
TZNAME:EST
DTSTART:20191103T060000
END:STANDARD
BEGIN:DAYLIGHT
TZOFFSETFROM:-0500
TZOFFSETTO:-0400
TZNAME:EDT
DTSTART:20200308T070000
END:DAYLIGHT
BEGIN:STANDARD
TZOFFSETFROM:-0400
TZOFFSETTO:-0500
TZNAME:EST
DTSTART:20201101T060000
END:STANDARD
BEGIN:DAYLIGHT
TZOFFSETFROM:-0500
TZOFFSETTO:-0400
TZNAME:EDT
DTSTART:20210314T070000
END:DAYLIGHT
BEGIN:STANDARD
TZOFFSETFROM:-0400
TZOFFSETTO:-0500
TZNAME:EST
DTSTART:20211107T060000
END:STANDARD
BEGIN:DAYLIGHT
TZOFFSETFROM:-0500
TZOFFSETTO:-0400
TZNAME:EDT
DTSTART:20220313T070000
END:DAYLIGHT
BEGIN:STANDARD
TZOFFSETFROM:-0400
TZOFFSETTO:-0500
TZNAME:EST
DTSTART:20221106T060000
END:STANDARD
BEGIN:DAYLIGHT
TZOFFSETFROM:-0500
TZOFFSETTO:-0400
TZNAME:EDT
DTSTART:20230312T070000
END:DAYLIGHT
BEGIN:STANDARD
TZOFFSETFROM:-0400
TZOFFSETTO:-0500
TZNAME:EST
DTSTART:20231105T060000
END:STANDARD
BEGIN:DAYLIGHT
TZOFFSETFROM:-0500
TZOFFSETTO:-0400
TZNAME:EDT
DTSTART:20240310T070000
END:DAYLIGHT
BEGIN:STANDARD
TZOFFSETFROM:-0400
TZOFFSETTO:-0500
TZNAME:EST
DTSTART:20241103T060000
END:STANDARD
BEGIN:DAYLIGHT
TZOFFSETFROM:-0500
TZOFFSETTO:-0400
TZNAME:EDT
DTSTART:20250309T070000
END:DAYLIGHT
BEGIN:STANDARD
TZOFFSETFROM:-0400
TZOFFSETTO:-0500
TZNAME:EST
DTSTART:20251102T060000
END:STANDARD
BEGIN:DAYLIGHT
TZOFFSETFROM:-0500
TZOFFSETTO:-0400
TZNAME:EDT
DTSTART:20260308T070000
END:DAYLIGHT
BEGIN:STANDARD
TZOFFSETFROM:-0400
TZOFFSETTO:-0500
TZNAME:EST
DTSTART:20261101T060000
END:STANDARD
END:VTIMEZONE
BEGIN:VTIMEZONE
TZID:UTC
BEGIN:STANDARD
TZOFFSETFROM:+0000
TZOFFSETTO:+0000
TZNAME:UTC
DTSTART:20150101T000000
END:STANDARD
END:VTIMEZONE
BEGIN:VTIMEZONE
TZID:America/Halifax
BEGIN:DAYLIGHT
TZOFFSETFROM:-0400
TZOFFSETTO:-0300
TZNAME:ADT
DTSTART:20140309T060000
END:DAYLIGHT
BEGIN:STANDARD
TZOFFSETFROM:-0300
TZOFFSETTO:-0400
TZNAME:AST
DTSTART:20141102T050000
END:STANDARD
BEGIN:DAYLIGHT
TZOFFSETFROM:-0400
TZOFFSETTO:-0300
TZNAME:ADT
DTSTART:20150308T060000
END:DAYLIGHT
BEGIN:STANDARD
TZOFFSETFROM:-0300
TZOFFSETTO:-0400
TZNAME:AST
DTSTART:20151101T050000
END:STANDARD
BEGIN:DAYLIGHT
TZOFFSETFROM:-0400
TZOFFSETTO:-0300
TZNAME:ADT
DTSTART:20160313T060000
END:DAYLIGHT
BEGIN:STANDARD
TZOFFSETFROM:-0300
TZOFFSETTO:-0400
TZNAME:AST
DTSTART:20161106T050000
END:STANDARD
END:VTIMEZONE
BEGIN:VEVENT
DTSTART;TZID=America/Halifax:20260127T090000
DTEND;TZID=America/Halifax:20260127T170000
DTSTAMP:20260423T212646
CREATED:20231220T185426Z
LAST-MODIFIED:20260116T212449Z
UID:6136-1769504400-1769533200@www.ccems.org
SUMMARY:PEPP – Pediatric Education for Prehospital Professionals
DESCRIPTION:PEPP – Pediatric Education for Prehospital Professionals\nDuration: 8 Hour Course\nCost: $125.00\nPEPP Hybrid class is offered with a required online component and  completion of pretest prior to class. \nPediatric Education for Prehospital Professionals represents a comprehensive source of prehospital medical information for the emergency care of infants and children. PEPP is designed to give prehospital professionals the education\, skills\, and confidence they need to effectively treat pediatric patients. Developed by the American Academy of Pediatrics\, PEPP specifically teaches prehospital professionals how to better assess and manage ill or injured children.
URL:https://www.ccems.org/event/pepp-pediatric-education-for-prehospital-professionals-6/
LOCATION:Cabell County EMS\, 846 8th Ave\, Huntington\, WV\, 25701\, United States
CATEGORIES:PEPP
END:VEVENT
BEGIN:VEVENT
DTSTART;TZID=America/New_York:20250923T090000
DTEND;TZID=America/New_York:20250923T170000
DTSTAMP:20260423T212646
CREATED:20211217T142856Z
LAST-MODIFIED:20241219T211813Z
UID:5447-1758618000-1758646800@www.ccems.org
SUMMARY:PEPP – Pediatric Education for Prehospital Professionals
DESCRIPTION:PEPP – Pediatric Education for Prehospital Professionals\nDuration: 8 Hour Course\nCost: $125.00\nPEPP Hybrid class is offered with a required online component and  completion of pretest prior to class. \nPediatric Education for Prehospital Professionals represents a comprehensive source of prehospital medical information for the emergency care of infants and children. PEPP is designed to give prehospital professionals the education\, skills\, and confidence they need to effectively treat pediatric patients. Developed by the American Academy of Pediatrics\, PEPP specifically teaches prehospital professionals how to better assess and manage ill or injured children.
URL:https://www.ccems.org/event/pepp-pediatric-education-for-prehospital-professionals-4/
LOCATION:Cabell County EMS\, 846 8th Ave\, Huntington\, WV\, 25701\, United States
CATEGORIES:PEPP
END:VEVENT
BEGIN:VEVENT
DTSTART;TZID=America/New_York:20250819T090000
DTEND;TZID=America/New_York:20250819T170000
DTSTAMP:20260423T212646
CREATED:20211217T142802Z
LAST-MODIFIED:20241219T211758Z
UID:5445-1755594000-1755622800@www.ccems.org
SUMMARY:PEPP – Pediatric Education for Prehospital Professionals
DESCRIPTION:PEPP – Pediatric Education for Prehospital Professionals\nDuration: 8 Hour Course\nCost: $125.00\nPEPP Hybrid class is offered with a required online component and  completion of pretest prior to class. \nPediatric Education for Prehospital Professionals represents a comprehensive source of prehospital medical information for the emergency care of infants and children. PEPP is designed to give prehospital professionals the education\, skills\, and confidence they need to effectively treat pediatric patients. Developed by the American Academy of Pediatrics\, PEPP specifically teaches prehospital professionals how to better assess and manage ill or injured children.
URL:https://www.ccems.org/event/pepp-pediatric-education-for-prehospital-professionals-3/
LOCATION:Cabell County EMS\, 846 8th Ave\, Huntington\, WV\, 25701\, United States
CATEGORIES:PEPP
END:VEVENT
BEGIN:VEVENT
DTSTART;TZID=America/New_York:20250121T090000
DTEND;TZID=America/New_York:20250121T170000
DTSTAMP:20260423T212646
CREATED:20211217T142407Z
LAST-MODIFIED:20241219T210647Z
UID:5441-1737450000-1737478800@www.ccems.org
SUMMARY:PEPP – Pediatric Education for Prehospital Professionals
DESCRIPTION:PEPP – Pediatric Education for Prehospital Professionals\nDuration:  8 Hour Course\nCost: $125.00\nPEPP Hybrid class is offered with a required online component and completion of pretest prior to class. \nPediatric Education for Prehospital Professionals represents a comprehensive source of prehospital medical information for the emergency care of infants and children. PEPP is designed to give prehospital professionals the education\, skills\, and confidence they need to effectively treat pediatric patients. Developed by the American Academy of Pediatrics\, PEPP specifically teaches prehospital professionals how to better assess and manage ill or injured children.
URL:https://www.ccems.org/event/pepp-pediatric-education-for-prehospital-professionals/
LOCATION:Cabell County EMS\, 846 8th Ave\, Huntington\, WV\, 25701\, United States
CATEGORIES:PEPP
END:VEVENT
BEGIN:VEVENT
DTSTART;TZID=America/New_York:20240228T090000
DTEND;TZID=America/New_York:20240228T170000
DTSTAMP:20260423T212646
CREATED:20211217T142709Z
LAST-MODIFIED:20231220T190913Z
UID:5443-1709110800-1709139600@www.ccems.org
SUMMARY:PEPP – Pediatric Education for Prehospital Professionals
DESCRIPTION:PEPP – Pediatric Education for Prehospital Professionals\nDuration: 8 Hour Course\nCost: $125.00\nPEPP Hybrid class is offered with a required online component and  completion of pretest prior to class. \nPediatric Education for Prehospital Professionals represents a comprehensive source of prehospital medical information for the emergency care of infants and children. PEPP is designed to give prehospital professionals the education\, skills\, and confidence they need to effectively treat pediatric patients. Developed by the American Academy of Pediatrics\, PEPP specifically teaches prehospital professionals how to better assess and manage ill or injured children.
URL:https://www.ccems.org/event/pepp-pediatric-education-for-prehospital-professionals-2/
LOCATION:Cabell County EMS\, 846 8th Ave\, Huntington\, WV\, 25701\, United States
CATEGORIES:PEPP
END:VEVENT
BEGIN:VEVENT
DTSTART;TZID=America/Halifax:20240125T080000
DTEND;TZID=America/Halifax:20240125T170000
DTSTAMP:20260423T212646
CREATED:20231220T183508Z
LAST-MODIFIED:20231220T190514Z
UID:6126-1706169600-1706202000@www.ccems.org
SUMMARY:PEPP – Pediatric Education for Prehospital Professionals
DESCRIPTION:PEPP – Pediatric Education for Prehospital Professionals\nDuration:  8 Hour Course\nCost: $125.00\nPEPP Hybrid class is offered with a required online component and  completion of pretest prior to class. \nPediatric Education for Prehospital Professionals represents a comprehensive source of prehospital medical information for the emergency care of infants and children. PEPP is designed to give prehospital professionals the education\, skills\, and confidence they need to effectively treat pediatric patients. Developed by the American Academy of Pediatrics\, PEPP specifically teaches prehospital professionals how to better assess and manage ill or injured children.
URL:https://www.ccems.org/event/pepp-pediatric-education-for-prehospital-professionals-5/
LOCATION:Cabell County EMS\, 846 8th Ave\, Huntington\, WV\, 25701\, United States
CATEGORIES:PEPP
END:VEVENT
BEGIN:VEVENT
DTSTART;TZID=America/New_York:20201015T090000
DTEND;TZID=America/New_York:20201015T170000
DTSTAMP:20260423T212646
CREATED:20200820T011345Z
LAST-MODIFIED:20200820T011345Z
UID:2092-1602752400-1602781200@www.ccems.org
SUMMARY:PEPP
DESCRIPTION:PEPP – Pediatric Education for Prehospital Professionals\nDuration: 8 hour Course\nTime: 9am-5pm\nCost: $125.00
URL:https://www.ccems.org/event/pepp-10/
LOCATION:Cabell County EMS\, 846 8th Ave\, Huntington\, WV\, 25701\, United States
CATEGORIES:PEPP
ORGANIZER;CN="Training":MAILTO:Training@ccems.org
END:VEVENT
BEGIN:VEVENT
DTSTART;TZID=America/New_York:20200924T090000
DTEND;TZID=America/New_York:20200924T170000
DTSTAMP:20260423T212646
CREATED:20190514T181331Z
LAST-MODIFIED:20200820T010832Z
UID:4639-1600938000-1600966800@www.ccems.org
SUMMARY:PEPP
DESCRIPTION:PEPP – Pediatric Education for Prehospital Professionals\nDuration: 8 hour course\nCost: $125.00 \n  \n 
URL:https://www.ccems.org/event/pepp-24/
LOCATION:Cabell County EMS\, 846 8th Ave\, Huntington\, WV\, 25701\, United States
CATEGORIES:PEPP
ORGANIZER;CN="Training":MAILTO:Training@ccems.org
END:VEVENT
BEGIN:VEVENT
DTSTART;TZID=America/New_York:20190820T090000
DTEND;TZID=America/New_York:20190820T090000
DTSTAMP:20260423T212646
CREATED:20180115T214318Z
LAST-MODIFIED:20190514T181130Z
UID:3953-1566291600-1566291600@www.ccems.org
SUMMARY:PEPP
DESCRIPTION:PEPP – Pediatric Education for Prehospital Professionals\nDuration: 8 hour course\nCost: $125.00 \nDates: Aug 20\, 2019\n            Sep 11\, 2019 \n 
URL:https://www.ccems.org/event/pepp-23/
LOCATION:Cabell County EMS\, 846 8th Ave\, Huntington\, WV\, 25701\, United States
CATEGORIES:PEPP
END:VEVENT
BEGIN:VEVENT
DTSTART;TZID=America/New_York:20180131T090000
DTEND;TZID=America/New_York:20180131T170000
DTSTAMP:20260423T212646
CREATED:20180115T214042Z
LAST-MODIFIED:20180115T214042Z
UID:3950-1517389200-1517418000@www.ccems.org
SUMMARY:PEPP
DESCRIPTION:PEPP – Pediatric Education for Prehospital Professionals\nDuration: 2 Day Course\nCost: $125.00\nDates: Jan. 29 & 31\, 2018\n*Must attend both dates\n 
URL:https://www.ccems.org/event/pepp-22/
LOCATION:WV
CATEGORIES:PEPP
END:VEVENT
BEGIN:VEVENT
DTSTART;TZID=UTC:20160114T090000
DTEND;TZID=UTC:20160114T170000
DTSTAMP:20260423T212646
CREATED:20160109T001954Z
LAST-MODIFIED:20160109T001954Z
UID:1696-1452762000-1452790800@www.ccems.org
SUMMARY:PEPP
DESCRIPTION:PEPP – Pre-hospital Emergency Pediatric Provider\nContact the training department form more information.
URL:https://www.ccems.org/event/pepp-9/
LOCATION:Cabell County EMS\, 846 8th Ave\, Huntington\, WV\, 25701\, United States
CATEGORIES:PEPP
ORGANIZER;CN="Training":MAILTO:Training@ccems.org
END:VEVENT
BEGIN:VEVENT
DTSTART;TZID=UTC:20160112T090000
DTEND;TZID=UTC:20160112T170000
DTSTAMP:20260423T212646
CREATED:20160109T001919Z
LAST-MODIFIED:20160109T001919Z
UID:1695-1452589200-1452618000@www.ccems.org
SUMMARY:PEPP
DESCRIPTION:PEPP – Pre-hospital Emergency Pediatric Provider\nContact the training department form more information.
URL:https://www.ccems.org/event/pepp-8/
LOCATION:Cabell County EMS\, 846 8th Ave\, Huntington\, WV\, 25701\, United States
CATEGORIES:PEPP
ORGANIZER;CN="Training":MAILTO:Training@ccems.org
END:VEVENT
BEGIN:VEVENT
DTSTART;TZID=America/Halifax:20151001T090000
DTEND;TZID=America/Halifax:20151001T170000
DTSTAMP:20260423T212646
CREATED:20150514T001913Z
LAST-MODIFIED:20150514T001913Z
UID:994-1443690000-1443718800@www.ccems.org
SUMMARY:PEPP
DESCRIPTION:PEPP – Pre-hospital  Emergency Pediatric Provider\nContact the training department form more information.
URL:https://www.ccems.org/event/pepp-7/
LOCATION:Cabell County EMS\, 846 8th Ave\, Huntington\, WV\, 25701\, United States
CATEGORIES:PEPP
ORGANIZER;CN="Training":MAILTO:Training@ccems.org
END:VEVENT
BEGIN:VEVENT
DTSTART;TZID=America/Halifax:20150929T090000
DTEND;TZID=America/Halifax:20150929T170000
DTSTAMP:20260423T212646
CREATED:20150514T001832Z
LAST-MODIFIED:20150514T001935Z
UID:993-1443517200-1443546000@www.ccems.org
SUMMARY:PEPP
DESCRIPTION:PEPP – Pre-hospital  Emergency Pediatric Provider Contact the training department form more information.
URL:https://www.ccems.org/event/pepp-2/
LOCATION:Cabell County EMS\, 846 8th Ave\, Huntington\, WV\, 25701\, United States
CATEGORIES:PEPP
ORGANIZER;CN="Training":MAILTO:Training@ccems.org
END:VEVENT
BEGIN:VEVENT
DTSTART;TZID=America/Halifax:20150820T090000
DTEND;TZID=America/Halifax:20150820T170000
DTSTAMP:20260423T212646
CREATED:20150313T231223Z
LAST-MODIFIED:20150313T231223Z
UID:399-1440061200-1440090000@www.ccems.org
SUMMARY:PEPP
DESCRIPTION:PEPP – Pre-hospital  Emergency Pediatric Provider\nContact the training department form more information.
URL:https://www.ccems.org/event/pepp-6/
LOCATION:Cabell County EMS\, 846 8th Ave\, Huntington\, WV\, 25701\, United States
CATEGORIES:PEPP
ORGANIZER;CN="Training":MAILTO:Training@ccems.org
END:VEVENT
BEGIN:VEVENT
DTSTART;TZID=America/Halifax:20150818T090000
DTEND;TZID=America/Halifax:20150818T170000
DTSTAMP:20260423T212646
CREATED:20150313T231132Z
LAST-MODIFIED:20150313T231132Z
UID:398-1439888400-1439917200@www.ccems.org
SUMMARY:PEPP
DESCRIPTION:PEPP – Pre-hospital  Emergency Pediatric Provider\nContact the training department form more information.
URL:https://www.ccems.org/event/pepp-5/
LOCATION:Cabell County EMS\, 846 8th Ave\, Huntington\, WV\, 25701\, United States
CATEGORIES:PEPP
ORGANIZER;CN="Training":MAILTO:Training@ccems.org
END:VEVENT
BEGIN:VEVENT
DTSTART;TZID=America/Halifax:20150225T090000
DTEND;TZID=America/Halifax:20150225T170000
DTSTAMP:20260423T212646
CREATED:20150313T192843Z
LAST-MODIFIED:20150313T201916Z
UID:347-1424854800-1424883600@www.ccems.org
SUMMARY:PEPP
DESCRIPTION:PEPP – Pre-hospital  Emergency Pediatric Provider \nContact the training department form more information.
URL:https://www.ccems.org/event/pepp/
LOCATION:Cabell County EMS\, 846 8th Ave\, Huntington\, WV\, 25701\, United States
CATEGORIES:PEPP
ORGANIZER;CN="Training":MAILTO:Training@ccems.org
END:VEVENT
BEGIN:VEVENT
DTSTART;TZID=America/Halifax:20150128T090000
DTEND;TZID=America/Halifax:20150128T170000
DTSTAMP:20260423T212646
CREATED:20150313T222431Z
LAST-MODIFIED:20150313T222431Z
UID:383-1422435600-1422464400@www.ccems.org
SUMMARY:PEPP
DESCRIPTION:PEPP – Pre-hospital  Emergency Pediatric Provider\nContact the training department form more information.
URL:https://www.ccems.org/event/pepp-4/
LOCATION:Cabell County EMS\, 846 8th Ave\, Huntington\, WV\, 25701\, United States
CATEGORIES:PEPP
ORGANIZER;CN="Training":MAILTO:Training@ccems.org
END:VEVENT
BEGIN:VEVENT
DTSTART;TZID=America/Halifax:20150126T090000
DTEND;TZID=America/Halifax:20150126T170000
DTSTAMP:20260423T212646
CREATED:20150313T222317Z
LAST-MODIFIED:20150313T222317Z
UID:381-1422262800-1422291600@www.ccems.org
SUMMARY:PEPP
DESCRIPTION:PEPP – Pre-hospital  Emergency Pediatric Provider\nContact the training department form more information.
URL:https://www.ccems.org/event/pepp-3/
LOCATION:Cabell County EMS\, 846 8th Ave\, Huntington\, WV\, 25701\, United States
CATEGORIES:PEPP
ORGANIZER;CN="Training":MAILTO:Training@ccems.org
END:VEVENT
END:VCALENDAR