BEGIN:VCALENDAR
VERSION:2.0
PRODID:-//Cabell County Emergency Medical Services - ECPv6.15.10//NONSGML v1.0//EN
CALSCALE:GREGORIAN
METHOD:PUBLISH
X-ORIGINAL-URL:https://www.ccems.org
X-WR-CALDESC:Events for Cabell County Emergency Medical Services
REFRESH-INTERVAL;VALUE=DURATION:PT1H
X-Robots-Tag:noindex
X-PUBLISHED-TTL:PT1H
BEGIN:VTIMEZONE
TZID:America/New_York
BEGIN:DAYLIGHT
TZOFFSETFROM:-0500
TZOFFSETTO:-0400
TZNAME:EDT
DTSTART:20150308T070000
END:DAYLIGHT
BEGIN:STANDARD
TZOFFSETFROM:-0400
TZOFFSETTO:-0500
TZNAME:EST
DTSTART:20151101T060000
END:STANDARD
BEGIN:DAYLIGHT
TZOFFSETFROM:-0500
TZOFFSETTO:-0400
TZNAME:EDT
DTSTART:20160313T070000
END:DAYLIGHT
BEGIN:STANDARD
TZOFFSETFROM:-0400
TZOFFSETTO:-0500
TZNAME:EST
DTSTART:20161106T060000
END:STANDARD
BEGIN:DAYLIGHT
TZOFFSETFROM:-0500
TZOFFSETTO:-0400
TZNAME:EDT
DTSTART:20170312T070000
END:DAYLIGHT
BEGIN:STANDARD
TZOFFSETFROM:-0400
TZOFFSETTO:-0500
TZNAME:EST
DTSTART:20171105T060000
END:STANDARD
END:VTIMEZONE
BEGIN:VEVENT
DTSTART;TZID=America/New_York:20160211T140000
DTEND;TZID=America/New_York:20160211T170000
DTSTAMP:20260424T160700
CREATED:20160201T203327Z
LAST-MODIFIED:20160201T203327Z
UID:1825-1455199200-1455210000@www.ccems.org
SUMMARY:CCEMS Documentation Inservice 4
DESCRIPTION:CCEMS will host a documentation class at HQ Feb. 10 & 11. \nThe speaker will be Steve Wirth from Page\, Wolfburg and Wirth.  Steve is nationally recognized for his continued work with medical billing and documentation practices. \nContinuing education hours have been approved by WVOEMS. \nRepetitive sessions will be held both Wed. Feb 10 and Thursday Feb.11 from 9:00-12:00 or 14:00-17:00.\nYou may only attend 1 of the 4 sessions. \nPlease contact us with questions or concerns. \nAny outside agencies who would like to attend\, the cost will be $150\, per person. \nContact training with questions. \nPhone: 304-526-8510\nEmail: Training@ccems.org
URL:https://www.ccems.org/event/ccems-documentation-inservice-4/
LOCATION:Cabell County EMS\, 846 8th Ave\, Huntington\, WV\, 25701\, United States
CATEGORIES:Inservice
ORGANIZER;CN="Training":MAILTO:Training@ccems.org
END:VEVENT
BEGIN:VEVENT
DTSTART;TZID=America/New_York:20160211T090000
DTEND;TZID=America/New_York:20160211T120000
DTSTAMP:20260424T160700
CREATED:20160201T203220Z
LAST-MODIFIED:20160201T203446Z
UID:1824-1455181200-1455192000@www.ccems.org
SUMMARY:CCEMS Documentation Inservice 3
DESCRIPTION:CCEMS will host a documentation class at HQ Feb. 10 & 11. \nThe speaker will be Steve Wirth from Page\, Wolfburg and Wirth.  Steve is nationally recognized for his continued work with medical billing and documentation practices. \nContinuing education hours have been approved by WVOEMS. \nRepetitive sessions will be held both Wed. Feb 10 and Thursday Feb.11 from 9:00-12:00 or 14:00-17:00.\nYou may only attend 1 of the 4 sessions. \nPlease contact us with questions or concerns. \nAny outside agencies who would like to attend\, the cost will be $150\, per person. \nContact training with questions. \nPhone: 304-526-8510\nEmail: Training@ccems.org
URL:https://www.ccems.org/event/ccems-documentation-inservice-3/
LOCATION:Cabell County EMS\, 846 8th Ave\, Huntington\, WV\, 25701\, United States
CATEGORIES:Inservice
ORGANIZER;CN="Training":MAILTO:Training@ccems.org
END:VEVENT
BEGIN:VEVENT
DTSTART;TZID=America/New_York:20160210T140000
DTEND;TZID=America/New_York:20160210T170000
DTSTAMP:20260424T160700
CREATED:20160201T203134Z
LAST-MODIFIED:20160201T203426Z
UID:1823-1455112800-1455123600@www.ccems.org
SUMMARY:CCEMS Documentation Inservice 2
DESCRIPTION:CCEMS will host a documentation class at HQ Feb. 10 & 11. \nThe speaker will be Steve Wirth from Page\, Wolfburg and Wirth.  Steve is nationally recognized for his continued work with medical billing and documentation practices. \nContinuing education hours have been approved by WVOEMS. \nRepetitive sessions will be held both Wed. Feb 10 and Thursday Feb.11 from 9:00-12:00 or 14:00-17:00.\nYou may only attend 1 of the 4 sessions. \nPlease contact us with questions or concerns. \nAny outside agencies who would like to attend\, the cost will be $150\, per person. \nContact training with questions. \nPhone: 304-526-8510\nEmail: Training@ccems.org
URL:https://www.ccems.org/event/ccems-documentation-inservice-2/
LOCATION:Cabell County EMS\, 846 8th Ave\, Huntington\, WV\, 25701\, United States
CATEGORIES:Inservice
ORGANIZER;CN="Training":MAILTO:Training@ccems.org
END:VEVENT
BEGIN:VEVENT
DTSTART;TZID=America/New_York:20160210T090000
DTEND;TZID=America/New_York:20160210T120000
DTSTAMP:20260424T160700
CREATED:20160201T202904Z
LAST-MODIFIED:20160201T203415Z
UID:1822-1455094800-1455105600@www.ccems.org
SUMMARY:CCEMS Documentation Inservice 1
DESCRIPTION:CCEMS will host a documentation class at HQ Feb. 10 & 11. \nThe speaker will be Steve Wirth from Page\, Wolfburg and Wirth.  Steve is nationally recognized for his continued work with medical billing and documentation practices. \nContinuing education hours have been approved by WVOEMS. \nRepetitive sessions will be held both Wed. Feb 10 and Thursday Feb.11 from 9:00-12:00 or 14:00-17:00.\nYou may only attend 1 of the 4 sessions. \nPlease contact us with questions or concerns. \nAny outside agencies who would like to attend\, the cost will be $150\, per person. \nContact training with questions. \nPhone: 304-526-8510\nEmail: Training@ccems.org
URL:https://www.ccems.org/event/ccems-documentation-inservice/
LOCATION:Cabell County EMS\, 846 8th Ave\, Huntington\, WV\, 25701\, United States
CATEGORIES:Inservice
ORGANIZER;CN="Training":MAILTO:Training@ccems.org
END:VEVENT
END:VCALENDAR