BEGIN:VCALENDAR
VERSION:2.0
PRODID:-//Cabell County Emergency Medical Services - ECPv6.15.10//NONSGML v1.0//EN
CALSCALE:GREGORIAN
METHOD:PUBLISH
X-ORIGINAL-URL:https://www.ccems.org
X-WR-CALDESC:Events for Cabell County Emergency Medical Services
REFRESH-INTERVAL;VALUE=DURATION:PT1H
X-Robots-Tag:noindex
X-PUBLISHED-TTL:PT1H
BEGIN:VTIMEZONE
TZID:America/Halifax
BEGIN:DAYLIGHT
TZOFFSETFROM:-0400
TZOFFSETTO:-0300
TZNAME:ADT
DTSTART:20230312T060000
END:DAYLIGHT
BEGIN:STANDARD
TZOFFSETFROM:-0300
TZOFFSETTO:-0400
TZNAME:AST
DTSTART:20231105T050000
END:STANDARD
BEGIN:DAYLIGHT
TZOFFSETFROM:-0400
TZOFFSETTO:-0300
TZNAME:ADT
DTSTART:20240310T060000
END:DAYLIGHT
BEGIN:STANDARD
TZOFFSETFROM:-0300
TZOFFSETTO:-0400
TZNAME:AST
DTSTART:20241103T050000
END:STANDARD
BEGIN:DAYLIGHT
TZOFFSETFROM:-0400
TZOFFSETTO:-0300
TZNAME:ADT
DTSTART:20250309T060000
END:DAYLIGHT
BEGIN:STANDARD
TZOFFSETFROM:-0300
TZOFFSETTO:-0400
TZNAME:AST
DTSTART:20251102T050000
END:STANDARD
BEGIN:DAYLIGHT
TZOFFSETFROM:-0400
TZOFFSETTO:-0300
TZNAME:ADT
DTSTART:20260308T060000
END:DAYLIGHT
BEGIN:STANDARD
TZOFFSETFROM:-0300
TZOFFSETTO:-0400
TZNAME:AST
DTSTART:20261101T050000
END:STANDARD
END:VTIMEZONE
BEGIN:VTIMEZONE
TZID:America/New_York
BEGIN:DAYLIGHT
TZOFFSETFROM:-0500
TZOFFSETTO:-0400
TZNAME:EDT
DTSTART:20190310T070000
END:DAYLIGHT
BEGIN:STANDARD
TZOFFSETFROM:-0400
TZOFFSETTO:-0500
TZNAME:EST
DTSTART:20191103T060000
END:STANDARD
BEGIN:DAYLIGHT
TZOFFSETFROM:-0500
TZOFFSETTO:-0400
TZNAME:EDT
DTSTART:20200308T070000
END:DAYLIGHT
BEGIN:STANDARD
TZOFFSETFROM:-0400
TZOFFSETTO:-0500
TZNAME:EST
DTSTART:20201101T060000
END:STANDARD
BEGIN:DAYLIGHT
TZOFFSETFROM:-0500
TZOFFSETTO:-0400
TZNAME:EDT
DTSTART:20210314T070000
END:DAYLIGHT
BEGIN:STANDARD
TZOFFSETFROM:-0400
TZOFFSETTO:-0500
TZNAME:EST
DTSTART:20211107T060000
END:STANDARD
BEGIN:DAYLIGHT
TZOFFSETFROM:-0500
TZOFFSETTO:-0400
TZNAME:EDT
DTSTART:20220313T070000
END:DAYLIGHT
BEGIN:STANDARD
TZOFFSETFROM:-0400
TZOFFSETTO:-0500
TZNAME:EST
DTSTART:20221106T060000
END:STANDARD
BEGIN:DAYLIGHT
TZOFFSETFROM:-0500
TZOFFSETTO:-0400
TZNAME:EDT
DTSTART:20230312T070000
END:DAYLIGHT
BEGIN:STANDARD
TZOFFSETFROM:-0400
TZOFFSETTO:-0500
TZNAME:EST
DTSTART:20231105T060000
END:STANDARD
BEGIN:DAYLIGHT
TZOFFSETFROM:-0500
TZOFFSETTO:-0400
TZNAME:EDT
DTSTART:20240310T070000
END:DAYLIGHT
BEGIN:STANDARD
TZOFFSETFROM:-0400
TZOFFSETTO:-0500
TZNAME:EST
DTSTART:20241103T060000
END:STANDARD
END:VTIMEZONE
BEGIN:VEVENT
DTSTART;VALUE=DATE:20250901
DTEND;VALUE=DATE:20250902
DTSTAMP:20260424T022113
CREATED:20231116T153541Z
LAST-MODIFIED:20250122T142136Z
UID:6086-1756684800-1756771199@www.ccems.org
SUMMARY:CLOSED - HOLIDAY
DESCRIPTION:Cabell County EMS Headquarters will be closed in observance of LABOR DAY
URL:https://www.ccems.org/event/closed-holiday-49/
CATEGORIES:CLOSED,Holiday
END:VEVENT
BEGIN:VEVENT
DTSTART;VALUE=DATE:20250704
DTEND;VALUE=DATE:20250705
DTSTAMP:20260424T022113
CREATED:20231116T153507Z
LAST-MODIFIED:20250122T142056Z
UID:6085-1751587200-1751673599@www.ccems.org
SUMMARY:CLOSED - HOLIDAY
DESCRIPTION:Cabell County EMS Headquarters will be closed in observance of INDEPENDENCE DAY
URL:https://www.ccems.org/event/closed-holiday-48/
CATEGORIES:CLOSED,Holiday
END:VEVENT
BEGIN:VEVENT
DTSTART;VALUE=DATE:20250620
DTEND;VALUE=DATE:20250621
DTSTAMP:20260424T022113
CREATED:20231116T153413Z
LAST-MODIFIED:20250122T142031Z
UID:6084-1750377600-1750463999@www.ccems.org
SUMMARY:CLOSED - HOLIDAY
DESCRIPTION:Cabell County EMS Headquarters will be closed in observance of WEST VIRGINIA DAY
URL:https://www.ccems.org/event/closed-holiday-43/
CATEGORIES:CLOSED,Holiday
END:VEVENT
BEGIN:VEVENT
DTSTART;VALUE=DATE:20250619
DTEND;VALUE=DATE:20250620
DTSTAMP:20260424T022113
CREATED:20231116T153349Z
LAST-MODIFIED:20250122T142020Z
UID:6083-1750291200-1750377599@www.ccems.org
SUMMARY:CLOSED - HOLIDAY
DESCRIPTION:Cabell County EMS Headquarters will be closed in observance of JUNETEENTH
URL:https://www.ccems.org/event/closed-holiday-42/
CATEGORIES:CLOSED,Holiday
END:VEVENT
BEGIN:VEVENT
DTSTART;VALUE=DATE:20250526
DTEND;VALUE=DATE:20250527
DTSTAMP:20260424T022113
CREATED:20231116T153308Z
LAST-MODIFIED:20250122T142002Z
UID:6082-1748217600-1748303999@www.ccems.org
SUMMARY:CLOSED - HOLIDAY
DESCRIPTION:Cabell County EMS Headquarters will be closed in observance of MEMORIAL DAY
URL:https://www.ccems.org/event/closed-holiday-41/
CATEGORIES:CLOSED,Holiday
END:VEVENT
BEGIN:VEVENT
DTSTART;VALUE=DATE:20250217
DTEND;VALUE=DATE:20250218
DTSTAMP:20260424T022113
CREATED:20231116T153121Z
LAST-MODIFIED:20250122T141902Z
UID:6080-1739750400-1739836799@www.ccems.org
SUMMARY:CLOSED - HOLIDAY
DESCRIPTION:Cabell County EMS Headquarters will be closed in observance of PRESIDENT’S DAY
URL:https://www.ccems.org/event/closed-holiday-39/
CATEGORIES:CLOSED,Holiday
END:VEVENT
BEGIN:VEVENT
DTSTART;VALUE=DATE:20250120
DTEND;VALUE=DATE:20250121
DTSTAMP:20260424T022113
CREATED:20231116T153057Z
LAST-MODIFIED:20250122T142258Z
UID:6079-1737331200-1737417599@www.ccems.org
SUMMARY:CLOSED - HOLIDAY
DESCRIPTION:Cabell County EMS Headquarters will be closed in observance of MARTIN LUTHER KING’S BIRTHDAY
URL:https://www.ccems.org/event/closed-holiday-38/
CATEGORIES:CLOSED,Holiday
END:VEVENT
BEGIN:VEVENT
DTSTART;VALUE=DATE:20250101
DTEND;VALUE=DATE:20250102
DTSTAMP:20260424T022113
CREATED:20231116T153019Z
LAST-MODIFIED:20250122T142251Z
UID:6078-1735689600-1735775999@www.ccems.org
SUMMARY:CLOSED - HOLIDAY
DESCRIPTION:Cabell County EMS Headquarters will be closed in observance of NEW YEAR’S DAY
URL:https://www.ccems.org/event/closed-holiday-37/
CATEGORIES:CLOSED,Holiday
END:VEVENT
BEGIN:VEVENT
DTSTART;VALUE=DATE:20241105
DTEND;VALUE=DATE:20241106
DTSTAMP:20260424T022113
CREATED:20231116T153639Z
LAST-MODIFIED:20231116T153639Z
UID:6088-1730764800-1730851199@www.ccems.org
SUMMARY:CLOSED - HOLIDAY
DESCRIPTION:Cabell County EMS Headquarters will be closed in observance of ELECTION DAY
URL:https://www.ccems.org/event/closed-holiday-51/
CATEGORIES:CLOSED,Holiday
END:VEVENT
BEGIN:VEVENT
DTSTART;VALUE=DATE:20240514
DTEND;VALUE=DATE:20240515
DTSTAMP:20260424T022113
CREATED:20231116T153233Z
LAST-MODIFIED:20231116T153233Z
UID:6081-1715644800-1715731199@www.ccems.org
SUMMARY:CLOSED - HOLIDAY
DESCRIPTION:Cabell County EMS Headquarters will be closed in observance of ELECTION DAY
URL:https://www.ccems.org/event/closed-holiday-40/
CATEGORIES:CLOSED,Holiday
END:VEVENT
BEGIN:VEVENT
DTSTART;VALUE=DATE:20230619
DTEND;VALUE=DATE:20230620
DTSTAMP:20260424T022113
CREATED:20221216T145242Z
LAST-MODIFIED:20221216T145242Z
UID:5811-1687132800-1687219199@www.ccems.org
SUMMARY:CLOSED - HOLIDAY
DESCRIPTION:Cabell County EMS Headquarters will be closed in observance of JUNETEENTH
URL:https://www.ccems.org/event/closed-holiday-36/
LOCATION:Cabell County EMS\, 846 8th Ave\, Huntington\, WV\, 25701\, United States
CATEGORIES:CLOSED,Holiday
END:VEVENT
BEGIN:VEVENT
DTSTART;VALUE=DATE:20201225
DTEND;VALUE=DATE:20201226
DTSTAMP:20260424T022113
CREATED:20200303T195846Z
LAST-MODIFIED:20200303T195846Z
UID:5046-1608854400-1608940799@www.ccems.org
SUMMARY:CLOSED - HOLIDAY
DESCRIPTION:Cabell County EMS Headquarters will be closed in observance of CHRISTMAS DAY
URL:https://www.ccems.org/event/closed-holiday-10/
CATEGORIES:CLOSED,Holiday
END:VEVENT
BEGIN:VEVENT
DTSTART;VALUE=DATE:20201224
DTEND;VALUE=DATE:20201225
DTSTAMP:20260424T022113
CREATED:20200303T195733Z
LAST-MODIFIED:20200303T195733Z
UID:5044-1608768000-1608854399@www.ccems.org
SUMMARY:CLOSED - HOLIDAY
DESCRIPTION:Cabell County EMS Headquarters will be closed in observance of CHRISTMAS EVE
URL:https://www.ccems.org/event/closed-holiday-9/
CATEGORIES:CLOSED,Holiday
END:VEVENT
BEGIN:VEVENT
DTSTART;VALUE=DATE:20201127
DTEND;VALUE=DATE:20201128
DTSTAMP:20260424T022113
CREATED:20200303T195632Z
LAST-MODIFIED:20200303T195632Z
UID:5042-1606435200-1606521599@www.ccems.org
SUMMARY:CLOSED - HOLIDAY
DESCRIPTION:Cabell County EMS Headquarters will be closed in observance of LINCOLN DAY
URL:https://www.ccems.org/event/closed-holiday-8/
CATEGORIES:CLOSED,Holiday
END:VEVENT
BEGIN:VEVENT
DTSTART;VALUE=DATE:20201126
DTEND;VALUE=DATE:20201127
DTSTAMP:20260424T022113
CREATED:20200303T195500Z
LAST-MODIFIED:20200303T195500Z
UID:5039-1606348800-1606435199@www.ccems.org
SUMMARY:CLOSED - HOLIDAY
DESCRIPTION:Cabell County EMS Headquarters will be closed in observance of THANKSGIVING DAY
URL:https://www.ccems.org/event/closed-holiday-7/
CATEGORIES:CLOSED,Holiday
END:VEVENT
BEGIN:VEVENT
DTSTART;VALUE=DATE:20201111
DTEND;VALUE=DATE:20201112
DTSTAMP:20260424T022113
CREATED:20200303T195355Z
LAST-MODIFIED:20200303T195355Z
UID:5037-1605052800-1605139199@www.ccems.org
SUMMARY:CLOSED - HOLIDAY
DESCRIPTION:Cabell County EMS Headquarters will be closed in observance of VETERANS DAY
URL:https://www.ccems.org/event/closed-holiday-6/
CATEGORIES:CLOSED,Holiday
END:VEVENT
BEGIN:VEVENT
DTSTART;VALUE=DATE:20201103
DTEND;VALUE=DATE:20201104
DTSTAMP:20260424T022113
CREATED:20200303T195256Z
LAST-MODIFIED:20200303T195256Z
UID:5035-1604361600-1604447999@www.ccems.org
SUMMARY:CLOSED - HOLIDAY
DESCRIPTION:Cabell County EMS Headquarters will be closed in observance of ELECTION DAY
URL:https://www.ccems.org/event/closed-holiday-5/
CATEGORIES:CLOSED,Holiday
END:VEVENT
BEGIN:VEVENT
DTSTART;VALUE=DATE:20201012
DTEND;VALUE=DATE:20201013
DTSTAMP:20260424T022113
CREATED:20200303T195041Z
LAST-MODIFIED:20200303T195041Z
UID:5030-1602460800-1602547199@www.ccems.org
SUMMARY:CLOSED - HOLIDAY
DESCRIPTION:Cabell County EMS Headquarters will be closed in observance of COLUMBUS DAY
URL:https://www.ccems.org/event/closed-holiday-4/
CATEGORIES:CLOSED,Holiday
END:VEVENT
BEGIN:VEVENT
DTSTART;VALUE=DATE:20200907
DTEND;VALUE=DATE:20200908
DTSTAMP:20260424T022113
CREATED:20200303T194948Z
LAST-MODIFIED:20200303T194948Z
UID:5028-1599436800-1599523199@www.ccems.org
SUMMARY:CLOSED - HOLIDAY
DESCRIPTION:Cabell County EMS Headquarters will be closed in observance of LABOR DAY
URL:https://www.ccems.org/event/closed-holiday-3/
CATEGORIES:CLOSED,Holiday
END:VEVENT
BEGIN:VEVENT
DTSTART;VALUE=DATE:20200703
DTEND;VALUE=DATE:20200704
DTSTAMP:20260424T022113
CREATED:20200303T194849Z
LAST-MODIFIED:20200303T194849Z
UID:5026-1593734400-1593820799@www.ccems.org
SUMMARY:CLOSED - HOLIDAY
DESCRIPTION:Cabell County EMS Headquarters will be closed in observance of Independence Day.
URL:https://www.ccems.org/event/closed-holiday-2/
CATEGORIES:CLOSED,Holiday
END:VEVENT
BEGIN:VEVENT
DTSTART;VALUE=DATE:20200525
DTEND;VALUE=DATE:20200526
DTSTAMP:20260424T022113
CREATED:20191115T213616Z
LAST-MODIFIED:20191115T213616Z
UID:4974-1590364800-1590451199@www.ccems.org
SUMMARY:CLOSED - HOLIDAY
DESCRIPTION:CCEMS HQ office will be closed in observance of MEMORIAL DAY
URL:https://www.ccems.org/event/closed-holiday-47/
CATEGORIES:CLOSED,Holiday
END:VEVENT
BEGIN:VEVENT
DTSTART;VALUE=DATE:20200218
DTEND;VALUE=DATE:20200219
DTSTAMP:20260424T022113
CREATED:20191115T213457Z
LAST-MODIFIED:20191115T213457Z
UID:4972-1581984000-1582070399@www.ccems.org
SUMMARY:CLOSED - HOLIDAY
DESCRIPTION:CCEMS HQ office will be closed in observance of WASHINGTON’S BIRTHDAY
URL:https://www.ccems.org/event/closed-holiday-46/
CATEGORIES:CLOSED,Holiday
END:VEVENT
BEGIN:VEVENT
DTSTART;VALUE=DATE:20200120
DTEND;VALUE=DATE:20200121
DTSTAMP:20260424T022113
CREATED:20191115T213410Z
LAST-MODIFIED:20191115T213410Z
UID:4970-1579478400-1579564799@www.ccems.org
SUMMARY:CLOSED - HOLIDAY
DESCRIPTION:CCEMS HQ office will be closed in observance of MARTIN LUTHER KING JR. DAY
URL:https://www.ccems.org/event/closed-holiday-45/
CATEGORIES:CLOSED,Holiday
END:VEVENT
BEGIN:VEVENT
DTSTART;VALUE=DATE:20200101
DTEND;VALUE=DATE:20200102
DTSTAMP:20260424T022113
CREATED:20191115T213321Z
LAST-MODIFIED:20191115T213321Z
UID:4968-1577836800-1577923199@www.ccems.org
SUMMARY:CLOSED - HOLIDAY
DESCRIPTION:CCEMS HQ office will be closed in observance of NEW YEARS DAY
URL:https://www.ccems.org/event/closed-holiday-44/
CATEGORIES:CLOSED,Holiday
END:VEVENT
END:VCALENDAR