BEGIN:VCALENDAR
VERSION:2.0
PRODID:-//Cabell County Emergency Medical Services - ECPv6.15.10//NONSGML v1.0//EN
CALSCALE:GREGORIAN
METHOD:PUBLISH
X-WR-CALNAME:Cabell County Emergency Medical Services
X-ORIGINAL-URL:https://www.ccems.org
X-WR-CALDESC:Events for Cabell County Emergency Medical Services
REFRESH-INTERVAL;VALUE=DURATION:PT1H
X-Robots-Tag:noindex
X-PUBLISHED-TTL:PT1H
BEGIN:VTIMEZONE
TZID:America/New_York
BEGIN:DAYLIGHT
TZOFFSETFROM:-0500
TZOFFSETTO:-0400
TZNAME:EDT
DTSTART:20170312T070000
END:DAYLIGHT
BEGIN:STANDARD
TZOFFSETFROM:-0400
TZOFFSETTO:-0500
TZNAME:EST
DTSTART:20171105T060000
END:STANDARD
BEGIN:DAYLIGHT
TZOFFSETFROM:-0500
TZOFFSETTO:-0400
TZNAME:EDT
DTSTART:20180311T070000
END:DAYLIGHT
BEGIN:STANDARD
TZOFFSETFROM:-0400
TZOFFSETTO:-0500
TZNAME:EST
DTSTART:20181104T060000
END:STANDARD
BEGIN:DAYLIGHT
TZOFFSETFROM:-0500
TZOFFSETTO:-0400
TZNAME:EDT
DTSTART:20190310T070000
END:DAYLIGHT
BEGIN:STANDARD
TZOFFSETFROM:-0400
TZOFFSETTO:-0500
TZNAME:EST
DTSTART:20191103T060000
END:STANDARD
BEGIN:DAYLIGHT
TZOFFSETFROM:-0500
TZOFFSETTO:-0400
TZNAME:EDT
DTSTART:20200308T070000
END:DAYLIGHT
BEGIN:STANDARD
TZOFFSETFROM:-0400
TZOFFSETTO:-0500
TZNAME:EST
DTSTART:20201101T060000
END:STANDARD
BEGIN:DAYLIGHT
TZOFFSETFROM:-0500
TZOFFSETTO:-0400
TZNAME:EDT
DTSTART:20210314T070000
END:DAYLIGHT
BEGIN:STANDARD
TZOFFSETFROM:-0400
TZOFFSETTO:-0500
TZNAME:EST
DTSTART:20211107T060000
END:STANDARD
BEGIN:DAYLIGHT
TZOFFSETFROM:-0500
TZOFFSETTO:-0400
TZNAME:EDT
DTSTART:20220313T070000
END:DAYLIGHT
BEGIN:STANDARD
TZOFFSETFROM:-0400
TZOFFSETTO:-0500
TZNAME:EST
DTSTART:20221106T060000
END:STANDARD
BEGIN:DAYLIGHT
TZOFFSETFROM:-0500
TZOFFSETTO:-0400
TZNAME:EDT
DTSTART:20230312T070000
END:DAYLIGHT
BEGIN:STANDARD
TZOFFSETFROM:-0400
TZOFFSETTO:-0500
TZNAME:EST
DTSTART:20231105T060000
END:STANDARD
BEGIN:DAYLIGHT
TZOFFSETFROM:-0500
TZOFFSETTO:-0400
TZNAME:EDT
DTSTART:20240310T070000
END:DAYLIGHT
BEGIN:STANDARD
TZOFFSETFROM:-0400
TZOFFSETTO:-0500
TZNAME:EST
DTSTART:20241103T060000
END:STANDARD
END:VTIMEZONE
BEGIN:VTIMEZONE
TZID:America/Halifax
BEGIN:DAYLIGHT
TZOFFSETFROM:-0400
TZOFFSETTO:-0300
TZNAME:ADT
DTSTART:20140309T060000
END:DAYLIGHT
BEGIN:STANDARD
TZOFFSETFROM:-0300
TZOFFSETTO:-0400
TZNAME:AST
DTSTART:20141102T050000
END:STANDARD
BEGIN:DAYLIGHT
TZOFFSETFROM:-0400
TZOFFSETTO:-0300
TZNAME:ADT
DTSTART:20150308T060000
END:DAYLIGHT
BEGIN:STANDARD
TZOFFSETFROM:-0300
TZOFFSETTO:-0400
TZNAME:AST
DTSTART:20151101T050000
END:STANDARD
BEGIN:DAYLIGHT
TZOFFSETFROM:-0400
TZOFFSETTO:-0300
TZNAME:ADT
DTSTART:20160313T060000
END:DAYLIGHT
BEGIN:STANDARD
TZOFFSETFROM:-0300
TZOFFSETTO:-0400
TZNAME:AST
DTSTART:20161106T050000
END:STANDARD
END:VTIMEZONE
BEGIN:VEVENT
DTSTART;TZID=America/New_York:20230109T170000
DTEND;TZID=America/New_York:20230109T220000
DTSTAMP:20260424T043526
CREATED:20191115T212326Z
LAST-MODIFIED:20230221T164909Z
UID:4959-1673283600-1673301600@www.ccems.org
SUMMARY:EMT Class - Winter 2023
DESCRIPTION:EMT-B – Emergency Medical Technician Basic\n \nWe offer 3 Classes per year\, (Winter\, Summer and Fall).  Please read the descriptions carefully.  All classes will be added to our training calendar\, so you can see the days that you will attend.\n**All classes can run longer than estimated weeks\, due to holidays.  Please look at the calendar to see the schedules. \nWinter Class:\nDuration: 15+ weeks (Jan.-May)\nTime: Mondays & Wednesdays (5pm-10pm)\nCost: $750\n**CAN NOT miss more than 2 class days to successfully complete course.\nNote: Applicants must be at least 18 years of age and provide copy of high school diploma or GED.\nThe EMT-B course is an 150 hour D.O.T Approved E.M.T. Basic Provider Class that will prepare you for the WV or National Registry EMT Basic Exam. EMT-Basic training programs teach students the knowledge and skills to provide basic emergency medical assistance to people in need. Students learn to use emergency medical equipment such as suction mounts\, neck immobilizers and splints. The course includes text book\, CPR certification and CPR face shield. EMT-Basic training includes: \n\n*Emergency responsiveness\n*Trauma scenarios\n*Managing respiratory systems\n*Assessing patients\n*Cardiac emergencies\n\nCertification is useful for military service\, volunteer fire departments\, EMS agencies\, hospitals\, security agencies and many other employment opportunities. The course fee DOES NOT include testing fees. \nClick on the link below to register for the EMT-B course.\n\n\n\n\n\nEMT Basic Course Registration
URL:https://www.ccems.org/event/emt-class-winter-2020/
CATEGORIES:EMT,EMT Class
ORGANIZER;CN="Training":MAILTO:Training@ccems.org
END:VEVENT
BEGIN:VEVENT
DTSTART;TZID=America/New_York:20180120T090000
DTEND;TZID=America/New_York:20180120T170000
DTSTAMP:20260424T043526
CREATED:20180116T150032Z
LAST-MODIFIED:20180116T174433Z
UID:3984-1516438800-1516467600@www.ccems.org
SUMMARY:EMT Refresher - Day 1
DESCRIPTION:EMT Basic 24 hr Refresher\nWe offer a couple different classes. You must attend all dates in the class you choose.\nDuration: 5 days (weeknights) – Time: 5pm-10pm\nor\nDuration: 3 Saturdays – Time: 9am-5pm\nCost: $150.00\nEMT-B Refresher Course is a 24 hour course designed for current or expired (within the past 2 years) EMTs\, who will be recertifing with State EMT or National EMT Registry.\nClick here register for the EMT-B Refresher course. \n 
URL:https://www.ccems.org/event/emt-refresher-5/
LOCATION:Cabell County EMS\, 846 8th Ave\, Huntington\, WV\, 25701\, United States
CATEGORIES:EMT,EMT Refresher
ORGANIZER;CN="Training":MAILTO:Training@ccems.org
END:VEVENT
BEGIN:VEVENT
DTSTART;TZID=America/Halifax:20150815T090000
DTEND;TZID=America/Halifax:20150815T140000
DTSTAMP:20260424T043526
CREATED:20150624T170737Z
LAST-MODIFIED:20150624T170737Z
UID:1103-1439629200-1439647200@www.ccems.org
SUMMARY:EMT Recertification
DESCRIPTION:EMT Recertification
URL:https://www.ccems.org/event/emt-recertification/
LOCATION:Cabell County EMS\, 846 8th Ave\, Huntington\, WV\, 25701\, United States
CATEGORIES:EMT
ORGANIZER;CN="Training":MAILTO:Training@ccems.org
END:VEVENT
END:VCALENDAR