BEGIN:VCALENDAR
VERSION:2.0
PRODID:-//Cabell County Emergency Medical Services - ECPv6.15.10//NONSGML v1.0//EN
CALSCALE:GREGORIAN
METHOD:PUBLISH
X-WR-CALNAME:Cabell County Emergency Medical Services
X-ORIGINAL-URL:https://www.ccems.org
X-WR-CALDESC:Events for Cabell County Emergency Medical Services
REFRESH-INTERVAL;VALUE=DURATION:PT1H
X-Robots-Tag:noindex
X-PUBLISHED-TTL:PT1H
BEGIN:VTIMEZONE
TZID:America/New_York
BEGIN:DAYLIGHT
TZOFFSETFROM:-0500
TZOFFSETTO:-0400
TZNAME:EDT
DTSTART:20240310T070000
END:DAYLIGHT
BEGIN:STANDARD
TZOFFSETFROM:-0400
TZOFFSETTO:-0500
TZNAME:EST
DTSTART:20241103T060000
END:STANDARD
BEGIN:DAYLIGHT
TZOFFSETFROM:-0500
TZOFFSETTO:-0400
TZNAME:EDT
DTSTART:20250309T070000
END:DAYLIGHT
BEGIN:STANDARD
TZOFFSETFROM:-0400
TZOFFSETTO:-0500
TZNAME:EST
DTSTART:20251102T060000
END:STANDARD
BEGIN:DAYLIGHT
TZOFFSETFROM:-0500
TZOFFSETTO:-0400
TZNAME:EDT
DTSTART:20260308T070000
END:DAYLIGHT
BEGIN:STANDARD
TZOFFSETFROM:-0400
TZOFFSETTO:-0500
TZNAME:EST
DTSTART:20261101T060000
END:STANDARD
END:VTIMEZONE
BEGIN:VEVENT
DTSTART;TZID=America/New_York:20250802T090000
DTEND;TZID=America/New_York:20250802T210000
DTSTAMP:20260424T090231
CREATED:20211216T192835Z
LAST-MODIFIED:20241219T213329Z
UID:5411-1754125200-1754168400@www.ccems.org
SUMMARY:EMTR - EMT Refresher
DESCRIPTION:EMTR – EMT Refresher\nDuration: 2 Saturday Course\nTime: 9am-9pm\nCost: $150.00\nEMT-B Refresher Course is a 24 hour course designed for current or expired (within the past 2 years) EMTs\, who will be recertifing with National EMT Registry.
URL:https://www.ccems.org/event/emtr-emt-refresher-5/
LOCATION:Cabell County EMS\, 846 8th Ave\, Huntington\, WV\, 25701\, United States
CATEGORIES:EMT Refresher
END:VEVENT
BEGIN:VEVENT
DTSTART;TZID=America/New_York:20250816T090000
DTEND;TZID=America/New_York:20250816T210000
DTSTAMP:20260424T090231
CREATED:20211217T135635Z
LAST-MODIFIED:20241219T213340Z
UID:5414-1755334800-1755378000@www.ccems.org
SUMMARY:EMTR - EMT Refresher (CEVO and Auto Pulse Refresher)
DESCRIPTION:EMTR – EMT Refresher\nDuration: 2 Saturday Course\nTime: 9am-9pm\nCost: $150.00\nEMT-B Refresher Course is a 24 hour course designed for current or expired (within the past 2 years) EMTs\, who will be recertifing with National EMT Registry.
URL:https://www.ccems.org/event/emtr-emt-refresher-6/
LOCATION:Cabell County EMS\, 846 8th Ave\, Huntington\, WV\, 25701\, United States
CATEGORIES:EMT Refresher
END:VEVENT
END:VCALENDAR