BEGIN:VCALENDAR
VERSION:2.0
PRODID:-//Cabell County Emergency Medical Services - ECPv6.15.10//NONSGML v1.0//EN
CALSCALE:GREGORIAN
METHOD:PUBLISH
X-ORIGINAL-URL:https://www.ccems.org
X-WR-CALDESC:Events for Cabell County Emergency Medical Services
REFRESH-INTERVAL;VALUE=DURATION:PT1H
X-Robots-Tag:noindex
X-PUBLISHED-TTL:PT1H
BEGIN:VTIMEZONE
TZID:America/New_York
BEGIN:DAYLIGHT
TZOFFSETFROM:-0500
TZOFFSETTO:-0400
TZNAME:EDT
DTSTART:20230312T070000
END:DAYLIGHT
BEGIN:STANDARD
TZOFFSETFROM:-0400
TZOFFSETTO:-0500
TZNAME:EST
DTSTART:20231105T060000
END:STANDARD
BEGIN:DAYLIGHT
TZOFFSETFROM:-0500
TZOFFSETTO:-0400
TZNAME:EDT
DTSTART:20240310T070000
END:DAYLIGHT
BEGIN:STANDARD
TZOFFSETFROM:-0400
TZOFFSETTO:-0500
TZNAME:EST
DTSTART:20241103T060000
END:STANDARD
BEGIN:DAYLIGHT
TZOFFSETFROM:-0500
TZOFFSETTO:-0400
TZNAME:EDT
DTSTART:20250309T070000
END:DAYLIGHT
BEGIN:STANDARD
TZOFFSETFROM:-0400
TZOFFSETTO:-0500
TZNAME:EST
DTSTART:20251102T060000
END:STANDARD
END:VTIMEZONE
BEGIN:VTIMEZONE
TZID:America/New_York
BEGIN:DAYLIGHT
TZOFFSETFROM:-0500
TZOFFSETTO:-0400
TZNAME:EDT
DTSTART:20220313T070000
END:DAYLIGHT
BEGIN:STANDARD
TZOFFSETFROM:-0400
TZOFFSETTO:-0500
TZNAME:EST
DTSTART:20221106T060000
END:STANDARD
BEGIN:DAYLIGHT
TZOFFSETFROM:-0500
TZOFFSETTO:-0400
TZNAME:EDT
DTSTART:20230312T070000
END:DAYLIGHT
BEGIN:STANDARD
TZOFFSETFROM:-0400
TZOFFSETTO:-0500
TZNAME:EST
DTSTART:20231105T060000
END:STANDARD
BEGIN:DAYLIGHT
TZOFFSETFROM:-0500
TZOFFSETTO:-0400
TZNAME:EDT
DTSTART:20240310T070000
END:DAYLIGHT
BEGIN:STANDARD
TZOFFSETFROM:-0400
TZOFFSETTO:-0500
TZNAME:EST
DTSTART:20241103T060000
END:STANDARD
END:VTIMEZONE
BEGIN:VTIMEZONE
TZID:America/Halifax
BEGIN:DAYLIGHT
TZOFFSETFROM:-0400
TZOFFSETTO:-0300
TZNAME:ADT
DTSTART:20140309T060000
END:DAYLIGHT
BEGIN:STANDARD
TZOFFSETFROM:-0300
TZOFFSETTO:-0400
TZNAME:AST
DTSTART:20141102T050000
END:STANDARD
BEGIN:DAYLIGHT
TZOFFSETFROM:-0400
TZOFFSETTO:-0300
TZNAME:ADT
DTSTART:20150308T060000
END:DAYLIGHT
BEGIN:STANDARD
TZOFFSETFROM:-0300
TZOFFSETTO:-0400
TZNAME:AST
DTSTART:20151101T050000
END:STANDARD
BEGIN:DAYLIGHT
TZOFFSETFROM:-0400
TZOFFSETTO:-0300
TZNAME:ADT
DTSTART:20160313T060000
END:DAYLIGHT
BEGIN:STANDARD
TZOFFSETFROM:-0300
TZOFFSETTO:-0400
TZNAME:AST
DTSTART:20161106T050000
END:STANDARD
END:VTIMEZONE
BEGIN:VEVENT
DTSTART;TZID=America/New_York:20241204T090000
DTEND;TZID=America/New_York:20241204T100000
DTSTAMP:20260423T214736
CREATED:20221216T150007Z
LAST-MODIFIED:20240102T205627Z
UID:5823-1733302800-1733306400@www.ccems.org
SUMMARY:December CQI Meeting
DESCRIPTION:CQI \nContinued Quality Improvement Meeting
URL:https://www.ccems.org/event/december-cqi-meeting/
LOCATION:Cabell County EMS\, 846 8th Ave\, Huntington\, WV\, 25701\, United States
CATEGORIES:CQI
END:VEVENT
BEGIN:VEVENT
DTSTART;TZID=America/New_York:20241106T090000
DTEND;TZID=America/New_York:20241106T100000
DTSTAMP:20260423T214736
CREATED:20221216T150057Z
LAST-MODIFIED:20240102T205613Z
UID:5822-1730883600-1730887200@www.ccems.org
SUMMARY:November CQI Meeting
DESCRIPTION:CQI \nContinued Quality Improvement Meeting
URL:https://www.ccems.org/event/november-cqi-meeting/
LOCATION:Cabell County EMS\, 846 8th Ave\, Huntington\, WV\, 25701\, United States
CATEGORIES:CQI
END:VEVENT
BEGIN:VEVENT
DTSTART;TZID=America/New_York:20241002T090000
DTEND;TZID=America/New_York:20241002T100000
DTSTAMP:20260423T214736
CREATED:20221216T150149Z
LAST-MODIFIED:20240102T205558Z
UID:5821-1727859600-1727863200@www.ccems.org
SUMMARY:October CQI Meeting
DESCRIPTION:CQI \nContinued Quality Improvement Meeting
URL:https://www.ccems.org/event/october-cqi-meeting/
LOCATION:Cabell County EMS\, 846 8th Ave\, Huntington\, WV\, 25701\, United States
CATEGORIES:CQI
END:VEVENT
BEGIN:VEVENT
DTSTART;TZID=America/New_York:20240904T090000
DTEND;TZID=America/New_York:20240904T100000
DTSTAMP:20260423T214736
CREATED:20221216T151910Z
LAST-MODIFIED:20240102T205546Z
UID:5820-1725440400-1725444000@www.ccems.org
SUMMARY:September CQI Meeting
DESCRIPTION:CQI \nContinued Quality Improvement Meeting
URL:https://www.ccems.org/event/september-cqi-meeting/
LOCATION:Cabell County EMS\, 846 8th Ave\, Huntington\, WV\, 25701\, United States
CATEGORIES:CQI
END:VEVENT
BEGIN:VEVENT
DTSTART;TZID=America/New_York:20240807T090000
DTEND;TZID=America/New_York:20240807T100000
DTSTAMP:20260423T214736
CREATED:20221216T151949Z
LAST-MODIFIED:20240102T205532Z
UID:5819-1723021200-1723024800@www.ccems.org
SUMMARY:August CQI Meeting
DESCRIPTION:CQI \nContinued Quality Improvement Meeting
URL:https://www.ccems.org/event/august-cqi-meeting/
LOCATION:Cabell County EMS\, 846 8th Ave\, Huntington\, WV\, 25701\, United States
CATEGORIES:CQI
END:VEVENT
BEGIN:VEVENT
DTSTART;TZID=America/New_York:20240703T090000
DTEND;TZID=America/New_York:20240703T100000
DTSTAMP:20260423T214736
CREATED:20221216T152050Z
LAST-MODIFIED:20240102T205515Z
UID:5818-1719997200-1720000800@www.ccems.org
SUMMARY:July CQI Meeting
DESCRIPTION:CQI \nContinued Quality Improvement Meeting
URL:https://www.ccems.org/event/july-cqi-meeting/
LOCATION:Cabell County EMS\, 846 8th Ave\, Huntington\, WV\, 25701\, United States
CATEGORIES:CQI
END:VEVENT
BEGIN:VEVENT
DTSTART;TZID=America/New_York:20240605T090000
DTEND;TZID=America/New_York:20240605T100000
DTSTAMP:20260423T214736
CREATED:20221216T152121Z
LAST-MODIFIED:20240102T205455Z
UID:5817-1717578000-1717581600@www.ccems.org
SUMMARY:June CQI Meeting
DESCRIPTION:CQI \nContinued Quality Improvement Meeting
URL:https://www.ccems.org/event/june-cqi-meeting/
LOCATION:Cabell County EMS\, 846 8th Ave\, Huntington\, WV\, 25701\, United States
CATEGORIES:CQI
END:VEVENT
BEGIN:VEVENT
DTSTART;TZID=America/New_York:20240501T090000
DTEND;TZID=America/New_York:20240501T100000
DTSTAMP:20260423T214736
CREATED:20221216T152211Z
LAST-MODIFIED:20240102T205439Z
UID:5816-1714554000-1714557600@www.ccems.org
SUMMARY:May CQI Meeting
DESCRIPTION:CQI \nContinued Quality Improvement Meeting
URL:https://www.ccems.org/event/may-cqi-meeting/
LOCATION:Cabell County EMS\, 846 8th Ave\, Huntington\, WV\, 25701\, United States
CATEGORIES:CQI
END:VEVENT
BEGIN:VEVENT
DTSTART;TZID=America/New_York:20240403T090000
DTEND;TZID=America/New_York:20240403T100000
DTSTAMP:20260423T214736
CREATED:20221216T152320Z
LAST-MODIFIED:20240102T205420Z
UID:5815-1712134800-1712138400@www.ccems.org
SUMMARY:April CQI Meeting
DESCRIPTION:CQI \nContinued Quality Improvement Meeting
URL:https://www.ccems.org/event/april-cqi-meeting/
LOCATION:Cabell County EMS\, 846 8th Ave\, Huntington\, WV\, 25701\, United States
CATEGORIES:CQI
END:VEVENT
BEGIN:VEVENT
DTSTART;TZID=America/New_York:20240306T090000
DTEND;TZID=America/New_York:20240306T100000
DTSTAMP:20260423T214736
CREATED:20221216T152523Z
LAST-MODIFIED:20240102T205406Z
UID:5814-1709715600-1709719200@www.ccems.org
SUMMARY:March CQI Meeting
DESCRIPTION:CQI \nContinued Quality Improvement Meeting
URL:https://www.ccems.org/event/march-cqi-meeting/
LOCATION:Cabell County EMS\, 846 8th Ave\, Huntington\, WV\, 25701\, United States
CATEGORIES:CQI
END:VEVENT
BEGIN:VEVENT
DTSTART;TZID=America/New_York:20240207T090000
DTEND;TZID=America/New_York:20240207T100000
DTSTAMP:20260423T214736
CREATED:20221216T152610Z
LAST-MODIFIED:20240102T205351Z
UID:5813-1707296400-1707300000@www.ccems.org
SUMMARY:February CQI Meeting
DESCRIPTION:CQI \nContinued Quality Improvement Meeting
URL:https://www.ccems.org/event/february-cqi-meeting/
LOCATION:Cabell County EMS\, 846 8th Ave\, Huntington\, WV\, 25701\, United States
CATEGORIES:CQI
END:VEVENT
BEGIN:VEVENT
DTSTART;TZID=America/New_York:20230104T090000
DTEND;TZID=America/New_York:20230104T100000
DTSTAMP:20260423T214736
CREATED:20221216T143442Z
LAST-MODIFIED:20221216T143442Z
UID:5809-1672822800-1672826400@www.ccems.org
SUMMARY:January CQI Meeting
DESCRIPTION:CQI \nContinued Quality Improvement Meeting
URL:https://www.ccems.org/event/january-cqi-meeting/
LOCATION:WV
CATEGORIES:CQI
END:VEVENT
BEGIN:VEVENT
DTSTART;TZID=America/Halifax:20150210T090000
DTEND;TZID=America/Halifax:20150210T230000
DTSTAMP:20260423T214736
CREATED:20150313T193757Z
LAST-MODIFIED:20150313T193757Z
UID:356-1423558800-1423609200@www.ccems.org
SUMMARY:CQI
DESCRIPTION:CQI \nContinued Quality Improvement Meeting
URL:https://www.ccems.org/event/cqi/
LOCATION:Cabell County EMS\, 846 8th Ave\, Huntington\, WV\, 25701\, United States
CATEGORIES:CQI
END:VEVENT
END:VCALENDAR