BEGIN:VCALENDAR
VERSION:2.0
PRODID:-//Cabell County Emergency Medical Services - ECPv6.15.10//NONSGML v1.0//EN
CALSCALE:GREGORIAN
METHOD:PUBLISH
X-WR-CALNAME:Cabell County Emergency Medical Services
X-ORIGINAL-URL:https://www.ccems.org
X-WR-CALDESC:Events for Cabell County Emergency Medical Services
REFRESH-INTERVAL;VALUE=DURATION:PT1H
X-Robots-Tag:noindex
X-PUBLISHED-TTL:PT1H
BEGIN:VTIMEZONE
TZID:America/New_York
BEGIN:DAYLIGHT
TZOFFSETFROM:-0500
TZOFFSETTO:-0400
TZNAME:EDT
DTSTART:20250309T070000
END:DAYLIGHT
BEGIN:STANDARD
TZOFFSETFROM:-0400
TZOFFSETTO:-0500
TZNAME:EST
DTSTART:20251102T060000
END:STANDARD
BEGIN:DAYLIGHT
TZOFFSETFROM:-0500
TZOFFSETTO:-0400
TZNAME:EDT
DTSTART:20260308T070000
END:DAYLIGHT
BEGIN:STANDARD
TZOFFSETFROM:-0400
TZOFFSETTO:-0500
TZNAME:EST
DTSTART:20261101T060000
END:STANDARD
BEGIN:DAYLIGHT
TZOFFSETFROM:-0500
TZOFFSETTO:-0400
TZNAME:EDT
DTSTART:20270314T070000
END:DAYLIGHT
BEGIN:STANDARD
TZOFFSETFROM:-0400
TZOFFSETTO:-0500
TZNAME:EST
DTSTART:20271107T060000
END:STANDARD
END:VTIMEZONE
BEGIN:VTIMEZONE
TZID:America/New_York
BEGIN:DAYLIGHT
TZOFFSETFROM:-0500
TZOFFSETTO:-0400
TZNAME:EDT
DTSTART:20170312T070000
END:DAYLIGHT
BEGIN:STANDARD
TZOFFSETFROM:-0400
TZOFFSETTO:-0500
TZNAME:EST
DTSTART:20171105T060000
END:STANDARD
BEGIN:DAYLIGHT
TZOFFSETFROM:-0500
TZOFFSETTO:-0400
TZNAME:EDT
DTSTART:20180311T070000
END:DAYLIGHT
BEGIN:STANDARD
TZOFFSETFROM:-0400
TZOFFSETTO:-0500
TZNAME:EST
DTSTART:20181104T060000
END:STANDARD
BEGIN:DAYLIGHT
TZOFFSETFROM:-0500
TZOFFSETTO:-0400
TZNAME:EDT
DTSTART:20190310T070000
END:DAYLIGHT
BEGIN:STANDARD
TZOFFSETFROM:-0400
TZOFFSETTO:-0500
TZNAME:EST
DTSTART:20191103T060000
END:STANDARD
BEGIN:DAYLIGHT
TZOFFSETFROM:-0500
TZOFFSETTO:-0400
TZNAME:EDT
DTSTART:20200308T070000
END:DAYLIGHT
BEGIN:STANDARD
TZOFFSETFROM:-0400
TZOFFSETTO:-0500
TZNAME:EST
DTSTART:20201101T060000
END:STANDARD
BEGIN:DAYLIGHT
TZOFFSETFROM:-0500
TZOFFSETTO:-0400
TZNAME:EDT
DTSTART:20210314T070000
END:DAYLIGHT
BEGIN:STANDARD
TZOFFSETFROM:-0400
TZOFFSETTO:-0500
TZNAME:EST
DTSTART:20211107T060000
END:STANDARD
BEGIN:DAYLIGHT
TZOFFSETFROM:-0500
TZOFFSETTO:-0400
TZNAME:EDT
DTSTART:20220313T070000
END:DAYLIGHT
BEGIN:STANDARD
TZOFFSETFROM:-0400
TZOFFSETTO:-0500
TZNAME:EST
DTSTART:20221106T060000
END:STANDARD
BEGIN:DAYLIGHT
TZOFFSETFROM:-0500
TZOFFSETTO:-0400
TZNAME:EDT
DTSTART:20230312T070000
END:DAYLIGHT
BEGIN:STANDARD
TZOFFSETFROM:-0400
TZOFFSETTO:-0500
TZNAME:EST
DTSTART:20231105T060000
END:STANDARD
BEGIN:DAYLIGHT
TZOFFSETFROM:-0500
TZOFFSETTO:-0400
TZNAME:EDT
DTSTART:20240310T070000
END:DAYLIGHT
BEGIN:STANDARD
TZOFFSETFROM:-0400
TZOFFSETTO:-0500
TZNAME:EST
DTSTART:20241103T060000
END:STANDARD
BEGIN:DAYLIGHT
TZOFFSETFROM:-0500
TZOFFSETTO:-0400
TZNAME:EDT
DTSTART:20250309T070000
END:DAYLIGHT
BEGIN:STANDARD
TZOFFSETFROM:-0400
TZOFFSETTO:-0500
TZNAME:EST
DTSTART:20251102T060000
END:STANDARD
END:VTIMEZONE
BEGIN:VTIMEZONE
TZID:America/Halifax
BEGIN:DAYLIGHT
TZOFFSETFROM:-0400
TZOFFSETTO:-0300
TZNAME:ADT
DTSTART:20140309T060000
END:DAYLIGHT
BEGIN:STANDARD
TZOFFSETFROM:-0300
TZOFFSETTO:-0400
TZNAME:AST
DTSTART:20141102T050000
END:STANDARD
BEGIN:DAYLIGHT
TZOFFSETFROM:-0400
TZOFFSETTO:-0300
TZNAME:ADT
DTSTART:20150308T060000
END:DAYLIGHT
BEGIN:STANDARD
TZOFFSETFROM:-0300
TZOFFSETTO:-0400
TZNAME:AST
DTSTART:20151101T050000
END:STANDARD
BEGIN:DAYLIGHT
TZOFFSETFROM:-0400
TZOFFSETTO:-0300
TZNAME:ADT
DTSTART:20160313T060000
END:DAYLIGHT
BEGIN:STANDARD
TZOFFSETFROM:-0300
TZOFFSETTO:-0400
TZNAME:AST
DTSTART:20161106T050000
END:STANDARD
END:VTIMEZONE
BEGIN:VEVENT
DTSTART;TZID=America/New_York:20260409T180000
DTEND;TZID=America/New_York:20260409T220000
DTSTAMP:20260423T145832
CREATED:20211217T145351Z
LAST-MODIFIED:20251212T212140Z
UID:5479-1775757600-1775772000@www.ccems.org
SUMMARY:CPR and First Aid - April
DESCRIPTION:CPR & First Aid Duration: 1 Day\nCost: $50 for both or $35 each\nThe American Heart Association Heartsaver First Aid with CPR/AED course teaches participants to recognize sudden illnesses\, treat serious injury\, and how to perform the lifesaving skills of CPR for adults\, children\, and infants with the use of an Automated External Defibrillator (AED). Successful completion of this course results in an American Heart Association Heartsaver First Aid CPR AED certification card which is valid for two years. Course topics include: \n\n*Medical emergencies including allergic reactions\, heart attacks\, stroke\, seizures\, and diabetes\n*Injury management including bites and stings\, bleeding control\, and splinting\n*Environmental emergencies such as heat stroke and hypothermia\n*Relief of choking\n*CPR AED for adults\, children\, and infants
URL:https://www.ccems.org/event/cpr-and-first-aid-4/
LOCATION:Cabell County EMS\, 846 8th Ave\, Huntington\, WV\, 25701\, United States
CATEGORIES:CPR
END:VEVENT
BEGIN:VEVENT
DTSTART;TZID=America/New_York:20260312T180000
DTEND;TZID=America/New_York:20260312T220000
DTSTAMP:20260423T145832
CREATED:20211217T145137Z
LAST-MODIFIED:20251212T212151Z
UID:5475-1773338400-1773352800@www.ccems.org
SUMMARY:CPR and First Aid - March
DESCRIPTION:CPR & First Aid Duration: 1 Day\nCost: $50 for both or $35 each\nThe American Heart Association Heartsaver First Aid with CPR/AED course teaches participants to recognize sudden illnesses\, treat serious injury\, and how to perform the lifesaving skills of CPR for adults\, children\, and infants with the use of an Automated External Defibrillator (AED). Successful completion of this course results in an American Heart Association Heartsaver First Aid CPR AED certification card which is valid for two years. Course topics include: \n\n*Medical emergencies including allergic reactions\, heart attacks\, stroke\, seizures\, and diabetes\n*Injury management including bites and stings\, bleeding control\, and splinting\n*Environmental emergencies such as heat stroke and hypothermia\n*Relief of choking\n*CPR AED for adults\, children\, and infants
URL:https://www.ccems.org/event/cpr-and-first-aid-3/
LOCATION:Cabell County EMS\, 846 8th Ave\, Huntington\, WV\, 25701\, United States
CATEGORIES:CPR
END:VEVENT
BEGIN:VEVENT
DTSTART;TZID=America/New_York:20260212T180000
DTEND;TZID=America/New_York:20260212T220000
DTSTAMP:20260423T145833
CREATED:20211217T144945Z
LAST-MODIFIED:20251212T212221Z
UID:5473-1770919200-1770933600@www.ccems.org
SUMMARY:CPR and First Aid - February
DESCRIPTION:CPR & First Aid Duration: 1 Day\nCost: $50 for both or $35 each\nThe American Heart Association Heartsaver First Aid with CPR/AED course teaches participants to recognize sudden illnesses\, treat serious injury\, and how to perform the lifesaving skills of CPR for adults\, children\, and infants with the use of an Automated External Defibrillator (AED). Successful completion of this course results in an American Heart Association Heartsaver First Aid CPR AED certification card which is valid for two years. Course topics include: \n\n*Medical emergencies including allergic reactions\, heart attacks\, stroke\, seizures\, and diabetes\n*Injury management including bites and stings\, bleeding control\, and splinting\n*Environmental emergencies such as heat stroke and hypothermia\n*Relief of choking\n*CPR AED for adults\, children\, and infants
URL:https://www.ccems.org/event/cpr-and-first-aid-2/
LOCATION:Cabell County EMS\, 846 8th Ave\, Huntington\, WV\, 25701\, United States
CATEGORIES:CPR
END:VEVENT
BEGIN:VEVENT
DTSTART;TZID=America/New_York:20260108T180000
DTEND;TZID=America/New_York:20260108T220000
DTSTAMP:20260423T145833
CREATED:20211217T144755Z
LAST-MODIFIED:20251212T212237Z
UID:5471-1767895200-1767909600@www.ccems.org
SUMMARY:CPR and First Aid - January
DESCRIPTION:CPR & First Aid Duration: 1 Day\nCost: $50 for both or $35 each\nThe American Heart Association Heartsaver First Aid with CPR/AED course teaches participants to recognize sudden illnesses\, treat serious injury\, and how to perform the lifesaving skills of CPR for adults\, children\, and infants with the use of an Automated External Defibrillator (AED). Successful completion of this course results in an American Heart Association Heartsaver First Aid CPR AED certification card which is valid for two years. Course topics include: \n\n*Medical emergencies including allergic reactions\, heart attacks\, stroke\, seizures\, and diabetes\n*Injury management including bites and stings\, bleeding control\, and splinting\n*Environmental emergencies such as heat stroke and hypothermia\n*Relief of choking\n*CPR AED for adults\, children\, and infants
URL:https://www.ccems.org/event/cpr-and-first-aid/
LOCATION:Cabell County EMS\, 846 8th Ave\, Huntington\, WV\, 25701\, United States
CATEGORIES:CPR
END:VEVENT
BEGIN:VEVENT
DTSTART;TZID=America/New_York:20240628T090000
DTEND;TZID=America/New_York:20240628T170000
DTSTAMP:20260423T145833
CREATED:20230213T155514Z
LAST-MODIFIED:20240109T181857Z
UID:5897-1719565200-1719594000@www.ccems.org
SUMMARY:AHA BLS Instructor Class
DESCRIPTION:AHA BLS Instructor Course\n(American Heart Association – Basic Life Support Instructor)\nDuration: 1 Day\nCost: $250\nTime: 9am-5pm \nBLS Instructor – for those who will be teaching healthcare providers such as medics\, physicians\, nurses\, EMT’s\, Lifeguards\, etc.    The BLS Course trains participants to promptly recognize several life-threatening emergencies\, give high-quality chest compressions\, deliver appropriate ventilations and provide early use of an AED.
URL:https://www.ccems.org/event/aha-bls-instructor-class-2/
LOCATION:Cabell County EMS\, 846 8th Ave\, Huntington\, WV\, 25701\, United States
CATEGORIES:CPR
ORGANIZER;CN="Training":MAILTO:Training@ccems.org
END:VEVENT
BEGIN:VEVENT
DTSTART;TZID=America/New_York:20230310T090000
DTEND;TZID=America/New_York:20230310T170000
DTSTAMP:20260423T145833
CREATED:20220407T181813Z
LAST-MODIFIED:20230213T154910Z
UID:5616-1678438800-1678467600@www.ccems.org
SUMMARY:AHA BLS Instructor Class
DESCRIPTION:AHA BLS Instructor Course\n(American Heart Association – Basic Life Support Instructor)\nDuration: 1 Day\nCost: $250\nTime: 9am-5pm \nBLS Instructor – for those who will be teaching healthcare providers such as medics\, physicians\, nurses\, EMT’s\, Lifeguards\, etc.    The BLS Course trains participants to promptly recognize several life-threatening emergencies\, give high-quality chest compressions\, deliver appropriate ventilations and provide early use of an AED. \n 
URL:https://www.ccems.org/event/aha-bls-instructor-class/
LOCATION:CCEMS\, 846 8TH AVE\, HUNTINGTON\, WV\, 25701\, United States
CATEGORIES:CPR
ORGANIZER;CN="Training":MAILTO:Training@ccems.org
END:VEVENT
BEGIN:VEVENT
DTSTART;TZID=America/New_York:20201210T180000
DTEND;TZID=America/New_York:20201210T220000
DTSTAMP:20260423T145833
CREATED:20200303T213205Z
LAST-MODIFIED:20200303T213205Z
UID:5075-1607623200-1607637600@www.ccems.org
SUMMARY:CPR & First Aid
DESCRIPTION:Duration: 1 Day Course\nTime: 6pm-10pm\nCost: $50.00 for both or $35 each\nClick Here For Details and to Register: CPR & First Aid Registration
URL:https://www.ccems.org/event/cpr-first-aid-9/
LOCATION:Cabell County EMS\, 846 8th Ave\, Huntington\, WV\, 25701\, United States
CATEGORIES:CPR
ORGANIZER;CN="Training":MAILTO:Training@ccems.org
END:VEVENT
BEGIN:VEVENT
DTSTART;TZID=America/New_York:20201112T180000
DTEND;TZID=America/New_York:20201112T220000
DTSTAMP:20260423T145833
CREATED:20200303T213104Z
LAST-MODIFIED:20200303T213104Z
UID:5072-1605204000-1605218400@www.ccems.org
SUMMARY:CPR & First Aid
DESCRIPTION:Duration: 1 Day Course\nTime: 6pm-10pm\nCost: $50.00 for both or $35 each\nClick Here For Details and to Register: CPR & First Aid Registration
URL:https://www.ccems.org/event/cpr-first-aid-8/
LOCATION:Cabell County EMS\, 846 8th Ave\, Huntington\, WV\, 25701\, United States
CATEGORIES:CPR
ORGANIZER;CN="Training":MAILTO:Training@ccems.org
END:VEVENT
BEGIN:VEVENT
DTSTART;TZID=America/New_York:20201008T180000
DTEND;TZID=America/New_York:20201008T220000
DTSTAMP:20260423T145833
CREATED:20200303T212946Z
LAST-MODIFIED:20200303T212946Z
UID:5070-1602180000-1602194400@www.ccems.org
SUMMARY:CPR & First Aid
DESCRIPTION:Duration: 1 Day Course\nTime: 6pm-10pm\nCost: $50.00 for both or $35 each\nClick Here For Details and to Register: CPR & First Aid Registration
URL:https://www.ccems.org/event/cpr-first-aid-7/
LOCATION:Cabell County EMS\, 846 8th Ave\, Huntington\, WV\, 25701\, United States
CATEGORIES:CPR
ORGANIZER;CN="Training":MAILTO:Training@ccems.org
END:VEVENT
BEGIN:VEVENT
DTSTART;TZID=America/New_York:20200910T180000
DTEND;TZID=America/New_York:20200910T220000
DTSTAMP:20260423T145833
CREATED:20200303T212819Z
LAST-MODIFIED:20200303T212835Z
UID:5068-1599760800-1599775200@www.ccems.org
SUMMARY:CPR & First Aid
DESCRIPTION:Duration: 1 Day Course\nTime: 6pm-10pm\nCost: $50.00 for both or $35 each\nClick Here For Details and to Register: CPR & First Aid Registration
URL:https://www.ccems.org/event/cpr-first-aid-6/
LOCATION:Cabell County EMS\, 846 8th Ave\, Huntington\, WV\, 25701\, United States
CATEGORIES:CPR
ORGANIZER;CN="Training":MAILTO:Training@ccems.org
END:VEVENT
BEGIN:VEVENT
DTSTART;TZID=America/New_York:20200813T180000
DTEND;TZID=America/New_York:20200813T220000
DTSTAMP:20260423T145833
CREATED:20200303T212723Z
LAST-MODIFIED:20200303T212723Z
UID:5066-1597341600-1597356000@www.ccems.org
SUMMARY:CPR & First Aid
DESCRIPTION:Duration: 1 Day Course\nTime: 6pm-10pm\nCost: $50.00 for both or $35 each\nClick Here For Details and to Register: CPR & First Aid Registration
URL:https://www.ccems.org/event/cpr-first-aid-5/
LOCATION:Cabell County EMS\, 846 8th Ave\, Huntington\, WV\, 25701\, United States
CATEGORIES:CPR
ORGANIZER;CN="Training":MAILTO:Training@ccems.org
END:VEVENT
BEGIN:VEVENT
DTSTART;TZID=America/New_York:20200709T180000
DTEND;TZID=America/New_York:20200709T220000
DTSTAMP:20260423T145833
CREATED:20200303T212622Z
LAST-MODIFIED:20200303T212622Z
UID:5064-1594317600-1594332000@www.ccems.org
SUMMARY:CPR & First Aid
DESCRIPTION:Duration: 1 Day Course\nTime: 6pm-10pm\nCost: $50.00 for both or $35 each\nClick Here For Details and to Register: CPR & First Aid Registration
URL:https://www.ccems.org/event/cpr-first-aid-4/
LOCATION:Cabell County EMS\, 846 8th Ave\, Huntington\, WV\, 25701\, United States
CATEGORIES:CPR
ORGANIZER;CN="Training":MAILTO:Training@ccems.org
END:VEVENT
BEGIN:VEVENT
DTSTART;TZID=America/New_York:20200611T060000
DTEND;TZID=America/New_York:20200611T220000
DTSTAMP:20260423T145833
CREATED:20200303T212505Z
LAST-MODIFIED:20200303T212518Z
UID:5061-1591855200-1591912800@www.ccems.org
SUMMARY:CPR & First Aid
DESCRIPTION:Duration: 1 Day Course\nTime: 6pm-10pm\nCost: $50.00 for both or $35 each\nClick Here For Details and to Register: CPR & First Aid Registration
URL:https://www.ccems.org/event/cpr-first-aid-3/
LOCATION:Cabell County EMS\, 846 8th Ave\, Huntington\, WV\, 25701\, United States
CATEGORIES:CPR
ORGANIZER;CN="Training":MAILTO:Training@ccems.org
END:VEVENT
BEGIN:VEVENT
DTSTART;TZID=America/New_York:20200514T180000
DTEND;TZID=America/New_York:20200514T220000
DTSTAMP:20260423T145833
CREATED:20200303T212307Z
LAST-MODIFIED:20200303T212340Z
UID:5059-1589479200-1589493600@www.ccems.org
SUMMARY:CPR & First Aid
DESCRIPTION:Duration: 1 Day Course\nTime: 6pm-10pm\nCost: $50.00 for both or $35 each\nClick Here For Details and to Register: CPR & First Aid Registration
URL:https://www.ccems.org/event/cpr-first-aid-2/
LOCATION:Cabell County EMS\, 846 8th Ave\, Huntington\, WV\, 25701\, United States
CATEGORIES:CPR
ORGANIZER;CN="Training":MAILTO:Training@ccems.org
END:VEVENT
BEGIN:VEVENT
DTSTART;TZID=America/New_York:20200312T060000
DTEND;TZID=America/New_York:20200312T220000
DTSTAMP:20260423T145833
CREATED:20200303T212157Z
LAST-MODIFIED:20200303T212157Z
UID:5057-1583992800-1584050400@www.ccems.org
SUMMARY:CPR & First Aid
DESCRIPTION:Duration: 1 Day Course\nTime: 6pm-10pm\nCost: $50.00 for both or $35 each\nClick Here For Details and to Register: CPR & First Aid Registration
URL:https://www.ccems.org/event/cpr-first-aid/
LOCATION:Cabell County EMS\, 846 8th Ave\, Huntington\, WV\, 25701\, United States
CATEGORIES:CPR
END:VEVENT
BEGIN:VEVENT
DTSTART;TZID=America/New_York:20181213T180000
DTEND;TZID=America/New_York:20181213T220000
DTSTAMP:20260423T145833
CREATED:20180112T135319Z
LAST-MODIFIED:20180112T135359Z
UID:3876-1544724000-1544738400@www.ccems.org
SUMMARY:CPR & First Aid
DESCRIPTION:Duration: 1 Day Course\nTime: 6pm-10pm\nCost: $50.00 for both or $35 each\nClick Here For Details and to Register: CPR & First Aid Registration
URL:https://www.ccems.org/event/cpr-first-aid-18/
LOCATION:Cabell County EMS\, 846 8th Ave\, Huntington\, WV\, 25701\, United States
CATEGORIES:CPR
ORGANIZER;CN="Training":MAILTO:Training@ccems.org
END:VEVENT
BEGIN:VEVENT
DTSTART;TZID=America/New_York:20181108T180000
DTEND;TZID=America/New_York:20181108T220000
DTSTAMP:20260423T145833
CREATED:20180112T135200Z
LAST-MODIFIED:20180112T135200Z
UID:3873-1541700000-1541714400@www.ccems.org
SUMMARY:CPR & First Aid
DESCRIPTION:Duration: 1 Day Course\nTime: 6pm-10pm\nCost: $50.00 for both or $35 each\nClick Here For Details and to Register: CPR & First Aid Registration
URL:https://www.ccems.org/event/cpr/
LOCATION:Cabell County EMS\, 846 8th Ave\, Huntington\, WV\, 25701\, United States
CATEGORIES:CPR
ORGANIZER;CN="Training":MAILTO:Training@ccems.org
END:VEVENT
BEGIN:VEVENT
DTSTART;TZID=America/Halifax:20150630T090000
DTEND;TZID=America/Halifax:20150630T170000
DTSTAMP:20260423T145833
CREATED:20150313T223227Z
LAST-MODIFIED:20150324T001618Z
UID:388-1435654800-1435683600@www.ccems.org
SUMMARY:CPR Instructor Class
DESCRIPTION:CPR instructor class
URL:https://www.ccems.org/event/cpr-rollout-3/
LOCATION:Cabell County EMS\, 846 8th Ave\, Huntington\, WV\, 25701\, United States
CATEGORIES:CPR,CPR Rollout
ORGANIZER;CN="Training":MAILTO:Training@ccems.org
END:VEVENT
END:VCALENDAR