BEGIN:VCALENDAR
VERSION:2.0
PRODID:-//Cabell County Emergency Medical Services - ECPv6.15.10//NONSGML v1.0//EN
CALSCALE:GREGORIAN
METHOD:PUBLISH
X-ORIGINAL-URL:https://www.ccems.org
X-WR-CALDESC:Events for Cabell County Emergency Medical Services
REFRESH-INTERVAL;VALUE=DURATION:PT1H
X-Robots-Tag:noindex
X-PUBLISHED-TTL:PT1H
BEGIN:VTIMEZONE
TZID:America/New_York
BEGIN:DAYLIGHT
TZOFFSETFROM:-0500
TZOFFSETTO:-0400
TZNAME:EDT
DTSTART:20150308T070000
END:DAYLIGHT
BEGIN:STANDARD
TZOFFSETFROM:-0400
TZOFFSETTO:-0500
TZNAME:EST
DTSTART:20151101T060000
END:STANDARD
BEGIN:DAYLIGHT
TZOFFSETFROM:-0500
TZOFFSETTO:-0400
TZNAME:EDT
DTSTART:20160313T070000
END:DAYLIGHT
BEGIN:STANDARD
TZOFFSETFROM:-0400
TZOFFSETTO:-0500
TZNAME:EST
DTSTART:20161106T060000
END:STANDARD
BEGIN:DAYLIGHT
TZOFFSETFROM:-0500
TZOFFSETTO:-0400
TZNAME:EDT
DTSTART:20170312T070000
END:DAYLIGHT
BEGIN:STANDARD
TZOFFSETFROM:-0400
TZOFFSETTO:-0500
TZNAME:EST
DTSTART:20171105T060000
END:STANDARD
END:VTIMEZONE
BEGIN:VEVENT
DTSTART;TZID=America/New_York:20160518T083000
DTEND;TZID=America/New_York:20160518T113000
DTSTAMP:20260424T223645
CREATED:20160511T195403Z
LAST-MODIFIED:20160511T195606Z
UID:2385-1463560200-1463571000@www.ccems.org
SUMMARY:C3IFT Skills Check off - Session 1
DESCRIPTION:The skills check off will be held Wednesday May 18 at HQ. \nWe will offer 2 sessions but you only need to attend one session. \nPlease attend either 8:30am-11:30am OR 1:00pm-4:00pm \nRemember to bring your completed study guide with you. \nPlease respond to email and indicate which session you will be attending. \n****this is for specific CCEMS employees. \n  \nThanks\,\nMarsha \nMarsha K. Knight- A.A.S\,NREMT-P\, MCCP\nDirector of Education- Cabell Co. EMS\n(304) 526-8510- Office\nMarsha.knight@ccems.org
URL:https://www.ccems.org/event/c3ift-skills-check-off/
LOCATION:Cabell County EMS\, 846 8th Ave\, Huntington\, WV\, 25701\, United States
CATEGORIES:C3IFT
ORGANIZER;CN="Training":MAILTO:Training@ccems.org
END:VEVENT
BEGIN:VEVENT
DTSTART;TZID=America/New_York:20160511T130000
DTEND;TZID=America/New_York:20160511T160000
DTSTAMP:20260424T223645
CREATED:20160511T195459Z
LAST-MODIFIED:20160511T195459Z
UID:2386-1462971600-1462982400@www.ccems.org
SUMMARY:C3IFT Skills Check Off - Session 2
DESCRIPTION:The skills check off will be held Wednesday May 18 at HQ. \nWe will offer 2 sessions but you only need to attend one session. \nPlease attend either 8:30am-11:30am OR 1:00pm-4:00pm \nRemember to bring your completed study guide with you. \nPlease respond to email and indicate which session you will be attending. \n****this is for specific CCEMS employees. \nThanks\,\nMarsha \nMarsha K. Knight- A.A.S\,NREMT-P\, MCCP\nDirector of Education- Cabell Co. EMS\n(304) 526-8510- Office\nMarsha.knight@ccems.org
URL:https://www.ccems.org/event/c3ift-skills-check-off-2/
LOCATION:Cabell County EMS\, 846 8th Ave\, Huntington\, WV\, 25701\, United States
CATEGORIES:C3IFT
ORGANIZER;CN="Training":MAILTO:Training@ccems.org
END:VEVENT
END:VCALENDAR