BEGIN:VCALENDAR
VERSION:2.0
PRODID:-//Cabell County Emergency Medical Services - ECPv6.15.10//NONSGML v1.0//EN
CALSCALE:GREGORIAN
METHOD:PUBLISH
X-ORIGINAL-URL:https://www.ccems.org
X-WR-CALDESC:Events for Cabell County Emergency Medical Services
REFRESH-INTERVAL;VALUE=DURATION:PT1H
X-Robots-Tag:noindex
X-PUBLISHED-TTL:PT1H
BEGIN:VTIMEZONE
TZID:America/Halifax
BEGIN:DAYLIGHT
TZOFFSETFROM:-0400
TZOFFSETTO:-0300
TZNAME:ADT
DTSTART:20250309T060000
END:DAYLIGHT
BEGIN:STANDARD
TZOFFSETFROM:-0300
TZOFFSETTO:-0400
TZNAME:AST
DTSTART:20251102T050000
END:STANDARD
BEGIN:DAYLIGHT
TZOFFSETFROM:-0400
TZOFFSETTO:-0300
TZNAME:ADT
DTSTART:20260308T060000
END:DAYLIGHT
BEGIN:STANDARD
TZOFFSETFROM:-0300
TZOFFSETTO:-0400
TZNAME:AST
DTSTART:20261101T050000
END:STANDARD
BEGIN:DAYLIGHT
TZOFFSETFROM:-0400
TZOFFSETTO:-0300
TZNAME:ADT
DTSTART:20270314T060000
END:DAYLIGHT
BEGIN:STANDARD
TZOFFSETFROM:-0300
TZOFFSETTO:-0400
TZNAME:AST
DTSTART:20271107T050000
END:STANDARD
END:VTIMEZONE
BEGIN:VEVENT
DTSTART;TZID=America/Halifax:20260205T090000
DTEND;TZID=America/Halifax:20260205T170000
DTSTAMP:20260423T171914
CREATED:20231220T183158Z
LAST-MODIFIED:20260116T212311Z
UID:6122-1770282000-1770310800@www.ccems.org
SUMMARY:AMLS - Advanced Medical Life Support
DESCRIPTION:AMLS – Advanced Medical Life Support\nDuration: 2 Days\nCost: $125.00\nAMLS Hybrid class is offered with a required online component and completion of pretest\, with passing score\,  prior to class. \nAMLS (Advanced Medical Life Support) is the extra 16 hours (two 8 hour days) required by DOT guidelines to meet refresher standards that is not included in ACLS\, PHTLS and PEPP.   It includes Allergic reactions\, Near Drowning\, Toxicology\, Overdose\, Adult respiratory Distress \, Diabetics\, Seizures.
URL:https://www.ccems.org/event/amls-advanced-medical-life-support-6/
LOCATION:WV
CATEGORIES:AMLS
END:VEVENT
END:VCALENDAR