BEGIN:VCALENDAR
VERSION:2.0
PRODID:-//Cabell County Emergency Medical Services - ECPv6.15.10//NONSGML v1.0//EN
CALSCALE:GREGORIAN
METHOD:PUBLISH
X-WR-CALNAME:Cabell County Emergency Medical Services
X-ORIGINAL-URL:https://www.ccems.org
X-WR-CALDESC:Events for Cabell County Emergency Medical Services
REFRESH-INTERVAL;VALUE=DURATION:PT1H
X-Robots-Tag:noindex
X-PUBLISHED-TTL:PT1H
BEGIN:VTIMEZONE
TZID:America/Halifax
BEGIN:DAYLIGHT
TZOFFSETFROM:-0400
TZOFFSETTO:-0300
TZNAME:ADT
DTSTART:20240310T060000
END:DAYLIGHT
BEGIN:STANDARD
TZOFFSETFROM:-0300
TZOFFSETTO:-0400
TZNAME:AST
DTSTART:20241103T050000
END:STANDARD
BEGIN:DAYLIGHT
TZOFFSETFROM:-0400
TZOFFSETTO:-0300
TZNAME:ADT
DTSTART:20250309T060000
END:DAYLIGHT
BEGIN:STANDARD
TZOFFSETFROM:-0300
TZOFFSETTO:-0400
TZNAME:AST
DTSTART:20251102T050000
END:STANDARD
BEGIN:DAYLIGHT
TZOFFSETFROM:-0400
TZOFFSETTO:-0300
TZNAME:ADT
DTSTART:20260308T060000
END:DAYLIGHT
BEGIN:STANDARD
TZOFFSETFROM:-0300
TZOFFSETTO:-0400
TZNAME:AST
DTSTART:20261101T050000
END:STANDARD
BEGIN:DAYLIGHT
TZOFFSETFROM:-0400
TZOFFSETTO:-0300
TZNAME:ADT
DTSTART:20270314T060000
END:DAYLIGHT
BEGIN:STANDARD
TZOFFSETFROM:-0300
TZOFFSETTO:-0400
TZNAME:AST
DTSTART:20271107T050000
END:STANDARD
END:VTIMEZONE
BEGIN:VTIMEZONE
TZID:America/New_York
BEGIN:DAYLIGHT
TZOFFSETFROM:-0500
TZOFFSETTO:-0400
TZNAME:EDT
DTSTART:20170312T070000
END:DAYLIGHT
BEGIN:STANDARD
TZOFFSETFROM:-0400
TZOFFSETTO:-0500
TZNAME:EST
DTSTART:20171105T060000
END:STANDARD
BEGIN:DAYLIGHT
TZOFFSETFROM:-0500
TZOFFSETTO:-0400
TZNAME:EDT
DTSTART:20180311T070000
END:DAYLIGHT
BEGIN:STANDARD
TZOFFSETFROM:-0400
TZOFFSETTO:-0500
TZNAME:EST
DTSTART:20181104T060000
END:STANDARD
BEGIN:DAYLIGHT
TZOFFSETFROM:-0500
TZOFFSETTO:-0400
TZNAME:EDT
DTSTART:20190310T070000
END:DAYLIGHT
BEGIN:STANDARD
TZOFFSETFROM:-0400
TZOFFSETTO:-0500
TZNAME:EST
DTSTART:20191103T060000
END:STANDARD
BEGIN:DAYLIGHT
TZOFFSETFROM:-0500
TZOFFSETTO:-0400
TZNAME:EDT
DTSTART:20200308T070000
END:DAYLIGHT
BEGIN:STANDARD
TZOFFSETFROM:-0400
TZOFFSETTO:-0500
TZNAME:EST
DTSTART:20201101T060000
END:STANDARD
BEGIN:DAYLIGHT
TZOFFSETFROM:-0500
TZOFFSETTO:-0400
TZNAME:EDT
DTSTART:20210314T070000
END:DAYLIGHT
BEGIN:STANDARD
TZOFFSETFROM:-0400
TZOFFSETTO:-0500
TZNAME:EST
DTSTART:20211107T060000
END:STANDARD
BEGIN:DAYLIGHT
TZOFFSETFROM:-0500
TZOFFSETTO:-0400
TZNAME:EDT
DTSTART:20220313T070000
END:DAYLIGHT
BEGIN:STANDARD
TZOFFSETFROM:-0400
TZOFFSETTO:-0500
TZNAME:EST
DTSTART:20221106T060000
END:STANDARD
BEGIN:DAYLIGHT
TZOFFSETFROM:-0500
TZOFFSETTO:-0400
TZNAME:EDT
DTSTART:20230312T070000
END:DAYLIGHT
BEGIN:STANDARD
TZOFFSETFROM:-0400
TZOFFSETTO:-0500
TZNAME:EST
DTSTART:20231105T060000
END:STANDARD
BEGIN:DAYLIGHT
TZOFFSETFROM:-0500
TZOFFSETTO:-0400
TZNAME:EDT
DTSTART:20240310T070000
END:DAYLIGHT
BEGIN:STANDARD
TZOFFSETFROM:-0400
TZOFFSETTO:-0500
TZNAME:EST
DTSTART:20241103T060000
END:STANDARD
BEGIN:DAYLIGHT
TZOFFSETFROM:-0500
TZOFFSETTO:-0400
TZNAME:EDT
DTSTART:20250309T070000
END:DAYLIGHT
BEGIN:STANDARD
TZOFFSETFROM:-0400
TZOFFSETTO:-0500
TZNAME:EST
DTSTART:20251102T060000
END:STANDARD
BEGIN:DAYLIGHT
TZOFFSETFROM:-0500
TZOFFSETTO:-0400
TZNAME:EDT
DTSTART:20260308T070000
END:DAYLIGHT
BEGIN:STANDARD
TZOFFSETFROM:-0400
TZOFFSETTO:-0500
TZNAME:EST
DTSTART:20261101T060000
END:STANDARD
END:VTIMEZONE
BEGIN:VTIMEZONE
TZID:UTC
BEGIN:STANDARD
TZOFFSETFROM:+0000
TZOFFSETTO:+0000
TZNAME:UTC
DTSTART:20150101T000000
END:STANDARD
END:VTIMEZONE
BEGIN:VTIMEZONE
TZID:America/Halifax
BEGIN:DAYLIGHT
TZOFFSETFROM:-0400
TZOFFSETTO:-0300
TZNAME:ADT
DTSTART:20140309T060000
END:DAYLIGHT
BEGIN:STANDARD
TZOFFSETFROM:-0300
TZOFFSETTO:-0400
TZNAME:AST
DTSTART:20141102T050000
END:STANDARD
BEGIN:DAYLIGHT
TZOFFSETFROM:-0400
TZOFFSETTO:-0300
TZNAME:ADT
DTSTART:20150308T060000
END:DAYLIGHT
BEGIN:STANDARD
TZOFFSETFROM:-0300
TZOFFSETTO:-0400
TZNAME:AST
DTSTART:20151101T050000
END:STANDARD
BEGIN:DAYLIGHT
TZOFFSETFROM:-0400
TZOFFSETTO:-0300
TZNAME:ADT
DTSTART:20160313T060000
END:DAYLIGHT
BEGIN:STANDARD
TZOFFSETFROM:-0300
TZOFFSETTO:-0400
TZNAME:AST
DTSTART:20161106T050000
END:STANDARD
END:VTIMEZONE
BEGIN:VEVENT
DTSTART;TZID=America/Halifax:20260210T090000
DTEND;TZID=America/Halifax:20260210T170000
DTSTAMP:20260423T184925
CREATED:20231220T185250Z
LAST-MODIFIED:20260116T213647Z
UID:6133-1770714000-1770742800@www.ccems.org
SUMMARY:ACLS – Advanced Cardiac Life Support
DESCRIPTION:ACLS – Advanced Cardiac Life Support\nDuration: 8 Hour Course\nCost: $125.00\nThe American Heart Association Advanced Cardiovascular Life Support (ACLS) course trains healthcare providers that have clinical responsibilities in critical care areas to recognize cardiac emergencies and provide advanced life support interventions. \nClick here to sign up!
URL:https://www.ccems.org/event/acls-advanced-cardiac-life-support-10/
LOCATION:Cabell County EMS\, 846 8th Ave\, Huntington\, WV\, 25701\, United States
CATEGORIES:ACLS
END:VEVENT
BEGIN:VEVENT
DTSTART;TZID=America/New_York:20250930T090000
DTEND;TZID=America/New_York:20250930T170000
DTSTAMP:20260423T184925
CREATED:20211217T141211Z
LAST-MODIFIED:20241219T212044Z
UID:5431-1759222800-1759251600@www.ccems.org
SUMMARY:ACLS – Advanced Cardiac Life Support
DESCRIPTION:ACLS – Advanced Cardiac Life Support\nDuration: 8 Hour Course\nCost: $125.00\nThe American Heart Association Advanced Cardiovascular Life Support (ACLS) course trains healthcare providers that have clinical responsibilities in critical care areas to recognize cardiac emergencies and provide advanced life support interventions.
URL:https://www.ccems.org/event/acls-advanced-cardiac-life-support-8/
LOCATION:Cabell County EMS\, 846 8th Ave\, Huntington\, WV\, 25701\, United States
CATEGORIES:ACLS
END:VEVENT
BEGIN:VEVENT
DTSTART;TZID=America/New_York:20250826T090000
DTEND;TZID=America/New_York:20250826T170000
DTSTAMP:20260423T184925
CREATED:20211217T141008Z
LAST-MODIFIED:20241219T212023Z
UID:5429-1756198800-1756227600@www.ccems.org
SUMMARY:ACLS – Advanced Cardiac Life Support
DESCRIPTION:ACLS – Advanced Cardiac Life Support\nDuration: 8 Hour Course\nCost: $125.00\nThe American Heart Association Advanced Cardiovascular Life Support (ACLS) course trains healthcare providers that have clinical responsibilities in critical care areas to recognize cardiac emergencies and provide advanced life support interventions.
URL:https://www.ccems.org/event/acls-advanced-cardiac-life-support-7/
LOCATION:Cabell County EMS\, 846 8th Ave\, Huntington\, WV\, 25701\, United States
CATEGORIES:ACLS
END:VEVENT
BEGIN:VEVENT
DTSTART;TZID=America/New_York:20250318T090000
DTEND;TZID=America/New_York:20250318T170000
DTSTAMP:20260423T184925
CREATED:20211217T140852Z
LAST-MODIFIED:20241219T212014Z
UID:5427-1742288400-1742317200@www.ccems.org
SUMMARY:ACLS – Advanced Cardiac Life Support
DESCRIPTION:ACLS – Advanced Cardiac Life Support\nDuration: 8 Hour Course\nCost: $125.00\nThe American Heart Association Advanced Cardiovascular Life Support (ACLS) course trains healthcare providers that have clinical responsibilities in critical care areas to recognize cardiac emergencies and provide advanced life support interventions.
URL:https://www.ccems.org/event/acls-advanced-cardiac-life-support-6/
LOCATION:Cabell County EMS\, 846 8th Ave\, Huntington\, WV\, 25701\, United States
CATEGORIES:ACLS
END:VEVENT
BEGIN:VEVENT
DTSTART;TZID=America/Halifax:20250128T090000
DTEND;TZID=America/Halifax:20250128T170000
DTSTAMP:20260423T184925
CREATED:20231220T182553Z
LAST-MODIFIED:20241219T210803Z
UID:6120-1738054800-1738083600@www.ccems.org
SUMMARY:ACLS – Advanced Cardiac Life Support + Auto Pulse Refresher
DESCRIPTION:ACLS – Advanced Cardiac Life Support\nDuration: 8 Hour Course\nCost: $125.00\nThe American Heart Association Advanced Cardiovascular Life Support (ACLS) course trains healthcare providers that have clinical responsibilities in critical care areas to recognize cardiac emergencies and provide advanced life support interventions.
URL:https://www.ccems.org/event/acls-advanced-cardiac-life-support-9/
LOCATION:Cabell County EMS\, 846 8th Ave\, Huntington\, WV\, 25701\, United States
CATEGORIES:ACLS
END:VEVENT
BEGIN:VEVENT
DTSTART;TZID=America/New_York:20240103T090000
DTEND;TZID=America/New_York:20240103T170000
DTSTAMP:20260423T184925
CREATED:20211217T140550Z
LAST-MODIFIED:20231220T182634Z
UID:5425-1704272400-1704301200@www.ccems.org
SUMMARY:ACLS – Advanced Cardiac Life Support
DESCRIPTION:ACLS – Advanced Cardiac Life Support\nDuration: 8 Hour Course\nCost: $125.00\nThe American Heart Association Advanced Cardiovascular Life Support (ACLS) course trains healthcare providers that have clinical responsibilities in critical care areas to recognize cardiac emergencies and provide advanced life support interventions.
URL:https://www.ccems.org/event/acls-advanced-cardiac-life-support-5/
LOCATION:Cabell County EMS\, 846 8th Ave\, Huntington\, WV\, 25701\, United States
CATEGORIES:ACLS
END:VEVENT
BEGIN:VEVENT
DTSTART;TZID=America/New_York:20210914T090000
DTEND;TZID=America/New_York:20210914T170000
DTSTAMP:20260423T184925
CREATED:20210111T174552Z
LAST-MODIFIED:20210111T174552Z
UID:5192-1631610000-1631638800@www.ccems.org
SUMMARY:ACLS – Advanced Cardiac Life Support
DESCRIPTION:ACLS – Advanced Cardiac Life Support\nDuration: 8 Hour Course\nCost: $125.00\nThe American Heart Association Advanced Cardiovascular Life Support (ACLS) course trains healthcare providers that have clinical responsibilities in critical care areas to recognize cardiac emergencies and provide advanced life support interventions.
URL:https://www.ccems.org/event/acls-advanced-cardiac-life-support-4/
LOCATION:Cabell County EMS\, 846 8th Ave\, Huntington\, WV\, 25701\, United States
CATEGORIES:ACLS
END:VEVENT
BEGIN:VEVENT
DTSTART;TZID=America/New_York:20210810T090000
DTEND;TZID=America/New_York:20210810T170000
DTSTAMP:20260423T184925
CREATED:20210111T174503Z
LAST-MODIFIED:20210111T174503Z
UID:5190-1628586000-1628614800@www.ccems.org
SUMMARY:ACLS – Advanced Cardiac Life Support
DESCRIPTION:ACLS – Advanced Cardiac Life Support\nDuration: 8 Hour Course\nCost: $125.00\nThe American Heart Association Advanced Cardiovascular Life Support (ACLS) course trains healthcare providers that have clinical responsibilities in critical care areas to recognize cardiac emergencies and provide advanced life support interventions.
URL:https://www.ccems.org/event/acls-advanced-cardiac-life-support-3/
LOCATION:Cabell County EMS\, 846 8th Ave\, Huntington\, WV\, 25701\, United States
CATEGORIES:ACLS
END:VEVENT
BEGIN:VEVENT
DTSTART;TZID=America/New_York:20210209T080000
DTEND;TZID=America/New_York:20210209T170000
DTSTAMP:20260423T184925
CREATED:20210111T174243Z
LAST-MODIFIED:20210111T174243Z
UID:5188-1612857600-1612890000@www.ccems.org
SUMMARY:ACLS – Advanced Cardiac Life Support
DESCRIPTION:ACLS – Advanced Cardiac Life Support\nDuration: 8 Hour Course\nCost: $125.00\nThe American Heart Association Advanced Cardiovascular Life Support (ACLS) course trains healthcare providers that have clinical responsibilities in critical care areas to recognize cardiac emergencies and provide advanced life support interventions.
URL:https://www.ccems.org/event/acls-advanced-cardiac-life-support-2/
LOCATION:Cabell County EMS\, 846 8th Ave\, Huntington\, WV\, 25701\, United States
CATEGORIES:ACLS
END:VEVENT
BEGIN:VEVENT
DTSTART;TZID=America/New_York:20210119T090000
DTEND;TZID=America/New_York:20210119T170000
DTSTAMP:20260423T184925
CREATED:20210111T174108Z
LAST-MODIFIED:20210111T175214Z
UID:5186-1611046800-1611075600@www.ccems.org
SUMMARY:ACLS – Advanced Cardiac Life Support
DESCRIPTION:ACLS – Advanced Cardiac Life Support\nDuration: 8 Hour Course\nCost: $125.00\nThe American Heart Association Advanced Cardiovascular Life Support (ACLS) course trains healthcare providers that have clinical responsibilities in critical care areas to recognize cardiac emergencies and provide advanced life support interventions.
URL:https://www.ccems.org/event/acls-advanced-cardiac-life-support/
LOCATION:Cabell County EMS\, 846 8th Ave\, Huntington\, WV\, 25701\, United States
CATEGORIES:ACLS
END:VEVENT
BEGIN:VEVENT
DTSTART;TZID=America/New_York:20200903T090000
DTEND;TZID=America/New_York:20200903T170000
DTSTAMP:20260423T184925
CREATED:20200820T004224Z
LAST-MODIFIED:20200820T004224Z
UID:5117-1599123600-1599152400@www.ccems.org
SUMMARY:ACLS
DESCRIPTION:ACLS – Advanced Cardiac Life Support\nDuration: 8 Hour Course\nCost: $125.00\nThe American Heart Association Advanced Cardiovascular Life Support (ACLS) course trains healthcare providers that have clinical responsibilities in critical care areas to recognize cardiac emergencies and provide advanced life support interventions.
URL:https://www.ccems.org/event/acls-11/
LOCATION:Cabell County EMS\, 846 8th Ave\, Huntington\, WV\, 25701\, United States
CATEGORIES:ACLS
ORGANIZER;CN="Training":MAILTO:Training@ccems.org
END:VEVENT
BEGIN:VEVENT
DTSTART;TZID=America/New_York:20190926T090000
DTEND;TZID=America/New_York:20190926T170000
DTSTAMP:20260423T184925
CREATED:20190514T172643Z
LAST-MODIFIED:20190514T172643Z
UID:4630-1569488400-1569517200@www.ccems.org
SUMMARY:ACLS
DESCRIPTION:ACLS – Advanced Cardiac Life Support\nDuration: 8 Hour Course\nCost: $125.00 \nDates: Aug 7\, Sep 26\, 2019\nTime: 9am-5pm
URL:https://www.ccems.org/event/acls-25/
LOCATION:Cabell County EMS\, 846 8th Ave\, Huntington\, WV\, 25701\, United States
CATEGORIES:ACLS
END:VEVENT
BEGIN:VEVENT
DTSTART;TZID=America/New_York:20190807T090000
DTEND;TZID=America/New_York:20190807T170000
DTSTAMP:20260423T184925
CREATED:20190514T172431Z
LAST-MODIFIED:20190514T172556Z
UID:4627-1565168400-1565197200@www.ccems.org
SUMMARY:ACLS
DESCRIPTION:ACLS – Advanced Cardiac Life Support\nDuration: 8 Hour Course\nCost: $125.00 \nDates: Aug 7\, 2019\,   Sep 26\, 2019\nTime: 9am-5pm
URL:https://www.ccems.org/event/acls-24/
LOCATION:WV
CATEGORIES:ACLS
END:VEVENT
BEGIN:VEVENT
DTSTART;TZID=America/New_York:20180212T090000
DTEND;TZID=America/New_York:20180212T170000
DTSTAMP:20260423T184925
CREATED:20180112T144930Z
LAST-MODIFIED:20180205T201032Z
UID:3899-1518426000-1518454800@www.ccems.org
SUMMARY:ACLS
DESCRIPTION:ACLS – Advanced Cardiac Life Support\nDuration: 2 Day Course\nCost: $125.00\nDates: Feb 12 & 14\, 2018\nTime: 9am-5pm\n*Must attend both dates\nClick Here For Details and to Register: ACLS Registration
URL:https://www.ccems.org/event/acls-18/
LOCATION:Cabell County EMS\, 846 8th Ave\, Huntington\, WV\, 25701\, United States
CATEGORIES:ACLS
ORGANIZER;CN="Training":MAILTO:Training@ccems.org
END:VEVENT
BEGIN:VEVENT
DTSTART;TZID=UTC:20160129T090000
DTEND;TZID=UTC:20160129T170000
DTSTAMP:20260423T184925
CREATED:20160109T002055Z
LAST-MODIFIED:20160109T002055Z
UID:1698-1454058000-1454086800@www.ccems.org
SUMMARY:ACLS
DESCRIPTION:ACLS – Advance Cardiac Life Support\nContact the training department for more information.
URL:https://www.ccems.org/event/acls-10/
LOCATION:Cabell County EMS\, 846 8th Ave\, Huntington\, WV\, 25701\, United States
CATEGORIES:ACLS
ORGANIZER;CN="Training":MAILTO:Training@ccems.org
END:VEVENT
BEGIN:VEVENT
DTSTART;TZID=UTC:20160127T090000
DTEND;TZID=UTC:20160127T170000
DTSTAMP:20260423T184925
CREATED:20160109T002029Z
LAST-MODIFIED:20160109T002029Z
UID:1697-1453885200-1453914000@www.ccems.org
SUMMARY:ACLS
DESCRIPTION:ACLS – Advance Cardiac Life Support\nContact the training department for more information.
URL:https://www.ccems.org/event/acls-9/
LOCATION:Cabell County EMS\, 846 8th Ave\, Huntington\, WV\, 25701\, United States
CATEGORIES:ACLS
ORGANIZER;CN="Training":MAILTO:Training@ccems.org
END:VEVENT
BEGIN:VEVENT
DTSTART;TZID=America/Halifax:20151022T090000
DTEND;TZID=America/Halifax:20151022T170000
DTSTAMP:20260423T184925
CREATED:20150514T002335Z
LAST-MODIFIED:20150514T002335Z
UID:1000-1445504400-1445533200@www.ccems.org
SUMMARY:ACLS
DESCRIPTION:ACLS – Advance Cardiac Life Support\nContact the training department for more information.
URL:https://www.ccems.org/event/acls-8/
LOCATION:Cabell County EMS\, 846 8th Ave\, Huntington\, WV\, 25701\, United States
CATEGORIES:ACLS
ORGANIZER;CN="Training":MAILTO:Training@ccems.org
END:VEVENT
BEGIN:VEVENT
DTSTART;TZID=America/Halifax:20151020T090000
DTEND;TZID=America/Halifax:20151020T170000
DTSTAMP:20260423T184925
CREATED:20150514T002257Z
LAST-MODIFIED:20150514T002257Z
UID:999-1445331600-1445360400@www.ccems.org
SUMMARY:ACLS
DESCRIPTION:ACLS – Advance Cardiac Life Support\nContact the training department for more information.
URL:https://www.ccems.org/event/acls-7/
LOCATION:Cabell County EMS\, 846 8th Ave\, Huntington\, WV\, 25701\, United States
CATEGORIES:ACLS
ORGANIZER;CN="Training":MAILTO:Training@ccems.org
END:VEVENT
BEGIN:VEVENT
DTSTART;TZID=America/Halifax:20150917T090000
DTEND;TZID=America/Halifax:20150917T170000
DTSTAMP:20260423T184925
CREATED:20150313T232719Z
LAST-MODIFIED:20150313T232719Z
UID:408-1442480400-1442509200@www.ccems.org
SUMMARY:ACLS
DESCRIPTION:ACLS – Advance Cardiac Life Support\nContact the training department for more information.
URL:https://www.ccems.org/event/acls-6/
LOCATION:Cabell County EMS\, 846 8th Ave\, Huntington\, WV\, 25701\, United States
CATEGORIES:ACLS
ORGANIZER;CN="Training":MAILTO:Training@ccems.org
END:VEVENT
BEGIN:VEVENT
DTSTART;TZID=America/Halifax:20150915T090000
DTEND;TZID=America/Halifax:20150915T170000
DTSTAMP:20260423T184925
CREATED:20150313T232653Z
LAST-MODIFIED:20150313T232653Z
UID:407-1442307600-1442336400@www.ccems.org
SUMMARY:ACLS
DESCRIPTION:ACLS – Advance Cardiac Life Support\nContact the training department for more information.
URL:https://www.ccems.org/event/acls-5/
LOCATION:Cabell County EMS\, 846 8th Ave\, Huntington\, WV\, 25701\, United States
CATEGORIES:ACLS
ORGANIZER;CN="Training":MAILTO:Training@ccems.org
END:VEVENT
BEGIN:VEVENT
DTSTART;TZID=America/Halifax:20150212T090000
DTEND;TZID=America/Halifax:20150212T170000
DTSTAMP:20260423T184925
CREATED:20150313T193843Z
LAST-MODIFIED:20150313T201747Z
UID:358-1423731600-1423760400@www.ccems.org
SUMMARY:ACLS
DESCRIPTION:ACLS – Advance Cardiac Life Support
URL:https://www.ccems.org/event/acls-2/
LOCATION:Cabell County EMS\, 846 8th Ave\, Huntington\, WV\, 25701\, United States
CATEGORIES:ACLS
ORGANIZER;CN="Training":MAILTO:Training@ccems.org
END:VEVENT
BEGIN:VEVENT
DTSTART;TZID=America/Halifax:20150210T090000
DTEND;TZID=America/Halifax:20150210T170000
DTSTAMP:20260423T184925
CREATED:20150313T193507Z
LAST-MODIFIED:20150313T201729Z
UID:355-1423558800-1423587600@www.ccems.org
SUMMARY:ACLS
DESCRIPTION:ACLS – Advance Cardiac Life Support
URL:https://www.ccems.org/event/acls/
LOCATION:Cabell County EMS\, 846 8th Ave\, Huntington\, WV\, 25701\, United States
CATEGORIES:ACLS
ORGANIZER;CN="Training":MAILTO:Training@ccems.org
END:VEVENT
BEGIN:VEVENT
DTSTART;TZID=America/Halifax:20150122T090000
DTEND;TZID=America/Halifax:20150122T170000
DTSTAMP:20260423T184925
CREATED:20150313T222237Z
LAST-MODIFIED:20150313T222237Z
UID:380-1421917200-1421946000@www.ccems.org
SUMMARY:ACLS
DESCRIPTION:ACLS – Advance Cardiac Life Support\nContact the training department for more information.
URL:https://www.ccems.org/event/acls-4/
LOCATION:Cabell County EMS\, 846 8th Ave\, Huntington\, WV\, 25701\, United States
CATEGORIES:ACLS
ORGANIZER;CN="Training":MAILTO:Training@ccems.org
END:VEVENT
BEGIN:VEVENT
DTSTART;TZID=America/Halifax:20150120T090000
DTEND;TZID=America/Halifax:20150120T170000
DTSTAMP:20260423T184925
CREATED:20150313T205409Z
LAST-MODIFIED:20150313T205428Z
UID:377-1421744400-1421773200@www.ccems.org
SUMMARY:ACLS
DESCRIPTION:ACLS – Advance Cardiac Life Support\nContact the training department for more information.
URL:https://www.ccems.org/event/acls-3/
LOCATION:WV
CATEGORIES:ACLS
END:VEVENT
END:VCALENDAR