BEGIN:VCALENDAR
VERSION:2.0
PRODID:-//Cabell County Emergency Medical Services - ECPv6.15.10//NONSGML v1.0//EN
CALSCALE:GREGORIAN
METHOD:PUBLISH
X-ORIGINAL-URL:https://www.ccems.org
X-WR-CALDESC:Events for Cabell County Emergency Medical Services
REFRESH-INTERVAL;VALUE=DURATION:PT1H
X-Robots-Tag:noindex
X-PUBLISHED-TTL:PT1H
BEGIN:VTIMEZONE
TZID:America/New_York
BEGIN:DAYLIGHT
TZOFFSETFROM:-0500
TZOFFSETTO:-0400
TZNAME:EDT
DTSTART:20240310T070000
END:DAYLIGHT
BEGIN:STANDARD
TZOFFSETFROM:-0400
TZOFFSETTO:-0500
TZNAME:EST
DTSTART:20241103T060000
END:STANDARD
BEGIN:DAYLIGHT
TZOFFSETFROM:-0500
TZOFFSETTO:-0400
TZNAME:EDT
DTSTART:20250309T070000
END:DAYLIGHT
BEGIN:STANDARD
TZOFFSETFROM:-0400
TZOFFSETTO:-0500
TZNAME:EST
DTSTART:20251102T060000
END:STANDARD
BEGIN:DAYLIGHT
TZOFFSETFROM:-0500
TZOFFSETTO:-0400
TZNAME:EDT
DTSTART:20260308T070000
END:DAYLIGHT
BEGIN:STANDARD
TZOFFSETFROM:-0400
TZOFFSETTO:-0500
TZNAME:EST
DTSTART:20261101T060000
END:STANDARD
END:VTIMEZONE
BEGIN:VEVENT
DTSTART;TZID=America/New_York:20250930T090000
DTEND;TZID=America/New_York:20250930T170000
DTSTAMP:20260423T181624
CREATED:20211217T141211Z
LAST-MODIFIED:20241219T212044Z
UID:5431-1759222800-1759251600@www.ccems.org
SUMMARY:ACLS – Advanced Cardiac Life Support
DESCRIPTION:ACLS – Advanced Cardiac Life Support\nDuration: 8 Hour Course\nCost: $125.00\nThe American Heart Association Advanced Cardiovascular Life Support (ACLS) course trains healthcare providers that have clinical responsibilities in critical care areas to recognize cardiac emergencies and provide advanced life support interventions.
URL:https://www.ccems.org/event/acls-advanced-cardiac-life-support-8/
LOCATION:Cabell County EMS\, 846 8th Ave\, Huntington\, WV\, 25701\, United States
CATEGORIES:ACLS
END:VEVENT
END:VCALENDAR