BEGIN:VCALENDAR
VERSION:2.0
PRODID:-//Cabell County Emergency Medical Services - ECPv6.15.10//NONSGML v1.0//EN
CALSCALE:GREGORIAN
METHOD:PUBLISH
X-ORIGINAL-URL:https://www.ccems.org
X-WR-CALDESC:Events for Cabell County Emergency Medical Services
REFRESH-INTERVAL;VALUE=DURATION:PT1H
X-Robots-Tag:noindex
X-PUBLISHED-TTL:PT1H
BEGIN:VTIMEZONE
TZID:America/Halifax
BEGIN:DAYLIGHT
TZOFFSETFROM:-0400
TZOFFSETTO:-0300
TZNAME:ADT
DTSTART:20240310T060000
END:DAYLIGHT
BEGIN:STANDARD
TZOFFSETFROM:-0300
TZOFFSETTO:-0400
TZNAME:AST
DTSTART:20241103T050000
END:STANDARD
BEGIN:DAYLIGHT
TZOFFSETFROM:-0400
TZOFFSETTO:-0300
TZNAME:ADT
DTSTART:20250309T060000
END:DAYLIGHT
BEGIN:STANDARD
TZOFFSETFROM:-0300
TZOFFSETTO:-0400
TZNAME:AST
DTSTART:20251102T050000
END:STANDARD
BEGIN:DAYLIGHT
TZOFFSETFROM:-0400
TZOFFSETTO:-0300
TZNAME:ADT
DTSTART:20260308T060000
END:DAYLIGHT
BEGIN:STANDARD
TZOFFSETFROM:-0300
TZOFFSETTO:-0400
TZNAME:AST
DTSTART:20261101T050000
END:STANDARD
END:VTIMEZONE
BEGIN:VEVENT
DTSTART;TZID=America/Halifax:20250828T090000
DTEND;TZID=America/Halifax:20250828T160000
DTSTAMP:20260423T210459
CREATED:20230508T180141Z
LAST-MODIFIED:20250418T133218Z
UID:6008-1756371600-1756396800@www.ccems.org
SUMMARY:CCT Course
DESCRIPTION:CCT – Critical Care Transport Course\nDuration: 3 Months\nTime: Thursdays 09:00-16:00\nLocation: CCEMS Headquarters\n846 8th Ave\, Huntington\, WV 25701\nCost: $850.00\nFor any questions\, please contact either Julia Zeto or Jon Fannin\nJulia:\nJulia.Zeto@ccems.org | 681-219-1436\nJon:\nJonathan.Fannin@ccems.org | 304-417-5611
URL:https://www.ccems.org/event/cct-course/
LOCATION:Cabell County EMS\, 846 8th Ave\, Huntington\, WV\, 25701\, United States
CATEGORIES:CCT
ORGANIZER;CN="Training":MAILTO:Training@ccems.org
END:VEVENT
END:VCALENDAR