BEGIN:VCALENDAR
VERSION:2.0
PRODID:-//Cabell County Emergency Medical Services - ECPv6.15.10//NONSGML v1.0//EN
CALSCALE:GREGORIAN
METHOD:PUBLISH
X-WR-CALNAME:Cabell County Emergency Medical Services
X-ORIGINAL-URL:https://www.ccems.org
X-WR-CALDESC:Events for Cabell County Emergency Medical Services
REFRESH-INTERVAL;VALUE=DURATION:PT1H
X-Robots-Tag:noindex
X-PUBLISHED-TTL:PT1H
BEGIN:VTIMEZONE
TZID:America/Halifax
BEGIN:DAYLIGHT
TZOFFSETFROM:-0400
TZOFFSETTO:-0300
TZNAME:ADT
DTSTART:20240310T060000
END:DAYLIGHT
BEGIN:STANDARD
TZOFFSETFROM:-0300
TZOFFSETTO:-0400
TZNAME:AST
DTSTART:20241103T050000
END:STANDARD
BEGIN:DAYLIGHT
TZOFFSETFROM:-0400
TZOFFSETTO:-0300
TZNAME:ADT
DTSTART:20250309T060000
END:DAYLIGHT
BEGIN:STANDARD
TZOFFSETFROM:-0300
TZOFFSETTO:-0400
TZNAME:AST
DTSTART:20251102T050000
END:STANDARD
BEGIN:DAYLIGHT
TZOFFSETFROM:-0400
TZOFFSETTO:-0300
TZNAME:ADT
DTSTART:20260308T060000
END:DAYLIGHT
BEGIN:STANDARD
TZOFFSETFROM:-0300
TZOFFSETTO:-0400
TZNAME:AST
DTSTART:20261101T050000
END:STANDARD
END:VTIMEZONE
BEGIN:VEVENT
DTSTART;TZID=America/Halifax:20250401T090000
DTEND;TZID=America/Halifax:20250401T170000
DTSTAMP:20260424T191813
CREATED:20240105T203016Z
LAST-MODIFIED:20241219T212407Z
UID:6177-1743498000-1743526800@www.ccems.org
SUMMARY:CCT Refresher Module III
DESCRIPTION:CCT Refresher Module III\nDuration: 1 day\nDates: March 25\, 2025 or April 1\, 2025\nTime: 09:00-15:00\nLocation: CCEMS Headquarters – 846 8th Ave\, Huntington\, WV 25701Cost: $50.00 per module\nModules will be offered quarterly and added to website as they are scheduled.
URL:https://www.ccems.org/event/cct-refresher-module-iii-2/
LOCATION:Cabell County EMS\, 846 8th Ave\, Huntington\, WV\, 25701\, United States
ORGANIZER;CN="Training":MAILTO:Training@ccems.org
END:VEVENT
END:VCALENDAR