BEGIN:VCALENDAR
VERSION:2.0
PRODID:-//Cabell County Emergency Medical Services - ECPv6.15.10//NONSGML v1.0//EN
CALSCALE:GREGORIAN
METHOD:PUBLISH
X-WR-CALNAME:Cabell County Emergency Medical Services
X-ORIGINAL-URL:https://www.ccems.org
X-WR-CALDESC:Events for Cabell County Emergency Medical Services
REFRESH-INTERVAL;VALUE=DURATION:PT1H
X-Robots-Tag:noindex
X-PUBLISHED-TTL:PT1H
BEGIN:VTIMEZONE
TZID:America/Halifax
BEGIN:DAYLIGHT
TZOFFSETFROM:-0400
TZOFFSETTO:-0300
TZNAME:ADT
DTSTART:20240310T060000
END:DAYLIGHT
BEGIN:STANDARD
TZOFFSETFROM:-0300
TZOFFSETTO:-0400
TZNAME:AST
DTSTART:20241103T050000
END:STANDARD
BEGIN:DAYLIGHT
TZOFFSETFROM:-0400
TZOFFSETTO:-0300
TZNAME:ADT
DTSTART:20250309T060000
END:DAYLIGHT
BEGIN:STANDARD
TZOFFSETFROM:-0300
TZOFFSETTO:-0400
TZNAME:AST
DTSTART:20251102T050000
END:STANDARD
BEGIN:DAYLIGHT
TZOFFSETFROM:-0400
TZOFFSETTO:-0300
TZNAME:ADT
DTSTART:20260308T060000
END:DAYLIGHT
BEGIN:STANDARD
TZOFFSETFROM:-0300
TZOFFSETTO:-0400
TZNAME:AST
DTSTART:20261101T050000
END:STANDARD
END:VTIMEZONE
BEGIN:VEVENT
DTSTART;TZID=America/Halifax:20250128T090000
DTEND;TZID=America/Halifax:20250128T170000
DTSTAMP:20260425T161324
CREATED:20231220T182553Z
LAST-MODIFIED:20241219T210803Z
UID:6120-1738054800-1738083600@www.ccems.org
SUMMARY:ACLS – Advanced Cardiac Life Support + Auto Pulse Refresher
DESCRIPTION:ACLS – Advanced Cardiac Life Support\nDuration: 8 Hour Course\nCost: $125.00\nThe American Heart Association Advanced Cardiovascular Life Support (ACLS) course trains healthcare providers that have clinical responsibilities in critical care areas to recognize cardiac emergencies and provide advanced life support interventions.
URL:https://www.ccems.org/event/acls-advanced-cardiac-life-support-9/
LOCATION:Cabell County EMS\, 846 8th Ave\, Huntington\, WV\, 25701\, United States
CATEGORIES:ACLS
END:VEVENT
END:VCALENDAR